BEGIN:VCALENDAR
VERSION:2.0
PRODID:-//Jakobsweg.de - ECPv6.15.17.1//NONSGML v1.0//EN
CALSCALE:GREGORIAN
METHOD:PUBLISH
X-WR-CALNAME:Jakobsweg.de
X-ORIGINAL-URL:https://www.jakobsweg.de
X-WR-CALDESC:Veranstaltungen für Jakobsweg.de
REFRESH-INTERVAL;VALUE=DURATION:PT1H
X-Robots-Tag:noindex
X-PUBLISHED-TTL:PT1H
BEGIN:VTIMEZONE
TZID:Europe/Berlin
BEGIN:DAYLIGHT
TZOFFSETFROM:+0100
TZOFFSETTO:+0200
TZNAME:CEST
DTSTART:20250330T010000
END:DAYLIGHT
BEGIN:STANDARD
TZOFFSETFROM:+0200
TZOFFSETTO:+0100
TZNAME:CET
DTSTART:20251026T010000
END:STANDARD
BEGIN:DAYLIGHT
TZOFFSETFROM:+0100
TZOFFSETTO:+0200
TZNAME:CEST
DTSTART:20260329T010000
END:DAYLIGHT
BEGIN:STANDARD
TZOFFSETFROM:+0200
TZOFFSETTO:+0100
TZNAME:CET
DTSTART:20261025T010000
END:STANDARD
BEGIN:DAYLIGHT
TZOFFSETFROM:+0100
TZOFFSETTO:+0200
TZNAME:CEST
DTSTART:20270328T010000
END:DAYLIGHT
BEGIN:STANDARD
TZOFFSETFROM:+0200
TZOFFSETTO:+0100
TZNAME:CET
DTSTART:20271031T010000
END:STANDARD
END:VTIMEZONE
BEGIN:VEVENT
DTSTART;TZID=Europe/Berlin:20260425T150000
DTEND;TZID=Europe/Berlin:20260425T163000
DTSTAMP:20260426T011912
CREATED:20260303T122042Z
LAST-MODIFIED:20260325T092243Z
UID:10001601-1777129200-1777134600@www.jakobsweg.de
SUMMARY:Pilgern durch den Schlossgarten Eutin
DESCRIPTION:Samstag 28.3.2026\, 15 Uhr bis ca. 16.30 Uhr\nTreffpunkt: Garten am frischen Wasser\, Schlossstraße 13\, 23701 Eutin\nEingang an der Seepromenade (Stadtbucht)
URL:https://www.jakobsweg.de/termin/pilgern-durch-den-schlossgarten-eutin-2/
LOCATION:Schlosspark Eutin @ Schlossstraße 13\, 23701 Eutin
CATEGORIES:Deutschland,Ort,Schleswig-Holstein,Tagestour,Veranstaltungsart
END:VEVENT
BEGIN:VEVENT
DTSTART;TZID=Europe/Berlin:20260425T093000
DTEND;TZID=Europe/Berlin:20260425T173000
DTSTAMP:20260426T011912
CREATED:20251101T122058Z
LAST-MODIFIED:20260425T150513Z
UID:10001231-1777109400-1777138200@www.jakobsweg.de
SUMMARY:Frauen-Pilgertag\, Thema 'Siehe\, ich mache alles neu!' :: Jakobsquerweg von Heilsbronn nach Schwabach
DESCRIPTION:Pilgerstrecke: Heilsbronn – Schwabach
URL:https://www.jakobsweg.de/termin/frauen-pilgertag-thema-siehe-ich-mache-alles-neu-jakobsquerweg-von-heilsbronn-nach-schwabach/
LOCATION:Heilsbronn: Münster Heilsbronn
END:VEVENT
BEGIN:VEVENT
DTSTART;TZID=Europe/Berlin:20260425T093000
DTEND;TZID=Europe/Berlin:20260425T170000
DTSTAMP:20260426T011912
CREATED:20251214T120556Z
LAST-MODIFIED:20260418T150514Z
UID:10001392-1777109400-1777136400@www.jakobsweg.de
SUMMARY:Abenteuer Leben - Pilgern nach Ostern
DESCRIPTION:
URL:https://www.jakobsweg.de/termin/abenteuer-leben-pilgern-nach-ostern/
LOCATION:Oberstaufen: Hündlebahn Bergstation
END:VEVENT
BEGIN:VEVENT
DTSTART;TZID=Europe/Berlin:20260425T091500
DTEND;TZID=Europe/Berlin:20260425T091500
DTSTAMP:20260426T011912
CREATED:20260319T120833Z
LAST-MODIFIED:20260325T092242Z
UID:10001638-1777108500-1777108500@www.jakobsweg.de
SUMMARY:Pilgern für Frauen in der Umgebung von Lübeck
DESCRIPTION:Aufbrechen – Innehalten – Auf dem Weg SEIN\nAm Dummersdorfer Ufer zur Wandstabkirche St. Nikolai\, ca. 12km\nDurch den Wischhofweg in Lübeck-Kücknitz gelangen wir an das Traveufer. Oberhalb der Trave geht es – vorbei an mehreren Aussichtspunkten und einem Aussichtsturm – zum Hirtenberg am Stülper Huk. Weiter entlang des Dummersdorfer Ufers kommen wir im Bogen zum Hirtenbergweg\, dem wir folgen\, vorbei an einem Rindergehege in einer ehemaligen Kiesgrube. Über das Gelände des Geschichtserlebnisraums Roter Hahn erreichen wir die Nachbauten der mittelalterlichen Wandstabkirche St. Nikolai und eines Klosters. Mit dem Stadtbus ab Haltestelle Tilsitstraße oder der Bahn ab Bahnhof Lübeck-Kücknitz gelangen wir zurück zum Hauptbahnhof.\nGemeinsam in einer Gruppe von Frauen* folgen wir der alten Tradition des Pilgerns. Im Gehen\, im Schweigen\, im Austausch erleben wir Gottes wunderbare Schöpfung. Mit Impulsen laden wir ein\, in die eigene Kraft und den inneren Frieden zu kommen. Bei normaler Kondition sind die Strecken gut zu schaffen. Wir nutzen öffentliche Verkehrsmittel. Fahrtkosten trägt jede selbst. Kurzfristige Änderungen sind möglich.\nBitte mitbringen: Trinken und Essen für die Pausen\, Sitzunterlage\, feste Schuhe und angemessene Kleidung\, ggf. Regenzeug\nTreffen: 9:15 Uhr\,  Lübeck ZOB-Bussteig 2 \nWegbegleiterinnen: Karin Pichura\, Regina du Maire\nAm Tag der Pilgertour sind die Wegbegleiterinnen für kurzfristige Absagen oder Rückfragen erreichbar unter Tel. 0179 153 60 14\nAnmeldung bis 22.04.2026 mit Nennung der Handynummer über E-Mail: frauenwerk-hl@kirche-ll.de oder Tel. 0451 79 02 260 (bitte angeben\, ob ein Deutschlandticket vorhanden ist)\nVeranstalterin: Ev.-Luth. Frauenwerk Lübeck-Lauenburg\, Breite Straße 17\, 23552 Lübeck
URL:https://www.jakobsweg.de/termin/pilgern-fuer-frauen-in-der-umgebung-von-luebeck-11/
LOCATION:Am Dummersdorfer Ufer zur Wandstabkirche St. Nikolai
CATEGORIES:Deutschland,Schleswig-Holstein,Tagestour
END:VEVENT
BEGIN:VEVENT
DTSTART;TZID=Europe/Berlin:20260425T091500
DTEND;TZID=Europe/Berlin:20260425T091500
DTSTAMP:20260426T011912
CREATED:20260303T122042Z
LAST-MODIFIED:20260319T005053Z
UID:10001600-1777108500-1777108500@www.jakobsweg.de
SUMMARY:Pilgern für Frauen in der Umgebung von Lübeck
DESCRIPTION:Aufbrechen – Innehalten – Auf dem Weg SEIN\nAm Dummersdorfer Ufer zur Wandstabkirche St. Nikolai\, ca. 12km\nDurch den Wischhofweg in Lübeck-Kücknitz gelangen wir an das Traveufer. Oberhalb der Trave geht es – vorbei an mehreren Aussichtspunkten und einem Aussichtsturm – zum Hirtenberg am Stülper Huk. Weiter entlang des Dummersdorfer Ufers kommen wir im Bogen zum Hirtenbergweg\, dem wir folgen\, vorbei an einem Rindergehege in einer ehemaligen Kiesgrube. Über das Gelände des Geschichtserlebnisraums Roter Hahn erreichen wir die Nachbauten der mittelalterlichen Wandstabkirche St. Nikolai und eines Klosters. Mit dem Stadtbus ab Haltestelle Tilsitstraße oder der Bahn ab Bahnhof Lübeck-Kücknitz gelangen wir zurück zum Hauptbahnhof.\nGemeinsam in einer Gruppe von Frauen* folgen wir der alten Tradition des Pilgerns. Im Gehen\, im Schweigen\, im Austausch erleben wir Gottes wunderbare Schöpfung. Mit Impulsen laden wir ein\, in die eigene Kraft und den inneren Frieden zu kommen. Bei normaler Kondition sind die Strecken gut zu schaffen. Wir nutzen öffentliche Verkehrsmittel. Fahrtkosten trägt jede selbst. Kurzfristige Änderungen sind möglich.\nBitte mitbringen: Trinken und Essen für die Pausen\, Sitzunterlage\, feste Schuhe und angemessene Kleidung\, ggf. Regenzeug\nTreffen: 9:15 Uhr\,  Lübeck ZOB-Bussteig 2 \nWegbegleiterinnen: Karin Pichura\, Regina du Maire\nAnmeldung bis 22.04.2026 mit Nennung der Handynummer über\nE-Mail: frauenwerk-hL@kirche-LL.de oder Tel. 0451 79 02 260 (bitte angeben\, ob ein Deutschlandticket vorhanden ist)\nVeranstalterin: Ev.-Luth. Frauenwerk Lübeck-Lauenburg\, Breite Straße 17\, 23552 Lübeck
URL:https://www.jakobsweg.de/termin/pilgern-fuer-frauen-in-der-umgebung-von-luebeck-2/
LOCATION:Am Dummersdorfer Ufer zur Wandstabkirche St. Nikolai
CATEGORIES:Deutschland,Schleswig-Holstein
END:VEVENT
BEGIN:VEVENT
DTSTART;TZID=Europe/Berlin:20260425T080000
DTEND;TZID=Europe/Berlin:20260425T090000
DTSTAMP:20260426T011912
CREATED:20260404T145026Z
LAST-MODIFIED:20260418T150514Z
UID:10001681-1777104000-1777107600@www.jakobsweg.de
SUMMARY:Pilgergäng: Erster Pilgergang von Vierkirchen nach Dachau
DESCRIPTION:
URL:https://www.jakobsweg.de/termin/pilgergaeng-erster-pilgergang-von-vierkirchen-nach-dachau/
LOCATION:Olching: Johanneskirche Olching
END:VEVENT
BEGIN:VEVENT
DTSTART;VALUE=DATE:20260425
DTEND;VALUE=DATE:20260426
DTSTAMP:20260426T011912
CREATED:20260323T003522Z
LAST-MODIFIED:20260420T120511Z
UID:10001654-1777075200-1777161599@www.jakobsweg.de
SUMMARY:geführte Pilgerwanderungen auf den Jakobswegen Nürnberg-Eichstätt und Nürnberg-Ulm
DESCRIPTION:Auch 2026 bietet Erlebenswelt Roth e.V. wieder geführte Pilgerwanderungen auf den Jakobswegen Nürnberg-Eichstätt und Nürnberg-Ulm an.   \nFolgende Termine werden angeboten: \n Donnerstag\, 26.03.2026\, 9 Uhr:  Eysölden-Morsbach \n Donnerstag\, 02.04.2026\, 9 Uhr: Allersberg-Eysölden \n Ostermontag\, 06.04.2026\, 11:30 bis ca. 15/16 Uhr: Emmauspilgern: Wendelstein \n Samstag\, 25.04.2026\, 9 bis ca. 13 Uhr: Jakobsweg bei Patersholz \n Samstag\, 25.04.2026\, 9:30 bis ca. 17:30 Uhr: Heilsbronn-Schwabach \n Samstag\, 25.04.2026\, 9 Uhr bis Sonntag\, 26.04.2026\, 16 Uhr: Pilgern im und um das Kloster Heidenheim \n Samstag\, 09.05.2026\, 9:30 Uhr: Pilgern am Hilpoltsteiner Mühlenweg \n Sonntag\, 14.06.2026\, 9 bis 15:30 Uhr: Pilgertag mit Musik \n Samstag\, 20.06.2026\, 9:30 bis ca. 15/16 Uhr: Klimapilgern \n Samstag\, 11.07.2026\, 9:30 Uhr: Bechthal-Bürg-Bechthal \n Donnerstag\, 23.07.2026: Sternwallfahrt zur Jakobuskapelle \n Freitag\, 24.07.2026\, 18 Uhr: Polsdorf-Kronmühle \n Samstag\, 25.07.2026\, 9:30 bis ca. 15/16 Uhr: Pilgern mit Pippi Langstrumpf \n Samstag\, 19.09.2026\, 9:30 bis ca. 15/16 Uhr: Pilgern auf den Spuren von Franz von Assisi \nSamstag\, 26.09.2026\, 9:30 Uhr: Landersdorf-Emsing \n Samstag\, 10.10.2026\, 9 bis 16 Uhr: Pilgern rund um das Kloster Heidenheim \n Samstag\, 24.10.2026\, 8:30 Uhr: Pilgern zum Pilgerforum in Nürnberg \n Samstag\, 05.12.2026\, 9 Uhr: Pilgern statt Shoppen \n Samstag\, 12.12.2026\, 16 bis 19:30 Uhr: Pilgern im Advent \n Samstag\, 09.01.2027\, 10 Uhr: Alfershausen-Stauf \n  \nDetails finden Sie im Flyer: Flyer_Erlebenswelt_Roth.pdf
URL:https://www.jakobsweg.de/termin/gefuehrte-pilgerwanderungen-auf-den-jakobswegen-nuernberg-eichstaett-und-nuernberg-ulm-4/
END:VEVENT
BEGIN:VEVENT
DTSTART;TZID=Europe/Berlin:20260424T170000
DTEND;TZID=Europe/Berlin:20260424T170000
DTSTAMP:20260426T011912
CREATED:20251229T195054Z
LAST-MODIFIED:20260325T092241Z
UID:10001432-1777050000-1777050000@www.jakobsweg.de
SUMMARY:PilgerCafé am Abend | „Nicht religiös\, aber spirituell?“ | Dr. Johann Hinrich Claussen
DESCRIPTION:PilgerCafé am Abend | „Nicht religiös\, aber spirituell?“ | Dr. Johann Hinrich Claussen\, Kulturbeauftragter des Rates der EKD\nzum Unterschied von Religiosität und Spiritualität\nDie Reihe „Pilger-Café am Abend“ wird monatlich einmal fortgesetzt.\nNächster Termin:29. Mai 2026 | „Raus aus der Komfortzone“ Abiturient*innen pilgern auf dem Jakobsweg | Ein Erfahrungsbericht\n 
URL:https://www.jakobsweg.de/termin/pilgercafe-am-abend-nicht-religioes-aber-spirituell-dr-johann-hinrich-claussen/
LOCATION:Gemeindesaal in der Hauptkirche St. Jacobi @ Jakobikirchhof 22\, 20095 Hamburg
CATEGORIES:Deutschland,Ort,Veranstaltungsart,Vortrag
END:VEVENT
BEGIN:VEVENT
DTSTART;TZID=Europe/Berlin:20260422T165500
DTEND;TZID=Europe/Berlin:20260422T210000
DTSTAMP:20260426T011912
CREATED:20260126T202046Z
LAST-MODIFIED:20260325T092241Z
UID:10001478-1776876900-1776891600@www.jakobsweg.de
SUMMARY:Pilgerweg in Husum | Der Tine-Weg
DESCRIPTION:
URL:https://www.jakobsweg.de/termin/pilgerweg-in-husum-der-tine-weg-2/
LOCATION:Husum
CATEGORIES:Deutschland,Ort,Schleswig-Holstein,Tagestour,Veranstaltungsart
END:VEVENT
BEGIN:VEVENT
DTSTART;VALUE=DATE:20260422
DTEND;VALUE=DATE:20260424
DTSTAMP:20260426T011912
CREATED:20251228T132045Z
LAST-MODIFIED:20260418T150514Z
UID:10001414-1776816000-1776988799@www.jakobsweg.de
SUMMARY:'Wurzeln und Flügel' - dieses Pilgerangebot ist derzeit AUSGEBUCHT. Es ist möglich\, sich auf eine Warteliste setzen zu lassen. :: Pilgern zur Entfaltung der eigenen Potenziale - auf Jakobswegen von Fürstenfeldbruck über St. Ottilien nach St. Alban
DESCRIPTION:
URL:https://www.jakobsweg.de/termin/wurzeln-und-fluegel-pilgern-zur-entfaltung-der-eigenen-potenziale-auf-jakobswegen-von-fuerstenfeldbruck-ueber-st-ottilien-nach-st-alban/
LOCATION:München: Jakobsweg
END:VEVENT
BEGIN:VEVENT
DTSTART;TZID=Europe/Berlin:20260421T180000
DTEND;TZID=Europe/Berlin:20260421T190000
DTSTAMP:20260426T011912
CREATED:20251228T132045Z
LAST-MODIFIED:20260418T150514Z
UID:10001413-1776794400-1776798000@www.jakobsweg.de
SUMMARY:Pilgerstammtisch
DESCRIPTION:
URL:https://www.jakobsweg.de/termin/pilgerstammtisch-8/
LOCATION:München: Gasthaus Schinkenpeter
END:VEVENT
BEGIN:VEVENT
DTSTART;TZID=Europe/Berlin:20260420T160000
DTEND;TZID=Europe/Berlin:20260420T180000
DTSTAMP:20260426T011912
CREATED:20260328T143526Z
LAST-MODIFIED:20260418T150514Z
UID:10001678-1776700800-1776708000@www.jakobsweg.de
SUMMARY:Pilgern auf dem Hirtenweg bei Petersaurach
DESCRIPTION:Aus der Reihe: Gemeinsam mit Ihnen unterwegs. Gesundheitstag zum Mitmachen und Spaß haben
URL:https://www.jakobsweg.de/termin/pilgern-auf-dem-hirtenweg-bei-petersaurach/
LOCATION:.: Ort oder Treffpunkt siehe Beschreibung
END:VEVENT
BEGIN:VEVENT
DTSTART;TZID=Europe/Berlin:20260420T160000
DTEND;TZID=Europe/Berlin:20260420T180000
DTSTAMP:20260426T011912
CREATED:20260128T202038Z
LAST-MODIFIED:20260325T092240Z
UID:10001485-1776700800-1776708000@www.jakobsweg.de
SUMMARY:Frühlingspilgern auf dem Ansgarweg Haddeby mit Andacht und Picknick
DESCRIPTION:Nach einer Andacht pilgern wir gemeinsam auf dem Ansgarweg in Haddeby (ca. 3\,5 km)\, teilen Geschichten\, erhalten Impulse für unseren eigenen Lebensweg und genießen ein Picknick.\nMontag\, 20.04.2026\, 16:00 – 18:00 Uhr\nTreffpunkt: St. Andreaskirche in Haddeby\nReligionspädagogin Dr. J. Henningsen\nKosten: 5\,00 €\nBitte anmelden. Bitte mitbringen: festes Schuhwerk\, Getränk und eigenes Picknick.\nHier bitte anmelden: Julia.Henningsen@bibelzentrum.nordkirche.de
URL:https://www.jakobsweg.de/termin/fruehlingspilgern-auf-dem-ansgarweg-haddeby-mit-andacht-und-picknick-2/
LOCATION:St. Andreaskirche @ Haddeby
CATEGORIES:Deutschland,Ort,Schleswig-Holstein,Tagestour,Veranstaltungsart
END:VEVENT
BEGIN:VEVENT
DTSTART;TZID=Europe/Berlin:20260419T170000
DTEND;TZID=Europe/Berlin:20260419T190000
DTSTAMP:20260426T011912
CREATED:20260312T002009Z
LAST-MODIFIED:20260419T122008Z
UID:10001632-1776618000-1776625200@www.jakobsweg.de
SUMMARY:Jakobus-Konzert: Eine musikalische Pilgerreise in der Renaissance von Trier nach Santiago de Compostela
DESCRIPTION:Der Spielkreis für Alte Musik wird am 19. April eine musikalische Pilgerreise gestalten. Unter der Leitung von Brigitte Unterrainer und Georg Weege (Gesang) begleitet der Spielkreis die Stationen des Jakobuswegs von Trier über Luxemburg\, Frankreich und Spanien bis nach Santiago de Compostela.\nDie Musik wird auf Nachbauten von historischen Instrumenten der Zeit gespielt\, nämlich auf Schalmeien\, Hümmelchen (kleiner Dudelsack)\, Gemshörnern\, Blockflöten\, Pommern\, Laute\, Gamben\, Rankett und Schlagwerk. Dadurch entsteht ein besonderes und reizvolles Klangerlebnis\, und dem Zuhörer wird eindrucksvoll aufgezeigt\, wie die Musik zu dieser Zeit geklungen haben könnte.\nIm Anschluss an das Konzert besteht außerdem die Möglichkeit\, die Instrumente im Gespräch mit den Mitwirkenden kennenzulernen.\nDer Eintritt ist frei. Um eine Spende wird gebeten. \n 
URL:https://www.jakobsweg.de/termin/jakobus-konzert-eine-musikalische-pilgerreise-in-der-renaissance-von-trier-nach-santiago-de-compostela/
LOCATION:Trier\, Evangelische Kirchengemeinde\, Caspar-Olevian-Saal\, Willy-Brandt-Platz
END:VEVENT
BEGIN:VEVENT
DTSTART;TZID=Europe/Berlin:20260419T100000
DTEND;TZID=Europe/Berlin:20260419T160000
DTSTAMP:20260426T011912
CREATED:20260405T023511Z
LAST-MODIFIED:20260412T065008Z
UID:10001684-1776592800-1776614400@www.jakobsweg.de
SUMMARY:Sonntagspilgern am 19. April
DESCRIPTION:“Alter Pilgerweg“ bei Paderborn\nDie Jakobusfreunde Paderborn veranstalten am Sonntag\, dem 19.04.2026\, ein Pilgern auf dem “Alten Pilgerweg“ bei Paderborn. Es handelt sich um eine Tageswanderung durch idyllische Täler und eindrucksvolle Buchenwälder der landschaftlich abwechslungsreichen Paderborner Hochfläche. Kulturhistorische Höhepunkte des ca. 20 km langen Rundwanderweges sind die Madonna am “Stern“ im Haxtergrund sowie die mittelalterliche Kapelle “Zur Hilligen Seele“ in der Nähe von Borchen-Dörenhagen und die barocke Kluskapelle St. Lucia in Borchen-Etteln.\nDer “Alte Pilgerweg“ folgt in weiten Teilen den Spuren der Wallfahrer\, die über die „“Via Regia“\, einer seit dem Mittelalter bestehenden Heer- und Handelsstraße\, zur “Hilligen Seele“ pilgerten.\nStart und Ziel ist um 10:00 Uhr auf dem Parkplatz neben dem Restaurant “Frankys Hütte“ im Haxtergrund.\nEs handelt sich um eine leichte bis mittelschwere Tour auf überwiegend befestigten Wirtschaftswegen. Ausreichende Kondition sollte jedoch vorhanden sein. Als Ausrüstung ist gutes Schuhwerk erforderlich\, Getränke und Verpflegung für ca. sechs Stunden sollten mitgeführt werden.\nEine Anmeldung ist nicht unbedingt erforderlich\, aber hilfreich\, und zwar im Pilgerbüro unter info@jakobusfreunde-paderborn.com. Eine telefonische Anmeldung sowie die Klärung möglicher Fragen sind unter der Tel.-Nr. 0 15 75 965 2557 jederzeit möglich.\nAlle Interessierten sind herzlich willkommen. Evtl. kann die Strecke auch nach Absprache vor Ort abgekürzt werden.
URL:https://www.jakobsweg.de/termin/sonntagspilgern-am-19-april/
LOCATION:Haxter Grund\, Parkplatz\, Haxter Grund 18\, Paderborn\, 33100\, Germany
CATEGORIES:Pilgerwanderung
ORGANIZER;CN="Jakobusfreunde Paderborn":MAILTO:info@jakobusfreunde-paderborn.com
END:VEVENT
BEGIN:VEVENT
DTSTART;VALUE=DATE:20260419
DTEND;VALUE=DATE:20260420
DTSTAMP:20260426T011912
CREATED:20251228T132045Z
LAST-MODIFIED:20260418T150514Z
UID:10001412-1776556800-1776643199@www.jakobsweg.de
SUMMARY:Licht im Dunkel :: Eine Pilgereinladung für Trauernde
DESCRIPTION:
URL:https://www.jakobsweg.de/termin/licht-im-dunkel-eine-pilgereinladung-fuer-trauernde/
LOCATION:München: Jakobsweg
END:VEVENT
BEGIN:VEVENT
DTSTART;TZID=Europe/Berlin:20260418T100000
DTEND;TZID=Europe/Berlin:20260418T160000
DTSTAMP:20260426T011912
CREATED:20260328T143526Z
LAST-MODIFIED:20260411T145015Z
UID:10001677-1776506400-1776528000@www.jakobsweg.de
SUMMARY:Bethangweg Pilgern :: Stadt\, Land\, Fluss - Pilgern vor der Haustür
DESCRIPTION:
URL:https://www.jakobsweg.de/termin/bethangweg-pilgern-stadt-land-fluss-pilgern-vor-der-haustuer/
LOCATION:Nürnberg: Ortsangabe siehe Detailansicht
END:VEVENT
BEGIN:VEVENT
DTSTART;TZID=Europe/Berlin:20260418T100000
DTEND;TZID=Europe/Berlin:20260418T100000
DTSTAMP:20260426T011912
CREATED:20251112T200603Z
LAST-MODIFIED:20260325T092238Z
UID:10001324-1776506400-1776506400@www.jakobsweg.de
SUMMARY:Pilgerwanderung „Durch den Jenfelder Moorpark“
DESCRIPTION:Pilgerweg durch den Jenfelder Moorpark\nDiese Wanderung führt von Jenfeld vorbei am Jenfelder Moor\, geht über auf den Wandse Wanderweg\, vorbei an Tonndorf und Ohlsdorf. Sie endet an der Hudtwalckerstraße.\nTreffpunkt: 10:00 Uhr am Busbahnhof Wandsbek Markt\, Abfahrtsbereich A\, an der Bushaltestelle 162\nStrecke: ca. 20 Km\nLeitung: Susan Heit vom Pilgerzentrum St. Jacobi Hamburg
URL:https://www.jakobsweg.de/termin/pilgerwanderung-durch-den-jenfelder-moorpark/
LOCATION:Busbahnhof Wandsbek Markt @ Wandsbek Markt\, Hamburg
CATEGORIES:Deutschland,Hamburg,Ort,Tagestour,Veranstaltungsart
END:VEVENT
BEGIN:VEVENT
DTSTART;TZID=Europe/Berlin:20260418T093000
DTEND;TZID=Europe/Berlin:20260418T160000
DTSTAMP:20260426T011912
CREATED:20260303T122030Z
LAST-MODIFIED:20260325T092246Z
UID:10001599-1776504600-1776528000@www.jakobsweg.de
SUMMARY:Jahreszeitenpilgern Frühling 2026 „Malente\, Dieksee und Dodauer Forst“
DESCRIPTION:Treffpunkt: Parkplatz am Bahnhof Malente\, Bahnhofstraße 2\, 23714 Malente\nKosten: 3 Euro\nLeitung und weitere Informationen\nNeben der für eine Wanderung üblichen wetterfesten Ausrüstung bitte Verpflegung für den Tag und Getränke mitbringen. Für die Rast empfiehlt sich eine wasserfeste Unterlage zum Sitzen.\nBitte – soweit schon erhalten – das Pilgerkreuz nicht vergessen!
URL:https://www.jakobsweg.de/termin/jahreszeitenpilgern-fruehling-2026-malente-dieksee-und-dodauer-forst/
LOCATION:Parkplatz am Bahnhof Malente\,Parkplatz am Bahnhof Malente @ Bahnhofstraße 2\, 23714 Malente
CATEGORIES:Deutschland,Ort,Schleswig-Holstein,Tagestour,Veranstaltungsart
END:VEVENT
BEGIN:VEVENT
DTSTART;TZID=Europe/Berlin:20260418T090000
DTEND;TZID=Europe/Berlin:20260418T100000
DTSTAMP:20260426T011912
CREATED:20260207T122036Z
LAST-MODIFIED:20260411T145015Z
UID:10001522-1776502800-1776506400@www.jakobsweg.de
SUMMARY:Samstags-Pilgern
DESCRIPTION:
URL:https://www.jakobsweg.de/termin/samstags-pilgern-9/
LOCATION:Augsburg: St. Paul
END:VEVENT
BEGIN:VEVENT
DTSTART;TZID=Europe/Berlin:20260418T090000
DTEND;TZID=Europe/Berlin:20260418T100000
DTSTAMP:20260426T011912
CREATED:20251228T132045Z
LAST-MODIFIED:20260411T145015Z
UID:10001411-1776502800-1776506400@www.jakobsweg.de
SUMMARY:Samstagspilgern auf dem Münchner JakobsKirchenWeg :: Von Unterföhring über die St. Jakobuskapelle in Hochmutting zum Alten Schloss Schleißheimting zum Alten Schloss nach Oberschleißheim
DESCRIPTION:
URL:https://www.jakobsweg.de/termin/samstagspilgern-auf-dem-muenchner-jakobskirchenweg-von-unterfoehring-ueber-die-st-jakobuskapelle-in-hochmutting-zum-alten-schloss-schleissheimting-zum-alten-schloss-nach-oberschleissheim/
LOCATION:München: Münchner JakobsKirchenWeg
END:VEVENT
BEGIN:VEVENT
DTSTART;VALUE=DATE:20260418
DTEND;VALUE=DATE:20260420
DTSTAMP:20260426T011912
CREATED:20251107T175014Z
LAST-MODIFIED:20260413T145008Z
UID:10001305-1776477600-1776563999@www.jakobsweg.de
SUMMARY:Pilgern vor der Haustüre mit Ute\, fällt aus\, beachtet die Pilgerwanderung 1.-2. Mai
DESCRIPTION:Utes Pilgerwanderungen finden in der Regel am dritten Samstag des Monats statt\, aber bitte auf mögliche\, abweichende Termine achten.\nIm Allgemeinen sind es Strecken mit moderater Wegführung von ca. 10 – 12 km mit einer anschließenden Einkehr.\nBeachtet hier die Informationen zu unserer Jubiläums – Pilgerwanderung am 1.-2. Mai 2026\nKosten: Eigene Anreise mit dem ÖPNV und Verzehr bei Teilnahme an der Einkehr.\nDetails zu Ort\, Strecke\, Anreise und Treffpunkt werden rechtzeitig an dieser Stelle wie auch unter der WhatsApp-Gruppe: “Pilgerwanderungen Ute” bekannt gegeben.\nKontakt: Ute Schäfer\, Mobil: 01525/3504412\nWhatsApp-Gruppe: Pilgerwanderungen Ute
URL:https://www.jakobsweg.de/termin/pilgern-vor-der-haustuere-mit-ute-13/
END:VEVENT
BEGIN:VEVENT
DTSTART;TZID=Europe/Berlin:20260416T160000
DTEND;TZID=Europe/Berlin:20260419T170000
DTSTAMP:20260426T011912
CREATED:20260111T000511Z
LAST-MODIFIED:20260329T023509Z
UID:10001450-1776355200-1776618000@www.jakobsweg.de
SUMMARY:Pilgern von Soest nach Dortmund
DESCRIPTION:Pilgern durch die Soester Börde zur Reinoldikirche in Dortmund mit Uli Kryn\nNähere Einzelheiten sowie die Anmeldung sind hier abrufbar.
URL:https://www.jakobsweg.de/termin/pilgern-von-soest-nach-dortmund/
LOCATION:Pilgerkloster Werl\, Walburgisstraße 41\, Werl\, 59457\, Germany
CATEGORIES:Pilgerwanderung
ORGANIZER;CN="Jakobusfreunde Paderborn":MAILTO:info@jakobusfreunde-paderborn.com
END:VEVENT
BEGIN:VEVENT
DTSTART;VALUE=DATE:20260415
DTEND;VALUE=DATE:20260416
DTSTAMP:20260426T011912
CREATED:20241001T130000Z
LAST-MODIFIED:20260413T025010Z
UID:10000345-1776211200-1776297599@www.jakobsweg.de
SUMMARY:Pilgerstammtisch in Oberdischingen
DESCRIPTION:Pilgerstammtisch mit geistlichem Impuls von David Langer; Anmeldung nicht erforderlich.        Wir möchten Pilgerstammtisch regelmäßig am 3. Mittwoch im Monat anbieten\, Termine siehe Homepage.  
URL:https://www.jakobsweg.de/termin/pilgerstammtisch-in-oberdischingen-19/
END:VEVENT
BEGIN:VEVENT
DTSTART;TZID=Europe/Berlin:20260414T190000
DTEND;TZID=Europe/Berlin:20260414T220000
DTSTAMP:20260426T011912
CREATED:20250429T154353Z
LAST-MODIFIED:20260414T005009Z
UID:10000916-1776193200-1776204000@www.jakobsweg.de
SUMMARY:(SAL) Saarland Stammtisch
DESCRIPTION:Pfarrsaal des Gemeindezentrums St. JakobKeplerstr. 1366115 Saarbrücken – Alt-Saarbrücken statt. Beginn ist jeweils 19 Uhr. \nDer Stammtisch verläuft in der Regel folgendermaßen:  \n\nZunächst informiert der Sprecher der Regionalgruppe über die neuesten Nachrichten aus der Region und aus der Gesellschaft. Dann kommt ein kurzer Bericht bzw. Austausch\, für den sich ein Mitglied verantwortlich erklärt hat\, zu Themen wie: Pilgerwege nah und fern; Pilgererfahrung; Bildbetrachtung; Grundsatzfragen: Was ist Pilgern? Warum Santiago? usw.\n\nDer Stammtisch setzt sich mit einem zwangslosen Gespräch fort – bei einem Glas Bier\, Wein…\nAm Anfang des Monats wird per E-Mail an den Termin erinnert und über das Thema informiert.\nWer diese Information erhalten möchte\, wende sich an\n\n\n\nVolker Arnold\nBergstr.1B\n66128 Saarbrücken\nTel.: 0681-700 386\nvolkerarnold(at)online.de\n \n http://www.jakobusgesellschaft.eu/regionalgruppen/bliesgauobere-saar/
URL:https://www.jakobsweg.de/termin/sal-saarland-stammtisch-12/
LOCATION:Keplerstraße 13\, 66117 Saarbrücken\, Deutschland
END:VEVENT
BEGIN:VEVENT
DTSTART;TZID=Europe/Berlin:20260414T190000
DTEND;TZID=Europe/Berlin:20260414T220000
DTSTAMP:20260426T011912
CREATED:20241001T125607Z
LAST-MODIFIED:20250422T154430Z
UID:10000187-1776193200-1776204000@www.jakobsweg.de
SUMMARY:(BOS) Bliesgau/Obere Saar Stammtisch
DESCRIPTION:Pfarrsaal des Gemeindezentrums St. JakobKeplerstr. 1366115 Saarbrücken – Alt-Saarbrücken statt. Beginn ist jeweils 19 Uhr. \nDer Stammtisch verläuft in der Regel folgendermaßen:  \n\nZunächst informiert der Sprecher der Regionalgruppe über die neuesten Nachrichten aus der Region und aus der Gesellschaft. Dann kommt ein kurzer Bericht bzw. Austausch\, für den sich ein Mitglied verantwortlich erklärt hat\, zu Themen wie: Pilgerwege nah und fern; Pilgererfahrung; Bildbetrachtung; Grundsatzfragen: Was ist Pilgern? Warum Santiago? usw.\n\nDer Stammtisch setzt sich mit einem zwangslosen Gespräch fort – bei einem Glas Bier\, Wein…\nAm Anfang des Monats wird per E-Mail an den Termin erinnert und über das Thema informiert.\nWer diese Information erhalten möchte\, wende sich an\n\n\n\nVolker Arnold\nBergstr.1B\n66128 Saarbrücken\nTel.: 0681-700 386\nvolkerarnold(at)online.de\n \n http://www.jakobusgesellschaft.eu/regionalgruppen/bliesgauobere-saar/
URL:https://www.jakobsweg.de/termin/bos-bliesgau-obere-saar-stammtisch-19/
LOCATION:Keplerstraße 13\, 66117 Saarbrücken\, Deutschland
END:VEVENT
BEGIN:VEVENT
DTSTART;TZID=Europe/Berlin:20260414T180000
DTEND;TZID=Europe/Berlin:20260414T200000
DTSTAMP:20260426T011912
CREATED:20260122T125007Z
LAST-MODIFIED:20260414T000516Z
UID:10001470-1776189600-1776196800@www.jakobsweg.de
SUMMARY:Feierabend-Pilgern am 14. April
DESCRIPTION:Das Feierabend-Pilgern führt am 14. April 2026 auf den Spuren des Hl. Martin durch Trier. Dabei wird ein Teilstück des “Europäischen Kulturweges St. Martin von Tours” zurückgelegt. Es gibt spirituelle Haltepunkte an Orten\, die an den Hl. Martin erinnern.  Mitglieder der SJB begleiten die Gruppe. Die Tour dauert etwa zwei Stunden. Treffpunkt ist um 18 Uhr an der Kirche St. Paulin.\nAnmeldung bitte an fap@sjb-trier.de
URL:https://www.jakobsweg.de/termin/feierabend-pilgern-am-14-april/
LOCATION:54290 Trier
END:VEVENT
BEGIN:VEVENT
DTSTART;TZID=Europe/Berlin:20260414T180000
DTEND;TZID=Europe/Berlin:20260414T200000
DTSTAMP:20260426T011912
CREATED:20260122T125007Z
LAST-MODIFIED:20260122T125007Z
UID:10001471-1776189600-1776196800@www.jakobsweg.de
SUMMARY:Feierabend-Pilgern am 14. April
DESCRIPTION:Das Feuerabend-Pilgern führt am 14. April 2026 auf den Spuren des Hl. Martin durch Trier. Dabei wird ein Teilstück des “Europäischen Kulturweges St. Martin von Tours” zurückgelegt. Es gibt spirituelle Haltepunkte an Orten\, die an den Hl. Martin erinnern.  Mitglieder der SJB begleiten die Gruppe. Die Tour dauert etwa zwei Stunden. Treffpunkt ist um 18 Uhr an der Kirche St. Paulin.
URL:https://www.jakobsweg.de/termin/feierabend-pilgern-am-14-april-2/
LOCATION:54290 Trier
END:VEVENT
BEGIN:VEVENT
DTSTART;TZID=Europe/Berlin:20260414T170000
DTEND;TZID=Europe/Berlin:20260414T193000
DTSTAMP:20260426T011912
CREATED:20241001T125607Z
LAST-MODIFIED:20260414T005009Z
UID:10000186-1776186000-1776195000@www.jakobsweg.de
SUMMARY:Mainzer Pilgertreff
DESCRIPTION:Mainzer Pilgertreff 2022\nOrt: 55116 Mainz\, Gaustr. 2\, im Restaurant “Gautor”\, Raum: Eiscafé  \nTermine – in jedem geraden Monat am 2. Dienstag\, immer  ab 17 Uhr \n  \n \nOrganisator:
URL:https://www.jakobsweg.de/termin/mainzer-pilgertreff-11/
LOCATION:Gautor Restaurant\, Gaustraße 2\, 55116 Mainz\, Deutschland
END:VEVENT
BEGIN:VEVENT
DTSTART;TZID=Europe/Berlin:20260413T190000
DTEND;TZID=Europe/Berlin:20260413T210000
DTSTAMP:20260426T011912
CREATED:20241001T125606Z
LAST-MODIFIED:20260407T005003Z
UID:10000185-1776106800-1776114000@www.jakobsweg.de
SUMMARY:(NOP) Göllheimer Pilgerstammtisch
DESCRIPTION:Nordpfälzer Pilgerstammtisch Göllheim \nWir treffen uns immer am zweiten Montag im Monat um 19:00h im prot. Gemeindehaus\, Haupstr. 39\, 67307 Göllheim\, zu einer gemütlichen Runde. Erfahrungen und Neuigkeiten werden hier bei leckerem Pilgerbuffett (jeder bringt etwas mit) ausgetauscht. Es gibt auch Bildvorträge über Caminoerfahrungen. Eingeladen sind alle Pilgerinteressierte\, egal ob “alte Hasen” oder Neupilger. Anmeldung erwünscht. \n  \n  \nInfo und Anmeldung bei Olaf Kern\, info@olaf-kern.de oder 0157 88488 147
URL:https://www.jakobsweg.de/termin/nop-goellheimer-pilgerstammtisch-19/
LOCATION:Hauptstraße 39\, 67307 Göllheim\, Deutschland
END:VEVENT
END:VCALENDAR