BEGIN:VCALENDAR
VERSION:2.0
PRODID:-//Jakobsweg.de - ECPv6.15.17.1//NONSGML v1.0//EN
CALSCALE:GREGORIAN
METHOD:PUBLISH
X-WR-CALNAME:Jakobsweg.de
X-ORIGINAL-URL:https://www.jakobsweg.de
X-WR-CALDESC:Veranstaltungen für Jakobsweg.de
REFRESH-INTERVAL;VALUE=DURATION:PT1H
X-Robots-Tag:noindex
X-PUBLISHED-TTL:PT1H
BEGIN:VTIMEZONE
TZID:Europe/Berlin
BEGIN:DAYLIGHT
TZOFFSETFROM:+0100
TZOFFSETTO:+0200
TZNAME:CEST
DTSTART:20250330T010000
END:DAYLIGHT
BEGIN:STANDARD
TZOFFSETFROM:+0200
TZOFFSETTO:+0100
TZNAME:CET
DTSTART:20251026T010000
END:STANDARD
BEGIN:DAYLIGHT
TZOFFSETFROM:+0100
TZOFFSETTO:+0200
TZNAME:CEST
DTSTART:20260329T010000
END:DAYLIGHT
BEGIN:STANDARD
TZOFFSETFROM:+0200
TZOFFSETTO:+0100
TZNAME:CET
DTSTART:20261025T010000
END:STANDARD
BEGIN:DAYLIGHT
TZOFFSETFROM:+0100
TZOFFSETTO:+0200
TZNAME:CEST
DTSTART:20270328T010000
END:DAYLIGHT
BEGIN:STANDARD
TZOFFSETFROM:+0200
TZOFFSETTO:+0100
TZNAME:CET
DTSTART:20271031T010000
END:STANDARD
END:VTIMEZONE
BEGIN:VEVENT
DTSTART;TZID=Europe/Berlin:20260512T190000
DTEND;TZID=Europe/Berlin:20260512T220000
DTSTAMP:20260426T062023
CREATED:20241001T125610Z
LAST-MODIFIED:20250422T154446Z
UID:10000191-1778612400-1778623200@www.jakobsweg.de
SUMMARY:(BOS) Bliesgau/Obere Saar Stammtisch
DESCRIPTION:Pfarrsaal des Gemeindezentrums St. JakobKeplerstr. 1366115 Saarbrücken – Alt-Saarbrücken statt. Beginn ist jeweils 19 Uhr. \nDer Stammtisch verläuft in der Regel folgendermaßen:  \n\nZunächst informiert der Sprecher der Regionalgruppe über die neuesten Nachrichten aus der Region und aus der Gesellschaft. Dann kommt ein kurzer Bericht bzw. Austausch\, für den sich ein Mitglied verantwortlich erklärt hat\, zu Themen wie: Pilgerwege nah und fern; Pilgererfahrung; Bildbetrachtung; Grundsatzfragen: Was ist Pilgern? Warum Santiago? usw.\n\nDer Stammtisch setzt sich mit einem zwangslosen Gespräch fort – bei einem Glas Bier\, Wein…\nAm Anfang des Monats wird per E-Mail an den Termin erinnert und über das Thema informiert.\nWer diese Information erhalten möchte\, wende sich an\n\n\n\nVolker Arnold\nBergstr.1B\n66128 Saarbrücken\nTel.: 0681-700 386\nvolkerarnold(at)online.de\n \n http://www.jakobusgesellschaft.eu/regionalgruppen/bliesgauobere-saar/
URL:https://www.jakobsweg.de/termin/bos-bliesgau-obere-saar-stammtisch-20/
LOCATION:Keplerstraße 13\, 66117 Saarbrücken\, Deutschland
END:VEVENT
BEGIN:VEVENT
DTSTART;TZID=Europe/Berlin:20260512T190000
DTEND;TZID=Europe/Berlin:20260512T220000
DTSTAMP:20260426T062023
CREATED:20250429T154356Z
LAST-MODIFIED:20260421T120516Z
UID:10000917-1778612400-1778623200@www.jakobsweg.de
SUMMARY:(SAL) Saarland Stammtisch
DESCRIPTION:Pfarrsaal des Gemeindezentrums St. JakobKeplerstr. 1366115 Saarbrücken – Alt-Saarbrücken statt. Beginn ist jeweils 19 Uhr. \nDer Stammtisch verläuft in der Regel folgendermaßen:  \n\nZunächst informiert der Sprecher der Regionalgruppe über die neuesten Nachrichten aus der Region und aus der Gesellschaft. Dann kommt ein kurzer Bericht bzw. Austausch\, für den sich ein Mitglied verantwortlich erklärt hat\, zu Themen wie: Pilgerwege nah und fern; Pilgererfahrung; Bildbetrachtung; Grundsatzfragen: Was ist Pilgern? Warum Santiago? usw.\n\nDer Stammtisch setzt sich mit einem zwangslosen Gespräch fort – bei einem Glas Bier\, Wein…\nAm Anfang des Monats wird per E-Mail an den Termin erinnert und über das Thema informiert.\nWer diese Information erhalten möchte\, wende sich an\n\n\n\nVolker Arnold\nBergstr.1B\n66128 Saarbrücken\nTel.: 0681-700 386\nvolkerarnold(at)online.de\n \n http://www.jakobusgesellschaft.eu/regionalgruppen/bliesgauobere-saar/
URL:https://www.jakobsweg.de/termin/sal-saarland-stammtisch-13/
LOCATION:Keplerstraße 13\, 66117 Saarbrücken\, Deutschland
END:VEVENT
BEGIN:VEVENT
DTSTART;TZID=Europe/Berlin:20260513T000000
DTEND;TZID=Europe/Berlin:20260513T000000
DTSTAMP:20260426T062023
CREATED:20251229T195054Z
LAST-MODIFIED:20260325T092253Z
UID:10001433-1778630400-1778630400@www.jakobsweg.de
SUMMARY:„Ansgar-Pilgerweg“ Haddeby bis Ribe (DK)
DESCRIPTION:Vor- und Nachname (Pflichtfeld) \n Straße \n Postleitzahl und Ort \n Land \n Bitte geben Sie Ihre Nationalität an:\n Deutsch \n Mitglied der Deutschen Minderheit in Nordschleswig \n Däne \n Mitglied der Dänischen Minderheit in Südschleswig \n Schwede \n Sonstige \n Telefonnummer / Handynummer (mit Ländervorwahl) \n E-Mail Adresse \nHiermit melde ich mich für den  gesamten Ansgarpilgerweg  vom 13. bis 23. Mai 2026 an\nJaNein\nHiermit melde ich mich als Tagespilger für den entsprechenden Tag (bitte ankreuzen) an.\n(Die An- und Abreisekosten trage ich selber. In der Tagespauschale von 15\,00 € ist ein Abendessen enthalten. Möchten Sie an mehreren Tagen teilnehmen\, bitte das Formular erneut für die entsprechenden Tag ausfüllen.)\nKlicken Sie den entsprechenden Tag an:\n Mittwoch\, 13. Mai 2026\n Donnerstag\, 14. Mai 2026\n Freitag\, 15. Mai 2026\n Samstag\, 16. Mai 2026\n Sonntag\, 17. Mai 2026\n Montag\, 18. Mai 2026\n Dienstag\, 19. Mai 2026\n Mittwoch\, 20. Mai 2026\n Donnerstag\, 21. Mai 2026\n Freitag\, 22. Mai 2026
URL:https://www.jakobsweg.de/termin/ansgar-pilgerweg-haddeby-bis-ribe-dk/
CATEGORIES:Ausland,Deutschland,Mehrtägige Tour,Ort,Schleswig-Holstein,Veranstaltungsart
END:VEVENT
BEGIN:VEVENT
DTSTART;VALUE=DATE:20260513
DTEND;VALUE=DATE:20260514
DTSTAMP:20260426T062023
CREATED:20251130T000538Z
LAST-MODIFIED:20260421T120516Z
UID:10001352-1778630400-1778716799@www.jakobsweg.de
SUMMARY:(SWP) Werktagspilgern Wallfahrtskloster Blieskastel und Gollenstein
DESCRIPTION:
URL:https://www.jakobsweg.de/termin/swp-werktagspilgern-wallfahrtskloster-blieskastel-und-gollenstein/
END:VEVENT
BEGIN:VEVENT
DTSTART;VALUE=DATE:20260514
DTEND;VALUE=DATE:20260518
DTSTAMP:20260426T062023
CREATED:20241001T130004Z
LAST-MODIFIED:20260420T120519Z
UID:10000351-1778716800-1779062399@www.jakobsweg.de
SUMMARY:Katholikentag in Würzburg
DESCRIPTION:
URL:https://www.jakobsweg.de/termin/katholikentag-in-wuerzburg/
END:VEVENT
BEGIN:VEVENT
DTSTART;TZID=Europe/Berlin:20260514T090000
DTEND;TZID=Europe/Berlin:20260514T100000
DTSTAMP:20260426T062023
CREATED:20260207T122047Z
LAST-MODIFIED:20260425T153934Z
UID:10001523-1778749200-1778752800@www.jakobsweg.de
SUMMARY:Samstags-Pilgern
DESCRIPTION:
URL:https://www.jakobsweg.de/termin/samstags-pilgern-10/
LOCATION:Augsburg: St. Paul
END:VEVENT
BEGIN:VEVENT
DTSTART;TZID=Europe/Berlin:20260514T100000
DTEND;TZID=Europe/Berlin:20260514T110000
DTSTAMP:20260426T062023
CREATED:20260307T142048Z
LAST-MODIFIED:20260425T153937Z
UID:10001618-1778752800-1778756400@www.jakobsweg.de
SUMMARY:Jakobus-Radpilgerweg im Landkreis Fürth :: 10 Uhr Beginn Freiluftgottesdienst Kirche St. Jakobus anschließend gemeinsame Abfahrt
DESCRIPTION:Eröffnungsfahrt mit dem Fahrrad
URL:https://www.jakobsweg.de/termin/jakobus-radpilgerweg-im-landkreis-fuerth-10-uhr-beginn-freiluftgottesdienst-kirche-st-jakobus-anschliessend-gemeinsame-abfahrt/
LOCATION:Stein: Evangelische Kirche St. Jakobus
END:VEVENT
BEGIN:VEVENT
DTSTART;TZID=Europe/Berlin:20260514T110000
DTEND;TZID=Europe/Berlin:20260514T170000
DTSTAMP:20260426T062023
CREATED:20260214T122048Z
LAST-MODIFIED:20260425T153936Z
UID:10001569-1778756400-1778778000@www.jakobsweg.de
SUMMARY:'Wasserpilgern' entlang der Altmühl :: Tageswanderung mit interreligiösen Impulsen.
DESCRIPTION:
URL:https://www.jakobsweg.de/termin/wasserpilgern-entlang-der-altmuehl-tageswanderung-mit-interreligioesen-impulsen/
LOCATION:Eichstätt: Altmühltal
END:VEVENT
BEGIN:VEVENT
DTSTART;TZID=Europe/Berlin:20260515T140000
DTEND;TZID=Europe/Berlin:20260515T170000
DTSTAMP:20260426T062023
CREATED:20260117T120553Z
LAST-MODIFIED:20260425T153938Z
UID:10001463-1778853600-1778864400@www.jakobsweg.de
SUMMARY:Wandern und Pilgern im Coburger Land :: Bad Rodach - Georgenberg - Waldbad - Bad Rodach
DESCRIPTION:
URL:https://www.jakobsweg.de/termin/wandern-und-pilgern-im-coburger-land-bad-rodach-georgenberg-waldbad-bad-rodach/
LOCATION:Bad Rodach: Parkplatz ThermeNatur Bad Rodach
END:VEVENT
BEGIN:VEVENT
DTSTART;VALUE=DATE:20260516
DTEND;VALUE=DATE:20260518
DTSTAMP:20260426T062023
CREATED:20251107T175016Z
LAST-MODIFIED:20260420T145008Z
UID:10001308-1778896800-1778983199@www.jakobsweg.de
SUMMARY:Pilgern vor der Haustüre mit Ute\, fällt aus\, beachtet die Pilgerwanderung 1.-2. Mai
DESCRIPTION:Utes Pilgerwanderungen finden in der Regel am dritten Samstag des Monats statt\, aber bitte auf mögliche\, abweichende Termine achten.\nIm Allgemeinen sind es Strecken mit moderater Wegführung von ca. 10 – 12 km mit einer anschließenden Einkehr.\nBeachtet hier die Informationen zu unserer Jubiläums – Pilgerwanderung am 1.-2. Mai 2026\nKosten: Eigene Anreise mit dem ÖPNV und Verzehr bei Teilnahme an der Einkehr.\nDetails zu Ort\, Strecke\, Anreise und Treffpunkt werden rechtzeitig an dieser Stelle wie auch unter der WhatsApp-Gruppe: “Pilgerwanderungen Ute” bekannt gegeben.\nKontakt: Ute Schäfer\, Mobil: 01525/3504412\nWhatsApp-Gruppe: Pilgerwanderungen Ute
URL:https://www.jakobsweg.de/termin/pilgern-vor-der-haustuere-mit-ute-14/
END:VEVENT
BEGIN:VEVENT
DTSTART;TZID=Europe/Berlin:20260516T090000
DTEND;TZID=Europe/Berlin:20260516T100000
DTSTAMP:20260426T062023
CREATED:20251228T132057Z
LAST-MODIFIED:20260425T153940Z
UID:10001416-1778922000-1778925600@www.jakobsweg.de
SUMMARY:Samstagspilgern auf dem Münchner JakobsKirchenWeg
DESCRIPTION:Vom Alten Schloss Schleißheim nach St. Jakobus in Dachau
URL:https://www.jakobsweg.de/termin/samstagspilgern-auf-dem-muenchner-jakobskirchenweg/
LOCATION:München: Münchner JakobsKirchenWeg
END:VEVENT
BEGIN:VEVENT
DTSTART;TZID=Europe/Berlin:20260516T090000
DTEND;TZID=Europe/Berlin:20260516T100000
DTSTAMP:20260426T062023
CREATED:20260207T122058Z
LAST-MODIFIED:20260425T153939Z
UID:10001524-1778922000-1778925600@www.jakobsweg.de
SUMMARY:Samstags-Pilgern
DESCRIPTION:
URL:https://www.jakobsweg.de/termin/samstags-pilgern-11/
LOCATION:Augsburg: St. Paul
END:VEVENT
BEGIN:VEVENT
DTSTART;TZID=Europe/Berlin:20260519T180000
DTEND;TZID=Europe/Berlin:20260519T190000
DTSTAMP:20260426T062023
CREATED:20251228T132057Z
LAST-MODIFIED:20260425T153941Z
UID:10001417-1779213600-1779217200@www.jakobsweg.de
SUMMARY:Pilgerstammtisch
DESCRIPTION:
URL:https://www.jakobsweg.de/termin/pilgerstammtisch-9/
LOCATION:München: Gasthaus Schinkenpeter
END:VEVENT
BEGIN:VEVENT
DTSTART;VALUE=DATE:20260520
DTEND;VALUE=DATE:20260521
DTSTAMP:20260426T062023
CREATED:20241001T130005Z
LAST-MODIFIED:20260420T120519Z
UID:10000352-1779235200-1779321599@www.jakobsweg.de
SUMMARY:Pilgerstammtisch in Oberdischingen
DESCRIPTION:Pilgerstammtisch mit geistlichem Impuls von David Langer; Anmeldung nicht erforderlich.        Wir möchten Pilgerstammtisch regelmäßig am 3. Mittwoch im Monat anbieten\, Termine siehe Homepage.  
URL:https://www.jakobsweg.de/termin/pilgerstammtisch-in-oberdischingen-20/
END:VEVENT
BEGIN:VEVENT
DTSTART;VALUE=DATE:20260520
DTEND;VALUE=DATE:20260524
DTSTAMP:20260426T062023
CREATED:20251228T132057Z
LAST-MODIFIED:20260425T153943Z
UID:10001418-1779235200-1779580799@www.jakobsweg.de
SUMMARY:'Am Anfang war die Sehnsucht' - Das Pilgerangebot ist im Moment AUSGEBUCHT. Es ist möglich\, sich auf die Warteliste setzen zu lassen. :: Pilgern zum Abschied nehmen\,  Aufbrechen\, Neues wagen - auf dem Münchner Jakobsweg von Steingaden nach Kempten
DESCRIPTION:
URL:https://www.jakobsweg.de/termin/am-anfang-war-die-sehnsucht-pilgern-zum-abschied-nehmen-aufbrechen-neues-wagen-auf-dem-muenchner-jakobsweg-von-steingaden-nach-kempten/
LOCATION:München: Münchner Jakobsweg
END:VEVENT
BEGIN:VEVENT
DTSTART;VALUE=DATE:20260520
DTEND;VALUE=DATE:20261004
DTSTAMP:20260426T062023
CREATED:20260307T142150Z
LAST-MODIFIED:20260425T154010Z
UID:10001625-1779235200-1791071999@www.jakobsweg.de
SUMMARY:Auf dem Jakobsweg von Oettingen zum Bodensee - Inklusive Pilgerwanderung :: Frühjahr 2026 - Herbst 2027
DESCRIPTION:Frühjahr 2026 – Herbst 2027
URL:https://www.jakobsweg.de/termin/auf-dem-jakobsweg-von-oettingen-zum-bodensee-inklusive-pilgerwanderung-fruehjahr-2026-herbst-2027/
LOCATION:Oettingen: Offene Hilfen Oettingen
END:VEVENT
BEGIN:VEVENT
DTSTART;TZID=Europe/Berlin:20260520T165500
DTEND;TZID=Europe/Berlin:20260520T210000
DTSTAMP:20260426T062023
CREATED:20260126T202058Z
LAST-MODIFIED:20260325T092253Z
UID:10001479-1779296100-1779310800@www.jakobsweg.de
SUMMARY:Pilgerweg in Husum | Der Tine-Weg
DESCRIPTION:
URL:https://www.jakobsweg.de/termin/pilgerweg-in-husum-der-tine-weg-3/
LOCATION:Husum
CATEGORIES:Deutschland,Ort,Schleswig-Holstein,Tagestour,Veranstaltungsart
END:VEVENT
BEGIN:VEVENT
DTSTART;TZID=Europe/Berlin:20260520T180000
DTEND;TZID=Europe/Berlin:20260520T193000
DTSTAMP:20260426T062023
CREATED:20260307T142049Z
LAST-MODIFIED:20260425T153944Z
UID:10001619-1779300000-1779305400@www.jakobsweg.de
SUMMARY:Auf dem Jakobsweg von Oettingen zum Bodensee - Inklusive Pilgerwanderung :: Vorbereitungstreffen bei den Offenen Hilfen in Oettingen
DESCRIPTION:Frühjahr 2026 – Herbst 2027
URL:https://www.jakobsweg.de/termin/auf-dem-jakobsweg-von-oettingen-zum-bodensee-inklusive-pilgerwanderung-vorbereitungstreffen-bei-den-offenen-hilfen-in-oettingen/
LOCATION:Oettingen: Offene Hilfen Oettingen
END:VEVENT
BEGIN:VEVENT
DTSTART;VALUE=DATE:20260523
DTEND;VALUE=DATE:20260524
DTSTAMP:20260426T062023
CREATED:20260323T003535Z
LAST-MODIFIED:20260420T120520Z
UID:10001656-1779494400-1779580799@www.jakobsweg.de
SUMMARY:Samstagspilgern in Oberfranken
DESCRIPTION:Auch 2026 finden wieder geführte Pilgerwanderungen auf dem Oberfränkischen Jakobsweg statt. Die Termine: \n6. April 2026 (Ostermontag): Eröffnung der Pilgersaison in Pegnitz: Etappe Pegnitz – Betzenstein (17 km)23. Mai 2026: Betzenstein – Gräfenberg (18 km)27. Juni 2026: Gräfenberg – Kalchreuth (20 km)25. Juli 2026: Kalchreuth – Nürnberg (17 km)19. September 2026: Igensdorf – Kirchrüsselbach u.z. (10 km)24. Oktober 2026: Pilgerforum in Nürnberg – St. Jakob14. November 2026: Lauf a.d.P. – Schönberg u.z. (16 km) \nAnsprechpartner:Michael Thein\, Pfarrer i. R.Pilgerbegleiter\, DWV-WanderführerKaulbachstraße 2b\, 95447 Bayreuthmichael.thein@jakobus-franken.de​​​​​​​Tel. +49-171-7892277 \nDetails finden Sie im Flyer: https://www.jakobus-franken.de/fileadmin/user_upload/jakobus-gesellschaften.de/Nachrichten/Dateien_2026/Samstagspilgern2026.pdf
URL:https://www.jakobsweg.de/termin/samstagspilgern-in-oberfranken-2/
END:VEVENT
BEGIN:VEVENT
DTSTART;TZID=Europe/Berlin:20260523T080000
DTEND;TZID=Europe/Berlin:20260523T180000
DTSTAMP:20260426T062023
CREATED:20251123T120557Z
LAST-MODIFIED:20260425T153945Z
UID:10001338-1779523200-1779559200@www.jakobsweg.de
SUMMARY:Samstagspilgern von Betzenstein nach Gräfenberg
DESCRIPTION:Tagespilgertour auf oberfränkischen Jakobswegen mit geistlicher Begleitung\, Andachten und Impulsen. Keine Anmeldung\, keine Gebühren. Eigenständige Anreise zum Ausgangspunkt.
URL:https://www.jakobsweg.de/termin/samstagspilgern-von-betzenstein-nach-graefenberg/
LOCATION:Bayreuth: Jakobuswege in Oberfranken
END:VEVENT
BEGIN:VEVENT
DTSTART;TZID=Europe/Berlin:20260523T090000
DTEND;TZID=Europe/Berlin:20260523T160000
DTSTAMP:20260426T062023
CREATED:20260404T145051Z
LAST-MODIFIED:20260425T153946Z
UID:10001682-1779526800-1779552000@www.jakobsweg.de
SUMMARY:Feuer und Flamme :: Pilgern auf dem Jakobsweg von Zell nach Missen
DESCRIPTION:
URL:https://www.jakobsweg.de/termin/feuer-und-flamme-pilgern-auf-dem-jakobsweg-von-zell-nach-missen/
LOCATION:Oberstaufen: Kapelle St. Bartholomäus / Zell
END:VEVENT
BEGIN:VEVENT
DTSTART;VALUE=DATE:20260525
DTEND;VALUE=DATE:20260526
DTSTAMP:20260426T062023
CREATED:20241001T130005Z
LAST-MODIFIED:20260420T120521Z
UID:10000353-1779667200-1779753599@www.jakobsweg.de
SUMMARY:Kirchentag auf dem Hesselberg
DESCRIPTION:
URL:https://www.jakobsweg.de/termin/kirchentag-auf-dem-hesselberg/
END:VEVENT
BEGIN:VEVENT
DTSTART;TZID=Europe/Berlin:20260526T093000
DTEND;TZID=Europe/Berlin:20260526T093000
DTSTAMP:20260426T062023
CREATED:20260210T180602Z
LAST-MODIFIED:20260325T092254Z
UID:10001542-1779787800-1779787800@www.jakobsweg.de
SUMMARY:Dienstag „halbzehn“ – jeden 4. Dienstag im Monat
DESCRIPTION:Dienstag „halbzehn“\nWir pilgern auf verschiedenen\, grünen Wegen\, die Schutz vor der Hektik der Stadt bieten\nMitzubringen: Getränk\, Sitzunterlage\, evtl. Rucksackverpflegung\nTreffpunkt: U-Bahn Haltestelle Lattenkamp\, Ausgang Bebelallee\, Meenkwiese unten\nStrecke: ca. 12 km\nAnkunft: ca. 13:00 Uhr S-Bahn Poppenbüttel oder eine andere U/S-Bahn-Haltestelle\nBegleitung:  / Pilgerzentrum im Norden St. Jacobi Hamburg\nEine Anmeldung ist nicht erforderlich\n \n 
URL:https://www.jakobsweg.de/termin/dienstag-halbzehn-jeden-4-dienstag-im-monat-21/
LOCATION:U-Bahn Haltestelle Lattenkamp\, Ausgang Bebelallee\, Meenkwiese unten
CATEGORIES:Deutschland,Hamburg,Tagestour
END:VEVENT
BEGIN:VEVENT
DTSTART;VALUE=DATE:20260527
DTEND;VALUE=DATE:20260528
DTSTAMP:20260426T062023
CREATED:20241001T130006Z
LAST-MODIFIED:20260420T120521Z
UID:10000354-1779840000-1779926399@www.jakobsweg.de
SUMMARY:Pilgerstammtisch in Pfarrkirchen/Niederbayern
DESCRIPTION:Der Pilgerstammtisch findet jeden letzten Mittwoch im Monat ab 19 Uhr im Gasthaus Kirchenwirt statt.\nNähere Infos durch Frau Susanne Makan\nTel.: 016099604210 und susanne.makan@t-online.de
URL:https://www.jakobsweg.de/termin/pilgerstammtisch-in-pfarrkirchen-niederbayern-20/
END:VEVENT
BEGIN:VEVENT
DTSTART;VALUE=DATE:20260529
DTEND;VALUE=DATE:20260530
DTSTAMP:20260426T062023
CREATED:20260420T112022Z
LAST-MODIFIED:20260420T120522Z
UID:10001706-1780012800-1780099199@www.jakobsweg.de
SUMMARY:Pilgern auf den Spuren der Mystiker
DESCRIPTION:Es handelt sich um eine Veranstaltung des spirituellen Zentrums im Eckstein.Informationen sind dem beigefügten link zu entnehmenhttps://spirituelles-zentrum-im-eckstein.de/411665
URL:https://www.jakobsweg.de/termin/pilgern-auf-den-spuren-der-mystiker/
END:VEVENT
BEGIN:VEVENT
DTSTART;TZID=Europe/Berlin:20260529T110000
DTEND;TZID=Europe/Berlin:20260531T170000
DTSTAMP:20260426T062023
CREATED:20260111T000511Z
LAST-MODIFIED:20260420T040510Z
UID:10001451-1780052400-1780246800@www.jakobsweg.de
SUMMARY:Pilgern auf der Heidenstraße
DESCRIPTION:Wir pilgern auf der Heidenstraße von Korbach nach Meinerzhagen.\nLiebe Pilgerfreunde\,\nin diesem Jahr wollen wir auf der Heidenstraße pilgern\, die im Mittelalter von Köln bis nach Leipzig führte.\nPilgerführer: Karl-Rudolf Böttcher. Der Weg kann wie folgt eingesehen werden:\nJakobsweg Heidenstraße: Korbach -Meinerzhagen • PiSlgerweg » outdooractive.com\nli.: Südportal von St. Kilian Korbach\n \nre.: Meinerzhagener Kirche\n \n \n \nWeitere Einzelheiten sind hier abrufbar. Dieser Abschnitt ist bereits ausgebucht.
URL:https://www.jakobsweg.de/termin/pilgern-auf-der-heidenstrasse/
LOCATION:Kilianskirche Korbach\, Kilianstraße\, Korbach\, 34497\, Germany
CATEGORIES:Pilgerwanderung
ORGANIZER;CN="Jakobusfreunde Paderborn":MAILTO:info@jakobusfreunde-paderborn.com
END:VEVENT
BEGIN:VEVENT
DTSTART;TZID=Europe/Berlin:20260529T170000
DTEND;TZID=Europe/Berlin:20260529T170000
DTSTAMP:20260426T062023
CREATED:20251223T192053Z
LAST-MODIFIED:20260325T092254Z
UID:10001406-1780074000-1780074000@www.jakobsweg.de
SUMMARY:PilgerCafé am Abend | „Raus aus der Komfortzone“ Abiturient*innen pilgern auf dem Jakobsweg | Ein Erfahrungsbericht
DESCRIPTION:PilgerCafé am Abend |„Raus aus der Komfortzone“ Abiturient*innen pilgern auf dem Jakobsweg | Ein Erfahrungsbericht\nDie Reihe „Pilger-Café am Abend“ wird monatlich einmal fortgesetzt.\nNächster Termin: 26. Juni 2026\n„PilgerCafé am Abend – spezial“: Leichtes Herz und schwere Beine“ Lesung und Gespräch mit Bestsellerautor Tobi Schlegl (10 € Eintritt)\n 
URL:https://www.jakobsweg.de/termin/pilgercafe-am-abend-von-rom-nach-jerusalem-etappe-2-tuerkei-und-zypern-eine-pilgerreise-mit-notizbuch-und-aquarellkasten-martina-riedrich-stellt-ihre-texte-und-bilder-vor-2/
LOCATION:Gemeindesaal in der Hauptkirche St. Jacobi @ Jakobikirchhof 22\, 20095 Hamburg
CATEGORIES:Deutschland,Ort,Veranstaltungsart,Vortrag
END:VEVENT
BEGIN:VEVENT
DTSTART;TZID=Europe/Berlin:20260529T180000
DTEND;TZID=Europe/Berlin:20260529T210000
DTSTAMP:20260426T062023
CREATED:20260416T000521Z
LAST-MODIFIED:20260425T123508Z
UID:10001700-1780077600-1780088400@www.jakobsweg.de
SUMMARY:Jakobusabend am 29. Mai 2026
DESCRIPTION:Um 18:00 Uhr feiern wir die hl. Messe in der Markt- und Bürgerkirche St. Gangolf am Trierer Hauptmarkt – mit persönlichem Pilgersegen für alle\, die sich in nächster Zeit auf den Weg machen.\nAnschließend treffen wir uns zum gemütlichen Beisammensein und Austausch in einer nahegelegenen Gastronomie (der genaue Ort wird vor Ort bekanntgegeben). Auch alle Pilger-Interessierten und Gäste sind herzlich willkommen.
URL:https://www.jakobsweg.de/termin/jakobusabend-10/
LOCATION:Trier\, Markt- und Bürgerkirche St. Gangolf\, Hauptmarkt\, 54290 Trier
END:VEVENT
BEGIN:VEVENT
DTSTART;TZID=Europe/Berlin:20260530T084500
DTEND;TZID=Europe/Berlin:20260530T084500
DTSTAMP:20260426T062023
CREATED:20260303T122105Z
LAST-MODIFIED:20260319T005105Z
UID:10001602-1780130700-1780130700@www.jakobsweg.de
SUMMARY:Pilgern für Frauen in der Umgebung von Lübeck
DESCRIPTION:Aufbrechen – Innehalten – Auf dem Weg SEIN\nVon Kupfermühle nach Bad Oldesloe\, ca.13 km   \nVom Bahnhof Kupfermühle bei Tremsbüttel aus erreichen wir den Bach Süderbeste\, dessen mäanderndem Lauf wir z.T. auf Trampelpfaden auf steilen bewaldeten Hängen eine Weile folgen. Auf einer zum Radweg ausgebauten ehemaligen Bahntrasse gelangen wir später nach Bad Oldesloe\, wo wir durch den Kurpark gehen und beim Labyrinth auf dem Alten Friedhof – nicht weit vom Bahnhof – unsere Tour abschließen.\nGemeinsam in einer Gruppe von Frauen* folgen wir der alten Tradition des Pilgerns. Im Gehen\, im Schweigen\, im Austausch erleben wir Gottes wunderbare Schöpfung. Mit Impulsen laden wir ein\, in die eigene Kraft und den inneren Frieden zu kommen. Bei normaler Kondition sind die Strecken gut zu schaffen. Wir nutzen öffentliche Verkehrsmittel. Fahrtkosten trägt jede selbst. Kurzfristige Änderungen sind möglich.\nBitte mitbringen: Trinken und Essen für die Pausen\, Sitzunterlage\, feste Schuhe und angemessene Kleidung\, ggf. Regenzeug\nTreffen: 8:45 Uhr Hbf. Lübeck\,  Bahnhofsvorhalle\nWegbegleiterinnen: Birga Alheid\, Karin Pichura\, Regina du Maire\nAnmeldung bis 27.05.2026 mit Nennung der Handynummer über\nE-Mail: frauenwerk-hL@kirche-LL.de oder Tel. 0451 79 02 260 (bitte angeben\, ob ein Deutschlandticket vorhanden ist)\nVeranstalterin: Ev.-Luth. Frauenwerk Lübeck-Lauenburg\, Breite Straße 17\, 23552 Lübeck
URL:https://www.jakobsweg.de/termin/pilgern-fuer-frauen-in-der-umgebung-von-luebeck-3/
LOCATION:Von Kupfermühle nach Bad Oldesloe
CATEGORIES:Deutschland,Schleswig-Holstein
END:VEVENT
BEGIN:VEVENT
DTSTART;TZID=Europe/Berlin:20260530T084500
DTEND;TZID=Europe/Berlin:20260530T084500
DTSTAMP:20260426T062023
CREATED:20260319T120843Z
LAST-MODIFIED:20260325T092255Z
UID:10001639-1780130700-1780130700@www.jakobsweg.de
SUMMARY:Pilgern für Frauen in der Umgebung von Lübeck
DESCRIPTION:Aufbrechen – Innehalten – Auf dem Weg SEIN\nVon Kupfermühle nach Bad Oldesloe\, ca.13 km   \nVom Bahnhof Kupfermühle bei Tremsbüttel aus erreichen wir den Bach Süderbeste\, dessen mäanderndem Lauf wir z.T. auf Trampelpfaden auf steilen bewaldeten Hängen eine Weile folgen. Auf einer zum Radweg ausgebauten ehemaligen Bahntrasse gelangen wir später nach Bad Oldesloe\, wo wir durch den Kurpark gehen und beim Labyrinth auf dem Alten Friedhof – nicht weit vom Bahnhof – unsere Tour abschließen.\nGemeinsam in einer Gruppe von Frauen* folgen wir der alten Tradition des Pilgerns. Im Gehen\, im Schweigen\, im Austausch erleben wir Gottes wunderbare Schöpfung. Mit Impulsen laden wir ein\, in die eigene Kraft und den inneren Frieden zu kommen. Bei normaler Kondition sind die Strecken gut zu schaffen. Wir nutzen öffentliche Verkehrsmittel. Fahrtkosten trägt jede selbst. Kurzfristige Änderungen sind möglich.\nBitte mitbringen: Trinken und Essen für die Pausen\, Sitzunterlage\, feste Schuhe und angemessene Kleidung\, ggf. Regenzeug\nTreffen: 8:45 Uhr Hbf. Lübeck\,  Bahnhofsvorhalle\nWegbegleiterinnen: Birga Alheid\, Karin Pichura\, Regina du Maire\nAm Tag der Pilgertour sind die Wegbegleiterinnen für kurzfristige Absagen oder Rückfragen erreichbar unter Tel. 0179 153 60 14\nAnmeldung bis 27.05.2026 mit Nennung der Handynummer über E-Mail: frauenwerk-hl@kirche-ll.de oder Tel. 0451 79 02 260 (bitte angeben\, ob ein Deutschlandticket vorhanden ist)\nVeranstalterin:  Ev.-Luth. Frauenwerk Lübeck-Lauenburg\, Breite Straße 17\, 23552 Lübeck
URL:https://www.jakobsweg.de/termin/pilgern-fuer-frauen-in-der-umgebung-von-luebeck-12/
LOCATION:Von Kupfermühle nach Bad Oldesloe
CATEGORIES:Deutschland,Schleswig-Holstein,Tagestour
END:VEVENT
END:VCALENDAR