BEGIN:VCALENDAR
VERSION:2.0
PRODID:-//Jakobsweg.de - ECPv6.15.17.1//NONSGML v1.0//EN
CALSCALE:GREGORIAN
METHOD:PUBLISH
X-WR-CALNAME:Jakobsweg.de
X-ORIGINAL-URL:https://www.jakobsweg.de
X-WR-CALDESC:Veranstaltungen für Jakobsweg.de
REFRESH-INTERVAL;VALUE=DURATION:PT1H
X-Robots-Tag:noindex
X-PUBLISHED-TTL:PT1H
BEGIN:VTIMEZONE
TZID:Europe/Berlin
BEGIN:DAYLIGHT
TZOFFSETFROM:+0100
TZOFFSETTO:+0200
TZNAME:CEST
DTSTART:20250330T010000
END:DAYLIGHT
BEGIN:STANDARD
TZOFFSETFROM:+0200
TZOFFSETTO:+0100
TZNAME:CET
DTSTART:20251026T010000
END:STANDARD
BEGIN:DAYLIGHT
TZOFFSETFROM:+0100
TZOFFSETTO:+0200
TZNAME:CEST
DTSTART:20260329T010000
END:DAYLIGHT
BEGIN:STANDARD
TZOFFSETFROM:+0200
TZOFFSETTO:+0100
TZNAME:CET
DTSTART:20261025T010000
END:STANDARD
BEGIN:DAYLIGHT
TZOFFSETFROM:+0100
TZOFFSETTO:+0200
TZNAME:CEST
DTSTART:20270328T010000
END:DAYLIGHT
BEGIN:STANDARD
TZOFFSETFROM:+0200
TZOFFSETTO:+0100
TZNAME:CET
DTSTART:20271031T010000
END:STANDARD
END:VTIMEZONE
BEGIN:VEVENT
DTSTART;VALUE=DATE:20260130
DTEND;VALUE=DATE:20260203
DTSTAMP:20260426T063713
CREATED:20250725T200610Z
LAST-MODIFIED:20260131T122011Z
UID:10001115-1769731200-1770076799@www.jakobsweg.de
SUMMARY:Eisbrecher! - Die Veranstaltung ist aktuell ausgebucht\, aber man kann sich noch auf eine Warteliste setzen lassen. :: Winterliches Pilgern auf dem Oberfränkischen Jakobsweg von Bamberg nach Nürnberg
DESCRIPTION:
URL:https://www.jakobsweg.de/termin/eisbrecher-winterliches-pilgern-auf-dem-oberfraenkischen-jakobsweg-von-bamberg-nach-nuernberg/
LOCATION:München: Jakobsweg
END:VEVENT
BEGIN:VEVENT
DTSTART;VALUE=DATE:20260202
DTEND;VALUE=DATE:20260204
DTSTAMP:20260426T063713
CREATED:20251107T175007Z
LAST-MODIFIED:20260130T183507Z
UID:10001299-1769994000-1770080399@www.jakobsweg.de
SUMMARY:Monatlicher Pilgertreff Düsseldorf
DESCRIPTION:Der traditionelle\, monatliche Pilgertreff der Jakobuspilger in und um Düsseldorf\, findet im Allgemeinen jeweils am ersten Montag des Monats um 19.00 Uhr statt.\nBitte gegebenenfalls auf Ausnahmen achten\, wenn z.B. der erste Montag ein Feiertag ist\, findet das Treffen am folgenden Montag statt!\nWir treffen uns in der Düsseldorfer Altstadt im Restaurant “El Amigo” in der Schneider-Wibbel-Gasse 9\, im ersten Obergeschoss.\nModeration: Josef Rave\nThemen des Abends:\nHauptvortrag: Utes Pilgerwanderung durch Südengland.\nKurzvortrag: Peter und Josef\, aktualisierte Informationen zu An- und Abreisemöglichkeiten der Etappen des “Kölner-Weges”.\nAktuelles: Stand der Planung unserer zweitägigen Pilgerwanderung 2026 Düsseldorf –  Dormagen/Knechtsteden – Köln anlässlich des 20jährigen Bestehens des Düsseldorfer Pilgertreffs.\nHeute als Lichtmessfeier mit Blasiussegen!\nVor dem Stammtisch besteht die Möglichkeit\, jeweils am ersten Montag des Monats um 18:00 Uhr in der St. Andreas-Kirche in der Düsseldorfer Altstadt eine Pilgermesse zu besuchen.\nWer sich auf den Weg\, den Camino\, begeben möchte kann hier den Pilgersegen empfangen. Anmeldungen hierzu bitte bei:  Susanne Storm-Sammeck\, Mobil 0173/7040480.\nBitte gegebenenfalls auf Ausnahmen achten\, wenn z.B. der erste Montag ein Feiertag ist\, findet die Pilgermesse am folgenden Montag statt! Aktuelle Informationen zur Pilgermesse werden auch auf der Internet-Seite der Dominikaner unter  https://dominikaner-duesseldorf.de/gebet-gottesdienst/ veröffentlicht.
URL:https://www.jakobsweg.de/termin/monatlicher-pilgertreff-duesseldorf-2/
END:VEVENT
BEGIN:VEVENT
DTSTART;TZID=Europe/Berlin:20260202T100000
DTEND;TZID=Europe/Berlin:20260202T170000
DTSTAMP:20260426T063713
CREATED:20251214T120532Z
LAST-MODIFIED:20260131T122011Z
UID:10001389-1770026400-1770051600@www.jakobsweg.de
SUMMARY:Zeit zum Pilgern
DESCRIPTION:
URL:https://www.jakobsweg.de/termin/zeit-zum-pilgern/
LOCATION:Bad Staffelstein: Kreuzkapelle
END:VEVENT
BEGIN:VEVENT
DTSTART;TZID=Europe/Berlin:20260202T190000
DTEND;TZID=Europe/Berlin:20260202T210000
DTSTAMP:20260426T063713
CREATED:20241001T125559Z
LAST-MODIFIED:20260131T120507Z
UID:10000175-1770058800-1770066000@www.jakobsweg.de
SUMMARY:(RHH) Wormser Pilgertreff
DESCRIPTION:Haus am Dom\, 67547 Worms\, Domplatz 3 (Eingang Rückseite – Kreuzgang) Anmeldung erbeten bei:  \nRobert De Taey\nApostelbräustr. 14\n67549 Worms\nTel.:+4917610052727\nrobert@detaey.de
URL:https://www.jakobsweg.de/termin/rhh-wormser-pilgertreff-18/
LOCATION:Haus am Dom\, Domplatz 3\, 67547 Worms\, Deutschland
END:VEVENT
BEGIN:VEVENT
DTSTART;VALUE=DATE:20260203
DTEND;VALUE=DATE:20260204
DTSTAMP:20260426T063713
CREATED:20241001T125948Z
LAST-MODIFIED:20260130T200508Z
UID:10000329-1770076800-1770163199@www.jakobsweg.de
SUMMARY:Pilgertreff St. Martin in München
DESCRIPTION:
URL:https://www.jakobsweg.de/termin/pilgertreff-st-martin-in-muenchen-17/
END:VEVENT
BEGIN:VEVENT
DTSTART;TZID=Europe/Berlin:20260203T190000
DTEND;TZID=Europe/Berlin:20260203T200000
DTSTAMP:20260426T063713
CREATED:20250718T200621Z
LAST-MODIFIED:20260131T122011Z
UID:10001096-1770145200-1770148800@www.jakobsweg.de
SUMMARY:Familienbande: Wenn Mutter und Sohn gemeinsam pilgern
DESCRIPTION:Pilgertreff in St. Martin
URL:https://www.jakobsweg.de/termin/familienbande-wenn-mutter-und-sohn-gemeinsam-pilgern/
LOCATION:München: Spirituelles Zentrum St. Martin
END:VEVENT
BEGIN:VEVENT
DTSTART;VALUE=DATE:20260204
DTEND;VALUE=DATE:20260205
DTSTAMP:20260426T063713
CREATED:20241001T125947Z
LAST-MODIFIED:20241029T132919Z
UID:10000328-1770163200-1770249599@www.jakobsweg.de
SUMMARY:Pilgerstammtisch in Nürnberg
DESCRIPTION:Pilgerstammtisch in Nürnbergum 17.30 Uhr Andacht in der Jakobskircheab 18.00 Uhr Stammtisch im Gasthof SteicheleNürnberg\, Knorrstr. 2
URL:https://www.jakobsweg.de/termin/pilgerstammtisch-in-nuernberg-18/
END:VEVENT
BEGIN:VEVENT
DTSTART;VALUE=DATE:20260204
DTEND;VALUE=DATE:20260205
DTSTAMP:20260426T063713
CREATED:20241105T134421Z
LAST-MODIFIED:20251103T123533Z
UID:10000542-1770163200-1770249599@www.jakobsweg.de
SUMMARY:Pilgerstammtisch in Nürnberg
DESCRIPTION:Pilgerstammtisch in Nürnbergum 17.30 Uhr Andacht in der Jakobskircheab 18.00 Uhr Stammtisch im Gasthof SteicheleNürnberg\, Knorrstr. 2
URL:https://www.jakobsweg.de/termin/pilgerstammtisch-in-nuernberg-36/
END:VEVENT
BEGIN:VEVENT
DTSTART;VALUE=DATE:20260204
DTEND;VALUE=DATE:20260205
DTSTAMP:20260426T063713
CREATED:20251106T000523Z
LAST-MODIFIED:20260130T200508Z
UID:10001266-1770163200-1770249599@www.jakobsweg.de
SUMMARY:Pilgerstammtisch in Nürnberg
DESCRIPTION:Pilgerstammtisch in Nürnbergum 17.30 Uhr Andacht in der Jakobskirche (Peter Hirschberg)ab 18.00 Uhr Stammtisch im Gasthof SteicheleNürnberg\, Knorrstr. 2 \nAnmeldung erforderlich: jakobspilgerstammtisch-Nuernberg@gmx.depilgerstammtisch-nbg@liwanetz.de
URL:https://www.jakobsweg.de/termin/pilgerstammtisch-in-nuernberg-59/
END:VEVENT
BEGIN:VEVENT
DTSTART;VALUE=DATE:20260204
DTEND;VALUE=DATE:20260205
DTSTAMP:20260426T063713
CREATED:20251113T002023Z
LAST-MODIFIED:20260130T200508Z
UID:10001325-1770163200-1770249599@www.jakobsweg.de
SUMMARY:Pilgerstammtisch in Nürnberg
DESCRIPTION:Pilgerstammtisch in Nürnbergum 17.30 Uhr Andacht in der Jakobskirche (Peter Hirschberg)ab 18.00 Uhr Stammtisch im Gasthof SteicheleNürnberg\, Knorrstr. 2 \nAnmeldung erforderlich: jakobspilgerstammtisch-Nuernberg@gmx.depilgerstammtisch-nbg@liwanetz.de
URL:https://www.jakobsweg.de/termin/pilgerstammtisch-in-nuernberg-81/
END:VEVENT
BEGIN:VEVENT
DTSTART;VALUE=DATE:20260205
DTEND;VALUE=DATE:20260206
DTSTAMP:20260426T063713
CREATED:20250520T171418Z
LAST-MODIFIED:20251027T122033Z
UID:10000995-1770249600-1770335999@www.jakobsweg.de
SUMMARY:Pilgertreff in Würzburg
DESCRIPTION:Endlich wieder ein Pilgertreff in Würzburg  \nAb Juni treffen sich Jakobuspilger am 1. Donnerstag im Monat zu gemütlichem Beisammensein\, bei Speis und Trank\, zu Erfahrungsaustausch\, um sich kennenzulernen\, um Gemeinschaft zu pflegen und um Neues zu hören aus der Welt der Pilgerinnen und Pilger.  \nInteressierte Jakobspilger und solche die es werden wollen\, sind hier genau richtig und herzlich willkommen. \nWann: jeden 1.  Donnerstag\, ab 05. Juni\, ab 18 Uhr \nWo: Würzburg\, Jahnterrasse Dreikronenstr. 2 direkt am Jakobsweg 
URL:https://www.jakobsweg.de/termin/pilgertreff-in-wuerzburg-10/
END:VEVENT
BEGIN:VEVENT
DTSTART;VALUE=DATE:20260205
DTEND;VALUE=DATE:20260206
DTSTAMP:20260426T063713
CREATED:20251103T123533Z
LAST-MODIFIED:20260130T200508Z
UID:10001241-1770249600-1770335999@www.jakobsweg.de
SUMMARY:Pilgertreff in Würzburg
DESCRIPTION:Endlich wieder ein Pilgertreff in Würzburg  \nAb Juni treffen sich Jakobuspilger am 1. Donnerstag im Monat zu gemütlichem Beisammensein\, bei Speis und Trank\, zu Erfahrungsaustausch\, um sich kennenzulernen\, um Gemeinschaft zu pflegen und um Neues zu hören aus der Welt der Pilgerinnen und Pilger.  \nInteressierte Jakobspilger und solche die es werden wollen\, sind hier genau richtig und herzlich willkommen. \nEinzelheiten können dem link in Details entnommen werden \nhttps://www.jakobus-franken.de/nachrichten-details/news/pilgertreff-in-wuerzburg-ab-sofort-sternbaeck-am-sternplatz.html
URL:https://www.jakobsweg.de/termin/pilgertreff-in-wuerzburg-34/
END:VEVENT
BEGIN:VEVENT
DTSTART;TZID=Europe/Berlin:20260205T180000
DTEND;TZID=Europe/Berlin:20260205T200000
DTSTAMP:20260426T063713
CREATED:20241203T162932Z
LAST-MODIFIED:20250519T111429Z
UID:10000617-1770314400-1770321600@www.jakobsweg.de
SUMMARY:Pilger-Vesper
DESCRIPTION:In die­sem Abend­got­tes­dienst kön­nen sich Pilger/innen für ihre Rei­se seg­nen las­sen oder nach einer Pil­ger­rei­se mit Gebet und Gesän­gen (z.B. Kanons aus Tai­zé) lit­ur­gisch wie­der in den All­tag zurückkehren.\nJede/r ist herz­lich willkommen.\nDen Got­tes­dienst lei­ten Pas­to­rin Lisa Tsa­ng und das Pilgerteam.\nNach dem Got­tes­dienst blei­ben wir ger­ne zusam­men zum Pil­ger­mahl im Süd­schiff\, einen klei­nen Imbiss.
URL:https://www.jakobsweg.de/termin/pilger-vesper-in-der-hauptkirche-st-jacobi-18/
LOCATION:Hauptkirche St. Jacobi @ Jakobikirchhof 22\, 20095 Hamburg
CATEGORIES:Deutschland,Hamburg,Ort,Pilger Vesper
END:VEVENT
BEGIN:VEVENT
DTSTART;TZID=Europe/Berlin:20260205T180000
DTEND;TZID=Europe/Berlin:20260205T200000
DTSTAMP:20260426T063713
CREATED:20250520T112926Z
LAST-MODIFIED:20260205T173512Z
UID:10000981-1770314400-1770321600@www.jakobsweg.de
SUMMARY:Pilger-Vesper
DESCRIPTION:In diesem Abendgottesdienst können sich Pilger/innen für ihre Reise segnen lassen oder nach einer Pilgerreise mit Gebet und Gesängen (z.B. Kanons aus Taizé) liturgisch wieder in den Alltag zurückkehren.\nJede/r ist herzlich willkommen.\nDen Gottesdienst leiten Pilgerpastor Frank Karpa und das Pilgerteam.\nNach dem Gottesdienst bleiben wir gerne zusammen zum Pilgermahl im Südschiff\, einen kleinen Imbiss.
URL:https://www.jakobsweg.de/termin/pilger-vesper-6/
LOCATION:Hauptkirche St. Jacobi @ Jakobikirchhof 22\, 20095 Hamburg
CATEGORIES:Deutschland,Hamburg,Ort,Pilger Vesper
END:VEVENT
BEGIN:VEVENT
DTSTART;VALUE=DATE:20260206
DTEND;VALUE=DATE:20260207
DTSTAMP:20260426T063713
CREATED:20241001T125949Z
LAST-MODIFIED:20260206T202008Z
UID:10000330-1770336000-1770422399@www.jakobsweg.de
SUMMARY:Pilgerstammtisch Volkach
DESCRIPTION:Pilgerstammtisch Volkach im Gasthof Rosejeweils erster Freitag im Monat von 16:00 bis 18:00 UhrAnsprechpartner ma-zentgraf@t-online.de 
URL:https://www.jakobsweg.de/termin/pilgerstammtisch-volkach-17/
LOCATION:Weingasthof Rose\, Oberer Markt 7\, 97332 Volkach\, Deutschland
END:VEVENT
BEGIN:VEVENT
DTSTART;VALUE=DATE:20260206
DTEND;VALUE=DATE:20260207
DTSTAMP:20260426T063713
CREATED:20241001T125950Z
LAST-MODIFIED:20260206T202008Z
UID:10000331-1770336000-1770422399@www.jakobsweg.de
SUMMARY:Pilgerstammtisch Bayreuth
DESCRIPTION:Pilgerstammtisch Bayreuth \nGlenk-Garten\, Eichelweg 12\, oder Bräustüberl\, Eichelweg 10 (je nach Witterung) \nJeweils erster Freitag im Monat 18-20 Uhr
URL:https://www.jakobsweg.de/termin/pilgerstammtisch-bayreuth-17/
END:VEVENT
BEGIN:VEVENT
DTSTART;TZID=Europe/Berlin:20260206T081500
DTEND;TZID=Europe/Berlin:20260206T091500
DTSTAMP:20260426T063713
CREATED:20250718T200622Z
LAST-MODIFIED:20260131T122011Z
UID:10001097-1770365700-1770369300@www.jakobsweg.de
SUMMARY:Auf den Weg gesandt - Pilgersegnung
DESCRIPTION:Pilgersegnung
URL:https://www.jakobsweg.de/termin/auf-den-weg-gesandt-pilgersegnung-5/
LOCATION:München: Spirituelles Zentrum St. Martin
END:VEVENT
BEGIN:VEVENT
DTSTART;VALUE=DATE:20260207
DTEND;VALUE=DATE:20260208
DTSTAMP:20260426T063713
CREATED:20251203T172026Z
LAST-MODIFIED:20260207T173513Z
UID:10001363-1770422400-1770508799@www.jakobsweg.de
SUMMARY:ACHTUNG! FÄLLT AUS! Tagespilgertour rund um Bad Schwartau 15 km
DESCRIPTION:Eine heutige (02.02.2026) Überprüfung der Strecke hat ergeben: Im jetzigen Zustand ungeeignet für unsere Pilgergruppe. Die Wettervorhersage lässt bis Samstag eine weitere Verschärfung erwarten. Daher sagen wir die Tour sicherheitshalber witterungsbedingt ab!\nUm 09:30 Uhr treffen wir uns am ZOB/Bahnhof Plön. Mit der Bahn fahren wir um 09:45 Uhr nach Bad Schwartau (Ankunft 10:25 Uhr). Dort starten wir unsere 15 km lange\, impulsreiche Pilgerwanderung „Stadt-Land-Fluss“. Pilgerführung: Detlef Hennemann. Impulse: Hans-Peter Meier.                      Rückfahrt ca. 15:12/15:33 Uhr.\nUnsere Tagespilgertouren unternehmen wir bereits seit April 2018 an jedem ersten Samstag im Monat.\nSeit Oktober 2025 kooperieren wir in Sachen Pilgern mit der Ev.-Luth. Kirchengemeinde Preetz.  Pilgerführer Detlef Hennemann\, 0176 47322455\, unterstützt unsere Tagespilgertouren.
URL:https://www.jakobsweg.de/termin/tagespilgertour-rund-um-bad-schwartau-15-km/
LOCATION:Ev.-Luth. Friedenskirchengemeinde Plön @ Markt 25\, 24306 Plön
CATEGORIES:Tagestour
END:VEVENT
BEGIN:VEVENT
DTSTART;TZID=Europe/Berlin:20260207T150000
DTEND;TZID=Europe/Berlin:20260207T163000
DTSTAMP:20260426T063713
CREATED:20251028T180551Z
LAST-MODIFIED:20260206T173512Z
UID:10001223-1770476400-1770481800@www.jakobsweg.de
SUMMARY:Winterpilgern 2025/2026 | gemeinsam begleitet Pilgern im Stadtpark
DESCRIPTION:Informationen zum Pilgerweg\nZwischen Oktober und April findet die monatliche geführte Pilgerwanderung durch den Hamburger Stadtpark immer an jedem ersten Samstag statt.\nTreffpunkt: 15:00 Uhr an der Straßenkreuzung Borgweg/Südring/Otto-Wels-Straße.\nEine Anmeldung hierfür ist nicht erforderlich\n 
URL:https://www.jakobsweg.de/termin/winterpilgern-2025-2026-gemeinsam-begleitet-pilgern-im-stadtpark-4/
LOCATION:Kreuzung Borgweg/Südring @ Hamburg
CATEGORIES:Deutschland,Hamburg,Tagestour
END:VEVENT
BEGIN:VEVENT
DTSTART;TZID=Europe/Berlin:20260209T190000
DTEND;TZID=Europe/Berlin:20260209T210000
DTSTAMP:20260426T063713
CREATED:20241001T125600Z
LAST-MODIFIED:20260207T120519Z
UID:10000176-1770663600-1770670800@www.jakobsweg.de
SUMMARY:(NOP) Göllheimer Pilgerstammtisch
DESCRIPTION:Nordpfälzer Pilgerstammtisch Göllheim \nWir treffen uns immer am zweiten Montag im Monat um 19:00h im prot. Gemeindehaus\, Haupstr. 39\, 67307 Göllheim\, zu einer gemütlichen Runde. Erfahrungen und Neuigkeiten werden hier bei leckerem Pilgerbuffett (jeder bringt etwas mit) ausgetauscht. Es gibt auch Bildvorträge über Caminoerfahrungen. Eingeladen sind alle Pilgerinteressierte\, egal ob “alte Hasen” oder Neupilger. Anmeldung erwünscht. \n  \n  \nInfo und Anmeldung bei Olaf Kern\, info@olaf-kern.de oder 0157 88488 147
URL:https://www.jakobsweg.de/termin/nop-goellheimer-pilgerstammtisch-17/
LOCATION:Hauptstraße 39\, 67307 Göllheim\, Deutschland
END:VEVENT
BEGIN:VEVENT
DTSTART;TZID=Europe/Berlin:20260210T170000
DTEND;TZID=Europe/Berlin:20260210T193000
DTSTAMP:20260426T063713
CREATED:20241001T125602Z
LAST-MODIFIED:20260207T120519Z
UID:10000178-1770742800-1770751800@www.jakobsweg.de
SUMMARY:Mainzer Pilgertreff
DESCRIPTION:Mainzer Pilgertreff 2022\nOrt: 55116 Mainz\, Gaustr. 2\, im Restaurant “Gautor”\, Raum: Eiscafé  \nTermine – in jedem geraden Monat am 2. Dienstag\, immer  ab 17 Uhr \n  \n \nOrganisator:
URL:https://www.jakobsweg.de/termin/mainzer-pilgertreff-10/
LOCATION:Gautor Restaurant\, Gaustraße 2\, 55116 Mainz\, Deutschland
END:VEVENT
BEGIN:VEVENT
DTSTART;TZID=Europe/Berlin:20260210T190000
DTEND;TZID=Europe/Berlin:20260210T220000
DTSTAMP:20260426T063713
CREATED:20241001T125601Z
LAST-MODIFIED:20250422T154413Z
UID:10000177-1770750000-1770760800@www.jakobsweg.de
SUMMARY:(BOS) Bliesgau/Obere Saar Stammtisch
DESCRIPTION:Pfarrsaal des Gemeindezentrums St. JakobKeplerstr. 1366115 Saarbrücken – Alt-Saarbrücken statt. Beginn ist jeweils 19 Uhr. \nDer Stammtisch verläuft in der Regel folgendermaßen:  \n\nZunächst informiert der Sprecher der Regionalgruppe über die neuesten Nachrichten aus der Region und aus der Gesellschaft. Dann kommt ein kurzer Bericht bzw. Austausch\, für den sich ein Mitglied verantwortlich erklärt hat\, zu Themen wie: Pilgerwege nah und fern; Pilgererfahrung; Bildbetrachtung; Grundsatzfragen: Was ist Pilgern? Warum Santiago? usw.\n\nDer Stammtisch setzt sich mit einem zwangslosen Gespräch fort – bei einem Glas Bier\, Wein…\nAm Anfang des Monats wird per E-Mail an den Termin erinnert und über das Thema informiert.\nWer diese Information erhalten möchte\, wende sich an\n\n\n\nVolker Arnold\nBergstr.1B\n66128 Saarbrücken\nTel.: 0681-700 386\nvolkerarnold(at)online.de\n \n http://www.jakobusgesellschaft.eu/regionalgruppen/bliesgauobere-saar/
URL:https://www.jakobsweg.de/termin/bos-bliesgau-obere-saar-stammtisch-17/
LOCATION:Keplerstraße 13\, 66117 Saarbrücken\, Deutschland
END:VEVENT
BEGIN:VEVENT
DTSTART;TZID=Europe/Berlin:20260210T190000
DTEND;TZID=Europe/Berlin:20260210T220000
DTSTAMP:20260426T063713
CREATED:20250429T154346Z
LAST-MODIFIED:20260207T120519Z
UID:10000914-1770750000-1770760800@www.jakobsweg.de
SUMMARY:(SAL) Saarland Stammtisch
DESCRIPTION:Pfarrsaal des Gemeindezentrums St. JakobKeplerstr. 1366115 Saarbrücken – Alt-Saarbrücken statt. Beginn ist jeweils 19 Uhr. \nDer Stammtisch verläuft in der Regel folgendermaßen:  \n\nZunächst informiert der Sprecher der Regionalgruppe über die neuesten Nachrichten aus der Region und aus der Gesellschaft. Dann kommt ein kurzer Bericht bzw. Austausch\, für den sich ein Mitglied verantwortlich erklärt hat\, zu Themen wie: Pilgerwege nah und fern; Pilgererfahrung; Bildbetrachtung; Grundsatzfragen: Was ist Pilgern? Warum Santiago? usw.\n\nDer Stammtisch setzt sich mit einem zwangslosen Gespräch fort – bei einem Glas Bier\, Wein…\nAm Anfang des Monats wird per E-Mail an den Termin erinnert und über das Thema informiert.\nWer diese Information erhalten möchte\, wende sich an\n\n\n\nVolker Arnold\nBergstr.1B\n66128 Saarbrücken\nTel.: 0681-700 386\nvolkerarnold(at)online.de\n \n http://www.jakobusgesellschaft.eu/regionalgruppen/bliesgauobere-saar/
URL:https://www.jakobsweg.de/termin/sal-saarland-stammtisch-10/
LOCATION:Keplerstraße 13\, 66117 Saarbrücken\, Deutschland
END:VEVENT
BEGIN:VEVENT
DTSTART;TZID=Europe/Berlin:20260213T180000
DTEND;TZID=Europe/Berlin:20260213T180000
DTSTAMP:20260426T063713
CREATED:20250917T105102Z
LAST-MODIFIED:20260212T195015Z
UID:10001175-1771005600-1771005600@www.jakobsweg.de
SUMMARY:15 Jahre „Schweigend um die Alster“
DESCRIPTION:
URL:https://www.jakobsweg.de/termin/15-jahre-schweigend-um-die-alster/
LOCATION:Pilgerwegweiser an der Hauptkirche St. Jacobi @ Jakobikirchhof 22\, 20095 Hamburg
CATEGORIES:Deutschland,Hamburg,Ort,Tagestour
END:VEVENT
BEGIN:VEVENT
DTSTART;TZID=Europe/Berlin:20260213T180000
DTEND;TZID=Europe/Berlin:20260213T203000
DTSTAMP:20260426T063713
CREATED:20241001T115651Z
LAST-MODIFIED:20260125T200512Z
UID:10000073-1771005600-1771014600@www.jakobsweg.de
SUMMARY:Schweigend um die Alster
DESCRIPTION:Informationen zum Pilgerweg\nStreckenbeschreibung:\nAbendliche Pilgerwanderung\nDauer: ca. 2\,5 Stunden\nKeine Anmeldung erforderlich\nDetails:\nVerstehen – durch Stille\nWirken – aus Stille\nGewinnen – in Stille\nKosten: Es entstehen keine Kosten.\n 
URL:https://www.jakobsweg.de/termin/schweigend-um-die-alster-17/
LOCATION:Pilgerwegweiser an der Hauptkirche St. Jacobi @ Jakobikirchhof 22\, 20095 Hamburg
CATEGORIES:Deutschland,Hamburg,Tagestour
END:VEVENT
BEGIN:VEVENT
DTSTART;TZID=Europe/Berlin:20260213T190000
DTEND;TZID=Europe/Berlin:20260213T200000
DTSTAMP:20260426T063713
CREATED:20250718T200622Z
LAST-MODIFIED:20260207T122011Z
UID:10001098-1771009200-1771012800@www.jakobsweg.de
SUMMARY:Warum Menschen Pilgern :: Spirituelle\, statistische und biographische Entdeckungen
DESCRIPTION:Einführungstag ins Pilgern für alle\, die sich neu Spirituelle\, statistische und biographische Entdeckungen den Weg machen wollen
URL:https://www.jakobsweg.de/termin/warum-menschen-pilgern-spirituelle-statistische-und-biographische-entdeckungen/
LOCATION:München: Evangelische Stadtakademie München
END:VEVENT
BEGIN:VEVENT
DTSTART;VALUE=DATE:20260214
DTEND;VALUE=DATE:20260216
DTSTAMP:20260426T063713
CREATED:20251107T175007Z
LAST-MODIFIED:20260213T183507Z
UID:10001300-1771030800-1771117199@www.jakobsweg.de
SUMMARY:Pilgern vor der Haustüre mit Ute\, abweichender Termin
DESCRIPTION:Utes Pilgerwanderungen finden in der Regel am dritten Samstag des Monats statt\, aber bitte auf mögliche\, abweichende Termine achten.\nIm Allgemeinen sind es Strecken mit moderater Wegführung von ca. 10 – 12 km mit einer anschließenden Einkehr.\nWanderung mit Besuch des SOS Friedensdorf in Oberhausen. Treffpunkt der Fußgruppe Düsseldorf Hauptbahnhof am Infostand 09.10 Uhr.\nAbfahrt 09.26 Uhr Gleis 7\,  RE 19 Richtung Arnheim\nAnkunft in Oberhausen-Holten 9.58 Uhr\nvon dort aus geht es unter Ute’s Führung zu Fuß zum Friedensdorf.\nAlternativ für die diekte Anreise per ÖPNV\,\nTreffpunkt Düsseldorf Hauptbahnhof 10.45 Uhr am Infostand\nAbfahrt 11.03 Uhr \, Gleis 17\,  RE 5 Richtung Wesel bis Oberhausen -Sterkrade\, an 11.29 Uhr.\nVor dem Bahnhof hält der Bus 954\, Bussteig 7\,\nRichtung Hirschkamp\, 11.53 Uhr\nan Friedensdorf 12.34 Uhr. Von der Haltestelle Friedensdorf nach rechts in die Pfeilstraße.  Treffpunkt mit der Fußgruppe am Holzpavillon. \nKosten: Eigene Anreise mit dem ÖPNV und Verzehr bei Teilnahme an der Einkehr.\nTeilnahme in eigener Verantwortung\, auf eigenem Risiko.\nDetails zu Ort\, Strecke\, Anreise und Treffpunkt werden rechtzeitig an dieser Stelle wie auch unter der WhatsApp-Gruppe: “Pilgerwanderungen Ute” bekannt gegeben.\nKontakt: Ute Schäfer\, Mobil: 01525/3504412\nWhatsApp-Gruppe: Pilgerwanderungen Ute
URL:https://www.jakobsweg.de/termin/pilgern-vor-der-haustuere-mit-ute-abweichender-termin-3/
END:VEVENT
BEGIN:VEVENT
DTSTART;TZID=Europe/Berlin:20260214T090000
DTEND;TZID=Europe/Berlin:20260214T100000
DTSTAMP:20260426T063713
CREATED:20260207T122011Z
LAST-MODIFIED:20260207T122011Z
UID:10001516-1771059600-1771063200@www.jakobsweg.de
SUMMARY:Samstags-Pilgern
DESCRIPTION:
URL:https://www.jakobsweg.de/termin/samstags-pilgern-5/
LOCATION:Augsburg: St. Paul
END:VEVENT
BEGIN:VEVENT
DTSTART;TZID=Europe/Berlin:20260214T093000
DTEND;TZID=Europe/Berlin:20260214T170000
DTSTAMP:20260426T063713
CREATED:20250725T200621Z
LAST-MODIFIED:20260214T122012Z
UID:10001116-1771061400-1771088400@www.jakobsweg.de
SUMMARY:Pilgern mit Herz - Die Veranstaltung ist im Moment AUSGEBUCHT\, man kann sich nur noch auf die Warteliste setzen lassen. :: Wegbegegnungen mit biblischen Liebesgeschichten auf dem MünchnerJakobsweg von Herrsching nach Schondorf
DESCRIPTION:Wegbegegnungen mit biblischen Liebesgeschichten auf dem Münchner Jakobsweg von Herrsching nach Schondorf
URL:https://www.jakobsweg.de/termin/zum-valentinstag-pilgern-mit-herz-wegbegegnungen-mit-biblischen-liebesgeschichten-auf-dem-muenchnerjakobsweg-von-herrsching-nach-schondorf/
LOCATION:München: Münchner Jakobsweg
END:VEVENT
BEGIN:VEVENT
DTSTART;TZID=Europe/Berlin:20260217T180000
DTEND;TZID=Europe/Berlin:20260217T190000
DTSTAMP:20260426T063713
CREATED:20250718T200622Z
LAST-MODIFIED:20260214T122012Z
UID:10001099-1771351200-1771354800@www.jakobsweg.de
SUMMARY:Pilgerstammtisch
DESCRIPTION:
URL:https://www.jakobsweg.de/termin/pilgerstammtisch-6/
LOCATION:München: Gasthaus Schinkenpeter
END:VEVENT
END:VCALENDAR