BEGIN:VCALENDAR
VERSION:2.0
PRODID:-//Jakobsweg.de - ECPv6.15.17.1//NONSGML v1.0//EN
CALSCALE:GREGORIAN
METHOD:PUBLISH
X-WR-CALNAME:Jakobsweg.de
X-ORIGINAL-URL:https://www.jakobsweg.de
X-WR-CALDESC:Veranstaltungen für Jakobsweg.de
REFRESH-INTERVAL;VALUE=DURATION:PT1H
X-Robots-Tag:noindex
X-PUBLISHED-TTL:PT1H
BEGIN:VTIMEZONE
TZID:Europe/Berlin
BEGIN:DAYLIGHT
TZOFFSETFROM:+0100
TZOFFSETTO:+0200
TZNAME:CEST
DTSTART:20250330T010000
END:DAYLIGHT
BEGIN:STANDARD
TZOFFSETFROM:+0200
TZOFFSETTO:+0100
TZNAME:CET
DTSTART:20251026T010000
END:STANDARD
BEGIN:DAYLIGHT
TZOFFSETFROM:+0100
TZOFFSETTO:+0200
TZNAME:CEST
DTSTART:20260329T010000
END:DAYLIGHT
BEGIN:STANDARD
TZOFFSETFROM:+0200
TZOFFSETTO:+0100
TZNAME:CET
DTSTART:20261025T010000
END:STANDARD
BEGIN:DAYLIGHT
TZOFFSETFROM:+0100
TZOFFSETTO:+0200
TZNAME:CEST
DTSTART:20270328T010000
END:DAYLIGHT
BEGIN:STANDARD
TZOFFSETFROM:+0200
TZOFFSETTO:+0100
TZNAME:CET
DTSTART:20271031T010000
END:STANDARD
BEGIN:DAYLIGHT
TZOFFSETFROM:+0100
TZOFFSETTO:+0200
TZNAME:CEST
DTSTART:20280326T010000
END:DAYLIGHT
BEGIN:STANDARD
TZOFFSETFROM:+0200
TZOFFSETTO:+0100
TZNAME:CET
DTSTART:20281029T010000
END:STANDARD
END:VTIMEZONE
BEGIN:VEVENT
DTSTART;TZID=Europe/Berlin:20260313T180000
DTEND;TZID=Europe/Berlin:20270527T193000
DTSTAMP:20260426T063713
CREATED:20241001T115652Z
LAST-MODIFIED:20260325T092244Z
UID:10000074-1773424800-1811446200@www.jakobsweg.de
SUMMARY:Schweigend um die Alster
DESCRIPTION:Informationen zum Pilgerweg\nStreckenbeschreibung:\nAbendliche Pilgerwanderung\nDauer: ca. 2\,5 Stunden\nKeine Anmeldung erforderlich\nDetails:\nVerstehen – durch Stille\nWirken – aus Stille\nGewinnen – in Stille\nKosten: Es entstehen keine Kosten.\n 
URL:https://www.jakobsweg.de/termin/schweigend-um-die-alster-18/
LOCATION:Pilgerwegweiser an der Hauptkirche St. Jacobi @ Jakobikirchhof 22\, 20095 Hamburg
CATEGORIES:Deutschland,Hamburg,Tagestour
END:VEVENT
BEGIN:VEVENT
DTSTART;TZID=Europe/Berlin:20260313T180000
DTEND;TZID=Europe/Berlin:20270527T203000
DTSTAMP:20260426T063713
CREATED:20250917T105102Z
LAST-MODIFIED:20260325T092326Z
UID:10001176-1773424800-1811449800@www.jakobsweg.de
SUMMARY:Schweigend um die Alster
DESCRIPTION:Informationen zum Pilgerweg\nStreckenbeschreibung:\nAbendliche Pilgerwanderung\nDauer: ca. 2\,5 Stunden\nKeine Anmeldung erforderlich\nDetails:\nVerstehen – durch Stille\nWirken – aus Stille\nGewinnen – in Stille\nKosten: Es entstehen keine Kosten.\n 
URL:https://www.jakobsweg.de/termin/schweigend-um-die-alster-26/
LOCATION:Pilgerwegweiser an der Hauptkirche St. Jacobi @ Jakobikirchhof 22\, 20095 Hamburg
CATEGORIES:Deutschland,Hamburg,Tagestour
END:VEVENT
BEGIN:VEVENT
DTSTART;TZID=Europe/Berlin:20260314T180000
DTEND;TZID=Europe/Berlin:20270528T193000
DTSTAMP:20260426T063713
CREATED:20260126T202046Z
LAST-MODIFIED:20260126T202046Z
UID:10001477-1773511200-1811532600@www.jakobsweg.de
SUMMARY:Schweigend um die Alster
DESCRIPTION:Informationen zum Pilgerweg\nStreckenbeschreibung:\nAbendliche Pilgerwanderung\nDauer: ca. 2\,5 Stunden\nKeine Anmeldung erforderlich\nDetails:\nVerstehen – durch Stille\nWirken – aus Stille\nGewinnen – in Stille\nKosten: Es entstehen keine Kosten.\n 
URL:https://www.jakobsweg.de/termin/schweigend-um-die-alster-39/
LOCATION:Pilgerwegweiser an der Hauptkirche St. Jacobi @ Jakobikirchhof 22\, 20095 Hamburg
CATEGORIES:Deutschland,Hamburg,Tagestour
END:VEVENT
BEGIN:VEVENT
DTSTART;TZID=Europe/Berlin:20260410T180000
DTEND;TZID=Europe/Berlin:20270624T193000
DTSTAMP:20260426T063713
CREATED:20241001T115653Z
LAST-MODIFIED:20260325T092247Z
UID:10000075-1775844000-1813865400@www.jakobsweg.de
SUMMARY:Schweigend um die Alster
DESCRIPTION:Informationen zum Pilgerweg\nStreckenbeschreibung:\nAbendliche Pilgerwanderung\nDauer: ca. 2\,5 Stunden\nKeine Anmeldung erforderlich\nDetails:\nVerstehen – durch Stille\nWirken – aus Stille\nGewinnen – in Stille\nKosten: Es entstehen keine Kosten.\n 
URL:https://www.jakobsweg.de/termin/schweigend-um-die-alster-19/
LOCATION:Pilgerwegweiser an der Hauptkirche St. Jacobi @ Jakobikirchhof 22\, 20095 Hamburg
CATEGORIES:Deutschland,Hamburg,Tagestour
END:VEVENT
BEGIN:VEVENT
DTSTART;TZID=Europe/Berlin:20260508T180000
DTEND;TZID=Europe/Berlin:20270722T193000
DTSTAMP:20260426T063713
CREATED:20241001T115654Z
LAST-MODIFIED:20260325T092305Z
UID:10000076-1778263200-1816284600@www.jakobsweg.de
SUMMARY:Schweigend um die Alster
DESCRIPTION:Informationen zum Pilgerweg\nStreckenbeschreibung:\nAbendliche Pilgerwanderung\nDauer: ca. 2\,5 Stunden\nKeine Anmeldung erforderlich\nDetails:\nVerstehen – durch Stille\nWirken – aus Stille\nGewinnen – in Stille\nKosten: Es entstehen keine Kosten.\n 
URL:https://www.jakobsweg.de/termin/schweigend-um-die-alster-20/
LOCATION:Pilgerwegweiser an der Hauptkirche St. Jacobi @ Jakobikirchhof 22\, 20095 Hamburg
CATEGORIES:Deutschland,Hamburg,Tagestour
END:VEVENT
BEGIN:VEVENT
DTSTART;VALUE=DATE:20260520
DTEND;VALUE=DATE:20261004
DTSTAMP:20260426T063713
CREATED:20260307T142150Z
LAST-MODIFIED:20260425T154010Z
UID:10001625-1779235200-1791071999@www.jakobsweg.de
SUMMARY:Auf dem Jakobsweg von Oettingen zum Bodensee - Inklusive Pilgerwanderung :: Frühjahr 2026 - Herbst 2027
DESCRIPTION:Frühjahr 2026 – Herbst 2027
URL:https://www.jakobsweg.de/termin/auf-dem-jakobsweg-von-oettingen-zum-bodensee-inklusive-pilgerwanderung-fruehjahr-2026-herbst-2027/
LOCATION:Oettingen: Offene Hilfen Oettingen
END:VEVENT
BEGIN:VEVENT
DTSTART;VALUE=DATE:20260601
DTEND;VALUE=DATE:20260603
DTSTAMP:20260426T063713
CREATED:20251107T175017Z
LAST-MODIFIED:20260420T145008Z
UID:10001309-1780279200-1780365599@www.jakobsweg.de
SUMMARY:Monatlicher Pilgertreff Düsseldorf
DESCRIPTION:Der traditionelle\, monatliche Pilgertreff der Jakobuspilger in und um Düsseldorf\, findet im Allgemeinen jeweils am ersten Montag des Monats um 19.00 Uhr statt.\nBitte gegebenenfalls auf Ausnahmen achten\, wenn z.B. der erste Montag ein Feiertag ist\, findet das Treffen am folgenden Montag statt!\nWir treffen uns in der Düsseldorfer Altstadt im Restaurant “El Amigo” in der Schneider-Wibbel-Gasse 9\, im ersten Obergeschoss.\nModeration: Wolfgang Bankamp\nThema des Abends folgt später\nPilgermesse und Pilgersegen\nVor dem Stammtisch besteht die Möglichkeit\, jeweils am ersten Montag des Monats um 18:00 Uhr in der St. Andreas-Kirche in der Düsseldorfer Altstadt eine Pilgermesse zu besuchen.\nWer sich auf den Weg\, den Camino\, begeben möchte kann hier den Pilgersegen empfangen. Anmeldungen hierzu bitte bei:  Susanne Storm-Sammeck\, Mobil 0173/7040480.\nBitte gegebenenfalls auf Ausnahmen achten\, wenn z.B. der erste Montag ein Feiertag ist\, findet die Pilgermesse am folgenden Montag statt! Aktuelle Informationen zur Pilgermesse werden auch auf der Internet-Seite der Dominikaner unter  https://dominikaner-duesseldorf.de/gebet-gottesdienst/ veröffentlicht.
URL:https://www.jakobsweg.de/termin/monatlicher-pilgertreff-duesseldorf-5/
END:VEVENT
BEGIN:VEVENT
DTSTART;TZID=Europe/Berlin:20260601T190000
DTEND;TZID=Europe/Berlin:20260601T210000
DTSTAMP:20260426T063713
CREATED:20241001T125611Z
LAST-MODIFIED:20260421T120518Z
UID:10000193-1780340400-1780347600@www.jakobsweg.de
SUMMARY:(RHH) Wormser Pilgertreff
DESCRIPTION:Haus am Dom\, 67547 Worms\, Domplatz 3 (Eingang Rückseite – Kreuzgang) Anmeldung erbeten bei:  \nRobert De Taey\nApostelbräustr. 14\n67549 Worms\nTel.:+4917610052727\nrobert@detaey.de
URL:https://www.jakobsweg.de/termin/rhh-wormser-pilgertreff-22/
LOCATION:Haus am Dom\, Domplatz 3\, 67547 Worms\, Deutschland
END:VEVENT
BEGIN:VEVENT
DTSTART;VALUE=DATE:20260602
DTEND;VALUE=DATE:20260603
DTSTAMP:20260426T063713
CREATED:20241001T130007Z
LAST-MODIFIED:20260420T120523Z
UID:10000355-1780358400-1780444799@www.jakobsweg.de
SUMMARY:Pilgertreff St. Martin in München
DESCRIPTION:
URL:https://www.jakobsweg.de/termin/pilgertreff-st-martin-in-muenchen-21/
END:VEVENT
BEGIN:VEVENT
DTSTART;VALUE=DATE:20260603
DTEND;VALUE=DATE:20260604
DTSTAMP:20260426T063713
CREATED:20241001T130008Z
LAST-MODIFIED:20241029T132936Z
UID:10000356-1780444800-1780531199@www.jakobsweg.de
SUMMARY:Pilgerstammtisch in Nürnberg
DESCRIPTION:Pilgerstammtisch in Nürnbergum 17.30 Uhr Andacht in der Jakobskircheab 18.00 Uhr Stammtisch im Gasthof SteicheleNürnberg\, Knorrstr. 2
URL:https://www.jakobsweg.de/termin/pilgerstammtisch-in-nuernberg-22/
END:VEVENT
BEGIN:VEVENT
DTSTART;VALUE=DATE:20260603
DTEND;VALUE=DATE:20260604
DTSTAMP:20260426T063713
CREATED:20241105T134439Z
LAST-MODIFIED:20251103T123609Z
UID:10000546-1780444800-1780531199@www.jakobsweg.de
SUMMARY:Pilgerstammtisch in Nürnberg
DESCRIPTION:Pilgerstammtisch in Nürnbergum 17.30 Uhr Andacht in der Jakobskircheab 18.00 Uhr Stammtisch im Gasthof SteicheleNürnberg\, Knorrstr. 2
URL:https://www.jakobsweg.de/termin/pilgerstammtisch-in-nuernberg-40/
END:VEVENT
BEGIN:VEVENT
DTSTART;VALUE=DATE:20260603
DTEND;VALUE=DATE:20260604
DTSTAMP:20260426T063713
CREATED:20251106T000545Z
LAST-MODIFIED:20260420T120524Z
UID:10001270-1780444800-1780531199@www.jakobsweg.de
SUMMARY:Pilgerstammtisch in Nürnberg
DESCRIPTION:Pilgerstammtisch in Nürnbergum 17.30 Uhr Andacht in der Jakobskirche ab 18.00 Uhr Stammtisch im Gasthof SteicheleNürnberg\, Knorrstr. 2 \nAnmeldung erforderlich: jakobspilgerstammtisch-Nuernberg@gmx.depilgerstammtisch-nbg@liwanetz.de
URL:https://www.jakobsweg.de/termin/pilgerstammtisch-in-nuernberg-63/
END:VEVENT
BEGIN:VEVENT
DTSTART;VALUE=DATE:20260604
DTEND;VALUE=DATE:20260605
DTSTAMP:20260426T063713
CREATED:20250520T171436Z
LAST-MODIFIED:20251027T122107Z
UID:10000999-1780531200-1780617599@www.jakobsweg.de
SUMMARY:Pilgertreff in Würzburg
DESCRIPTION:Endlich wieder ein Pilgertreff in Würzburg  \nAb Juni treffen sich Jakobuspilger am 1. Donnerstag im Monat zu gemütlichem Beisammensein\, bei Speis und Trank\, zu Erfahrungsaustausch\, um sich kennenzulernen\, um Gemeinschaft zu pflegen und um Neues zu hören aus der Welt der Pilgerinnen und Pilger.  \nInteressierte Jakobspilger und solche die es werden wollen\, sind hier genau richtig und herzlich willkommen. \nWann: jeden 1.  Donnerstag\, ab 05. Juni\, ab 18 Uhr \nWo: Würzburg\, Jahnterrasse Dreikronenstr. 2 direkt am Jakobsweg 
URL:https://www.jakobsweg.de/termin/pilgertreff-in-wuerzburg-14/
END:VEVENT
BEGIN:VEVENT
DTSTART;VALUE=DATE:20260604
DTEND;VALUE=DATE:20260605
DTSTAMP:20260426T063713
CREATED:20251103T123609Z
LAST-MODIFIED:20260420T120523Z
UID:10001245-1780531200-1780617599@www.jakobsweg.de
SUMMARY:Pilgertreff in Würzburg
DESCRIPTION:Endlich wieder ein Pilgertreff in Würzburg  \nAb Juni treffen sich Jakobuspilger am 1. Donnerstag im Monat zu gemütlichem Beisammensein\, bei Speis und Trank\, zu Erfahrungsaustausch\, um sich kennenzulernen\, um Gemeinschaft zu pflegen und um Neues zu hören aus der Welt der Pilgerinnen und Pilger.  \nInteressierte Jakobspilger und solche die es werden wollen\, sind hier genau richtig und herzlich willkommen. \nEinzelheiten können dem link in Details entnommen werden \nhttps://www.jakobus-franken.de/nachrichten-details/news/pilgertreff-in-wuerzburg-ab-sofort-sternbaeck-am-sternplatz.html
URL:https://www.jakobsweg.de/termin/pilgertreff-in-wuerzburg-38/
END:VEVENT
BEGIN:VEVENT
DTSTART;VALUE=DATE:20260604
DTEND;VALUE=DATE:20260608
DTSTAMP:20260426T063713
CREATED:20251228T132057Z
LAST-MODIFIED:20260425T153952Z
UID:10001420-1780531200-1780876799@www.jakobsweg.de
SUMMARY:Gehen - Trauern - Wandeln: Pilgern für Trauernde :: Auf dem Voralpinen Jakobsweg von Beuerberg zum Kloster Rottenbuch
DESCRIPTION:
URL:https://www.jakobsweg.de/termin/gehen-trauern-wandeln-pilgern-fuer-trauernde-auf-dem-voralpinen-jakobsweg-von-beuerberg-zum-kloster-rottenbuch/
LOCATION:München: Jakobsweg
END:VEVENT
BEGIN:VEVENT
DTSTART;VALUE=DATE:20260604
DTEND;VALUE=DATE:20260610
DTSTAMP:20260426T063713
CREATED:20251207T120550Z
LAST-MODIFIED:20260228T140720Z
UID:10001384-1780531200-1781049599@www.jakobsweg.de
SUMMARY:Auf dem Jakobsweg durch die Schweiz: Pilgertour von Sachseln nach Thun
DESCRIPTION:
URL:https://www.jakobsweg.de/termin/auf-dem-jakobsweg-durch-die-schweiz-pilgertour-von-sachseln-nach-thun/
LOCATION:: Ohne Ort
END:VEVENT
BEGIN:VEVENT
DTSTART;VALUE=DATE:20260605
DTEND;VALUE=DATE:20260606
DTSTAMP:20260426T063713
CREATED:20241001T130009Z
LAST-MODIFIED:20260420T120525Z
UID:10000357-1780617600-1780703999@www.jakobsweg.de
SUMMARY:Pilgerstammtisch Bayreuth
DESCRIPTION:Pilgerstammtisch Bayreuth \nGlenk-Garten\, Eichelweg 12\, oder Bräustüberl\, Eichelweg 10 (je nach Witterung) \nJeweils erster Freitag im Monat 18-20 Uhr
URL:https://www.jakobsweg.de/termin/pilgerstammtisch-bayreuth-21/
END:VEVENT
BEGIN:VEVENT
DTSTART;VALUE=DATE:20260605
DTEND;VALUE=DATE:20260606
DTSTAMP:20260426T063713
CREATED:20241001T130009Z
LAST-MODIFIED:20260420T120525Z
UID:10000358-1780617600-1780703999@www.jakobsweg.de
SUMMARY:Pilgerstammtisch Volkach
DESCRIPTION:Pilgerstammtisch Volkach im Gasthof Rosejeweils erster Freitag im Monat von 16:00 bis 18:00 UhrAnsprechpartner ma-zentgraf@t-online.de 
URL:https://www.jakobsweg.de/termin/pilgerstammtisch-volkach-21/
LOCATION:Weingasthof Rose\, Oberer Markt 7\, 97332 Volkach\, Deutschland
END:VEVENT
BEGIN:VEVENT
DTSTART;TZID=Europe/Berlin:20260605T081500
DTEND;TZID=Europe/Berlin:20260605T091500
DTSTAMP:20260426T063713
CREATED:20251228T132057Z
LAST-MODIFIED:20260425T153951Z
UID:10001419-1780647300-1780650900@www.jakobsweg.de
SUMMARY:Auf den Weg gesandt - Pilgersegnung
DESCRIPTION:Pilgersegnung
URL:https://www.jakobsweg.de/termin/auf-den-weg-gesandt-pilgersegnung-9/
LOCATION:München: Spirituelles Zentrum St. Martin
END:VEVENT
BEGIN:VEVENT
DTSTART;VALUE=DATE:20260606
DTEND;VALUE=DATE:20260607
DTSTAMP:20260426T063713
CREATED:20251203T172103Z
LAST-MODIFIED:20260325T092256Z
UID:10001368-1780704000-1780790399@www.jakobsweg.de
SUMMARY:Tagespilgertour Stadtgartenwanderweg Kiel2 Schulensee-Nordfriedhof 14 km
DESCRIPTION:Um 09:30 Uhr treffen wir uns am ZOB/Bahnhof Plön. Mit der Bahn fahren wir um 09:46 Uhr nach Kiel Hbf (Ankunft 10:16 Uhr).  Weiter geht es mit dem Bus nach Schulensee. Um 10:45 Uhr starten wir dort unsere 14 km lange\, impulsreiche Pilgerwanderung\, der 2. Etappe des Kieler Stadtgartenwanderweges. Die 3. und letzte bis nach Schilksee folgt im Juli 2026.                                                                                      Pilgerführung und Impulse: Hans-Peter Meier.\nRückfahrt: 15:43 Uhr Abfahrt Belvedere\, Kiel Busstg. A Bus 12 nach Kiel Hbf\nUnsere Tagespilgertouren unternehmen wir bereits seit April 2018 an jedem ersten Samstag im Monat.\nSeit Oktober 2025 kooperieren wir in Sachen Pilgern mit der Ev.-Luth. Kirchengemeinde Preetz.  Pilgerführer Detlef Hennemann\, 0176 47322455\, unterstützt unsere Tagespilgertouren.
URL:https://www.jakobsweg.de/termin/tagespilgertour-stadtgartenwanderweg-kiel2-schulensee-nordfriedhof-14-km/
LOCATION:Ev.-Luth. Friedenskirchengemeinde Plön @ Markt 25\, 24306 Plön
CATEGORIES:Tagestour
END:VEVENT
BEGIN:VEVENT
DTSTART;TZID=Europe/Berlin:20260608T190000
DTEND;TZID=Europe/Berlin:20260608T210000
DTSTAMP:20260426T063713
CREATED:20241001T125612Z
LAST-MODIFIED:20260421T120518Z
UID:10000194-1780945200-1780952400@www.jakobsweg.de
SUMMARY:(NOP) Göllheimer Pilgerstammtisch
DESCRIPTION:Nordpfälzer Pilgerstammtisch Göllheim \nWir treffen uns immer am zweiten Montag im Monat um 19:00h im prot. Gemeindehaus\, Haupstr. 39\, 67307 Göllheim\, zu einer gemütlichen Runde. Erfahrungen und Neuigkeiten werden hier bei leckerem Pilgerbuffett (jeder bringt etwas mit) ausgetauscht. Es gibt auch Bildvorträge über Caminoerfahrungen. Eingeladen sind alle Pilgerinteressierte\, egal ob “alte Hasen” oder Neupilger. Anmeldung erwünscht. \n  \n  \nInfo und Anmeldung bei Olaf Kern\, info@olaf-kern.de oder 0157 88488 147
URL:https://www.jakobsweg.de/termin/nop-goellheimer-pilgerstammtisch-21/
LOCATION:Hauptstraße 39\, 67307 Göllheim\, Deutschland
END:VEVENT
BEGIN:VEVENT
DTSTART;TZID=Europe/Berlin:20260609T170000
DTEND;TZID=Europe/Berlin:20260609T193000
DTSTAMP:20260426T063713
CREATED:20241001T125613Z
LAST-MODIFIED:20260421T120520Z
UID:10000196-1781024400-1781033400@www.jakobsweg.de
SUMMARY:Mainzer Pilgertreff
DESCRIPTION:Mainzer Pilgertreff 2022\nOrt: 55116 Mainz\, Gaustr. 2\, im Restaurant “Gautor”\, Raum: Eiscafé  \nTermine – in jedem geraden Monat am 2. Dienstag\, immer  ab 17 Uhr \n  \n \nOrganisator:
URL:https://www.jakobsweg.de/termin/mainzer-pilgertreff-12/
LOCATION:Gautor Restaurant\, Gaustraße 2\, 55116 Mainz\, Deutschland
END:VEVENT
BEGIN:VEVENT
DTSTART;TZID=Europe/Berlin:20260609T190000
DTEND;TZID=Europe/Berlin:20260609T220000
DTSTAMP:20260426T063713
CREATED:20241001T125613Z
LAST-MODIFIED:20250422T154446Z
UID:10000195-1781031600-1781042400@www.jakobsweg.de
SUMMARY:(BOS) Bliesgau/Obere Saar Stammtisch
DESCRIPTION:Pfarrsaal des Gemeindezentrums St. JakobKeplerstr. 1366115 Saarbrücken – Alt-Saarbrücken statt. Beginn ist jeweils 19 Uhr. \nDer Stammtisch verläuft in der Regel folgendermaßen:  \n\nZunächst informiert der Sprecher der Regionalgruppe über die neuesten Nachrichten aus der Region und aus der Gesellschaft. Dann kommt ein kurzer Bericht bzw. Austausch\, für den sich ein Mitglied verantwortlich erklärt hat\, zu Themen wie: Pilgerwege nah und fern; Pilgererfahrung; Bildbetrachtung; Grundsatzfragen: Was ist Pilgern? Warum Santiago? usw.\n\nDer Stammtisch setzt sich mit einem zwangslosen Gespräch fort – bei einem Glas Bier\, Wein…\nAm Anfang des Monats wird per E-Mail an den Termin erinnert und über das Thema informiert.\nWer diese Information erhalten möchte\, wende sich an\n\n\n\nVolker Arnold\nBergstr.1B\n66128 Saarbrücken\nTel.: 0681-700 386\nvolkerarnold(at)online.de\n \n http://www.jakobusgesellschaft.eu/regionalgruppen/bliesgauobere-saar/
URL:https://www.jakobsweg.de/termin/bos-bliesgau-obere-saar-stammtisch-21/
LOCATION:Keplerstraße 13\, 66117 Saarbrücken\, Deutschland
END:VEVENT
BEGIN:VEVENT
DTSTART;TZID=Europe/Berlin:20260609T190000
DTEND;TZID=Europe/Berlin:20260609T220000
DTSTAMP:20260426T063713
CREATED:20250429T154359Z
LAST-MODIFIED:20260421T120519Z
UID:10000918-1781031600-1781042400@www.jakobsweg.de
SUMMARY:(SAL) Saarland Stammtisch
DESCRIPTION:Pfarrsaal des Gemeindezentrums St. JakobKeplerstr. 1366115 Saarbrücken – Alt-Saarbrücken statt. Beginn ist jeweils 19 Uhr. \nDer Stammtisch verläuft in der Regel folgendermaßen:  \n\nZunächst informiert der Sprecher der Regionalgruppe über die neuesten Nachrichten aus der Region und aus der Gesellschaft. Dann kommt ein kurzer Bericht bzw. Austausch\, für den sich ein Mitglied verantwortlich erklärt hat\, zu Themen wie: Pilgerwege nah und fern; Pilgererfahrung; Bildbetrachtung; Grundsatzfragen: Was ist Pilgern? Warum Santiago? usw.\n\nDer Stammtisch setzt sich mit einem zwangslosen Gespräch fort – bei einem Glas Bier\, Wein…\nAm Anfang des Monats wird per E-Mail an den Termin erinnert und über das Thema informiert.\nWer diese Information erhalten möchte\, wende sich an\n\n\n\nVolker Arnold\nBergstr.1B\n66128 Saarbrücken\nTel.: 0681-700 386\nvolkerarnold(at)online.de\n \n http://www.jakobusgesellschaft.eu/regionalgruppen/bliesgauobere-saar/
URL:https://www.jakobsweg.de/termin/sal-saarland-stammtisch-14/
LOCATION:Keplerstraße 13\, 66117 Saarbrücken\, Deutschland
END:VEVENT
BEGIN:VEVENT
DTSTART;VALUE=DATE:20260612
DTEND;VALUE=DATE:20260615
DTSTAMP:20260426T063713
CREATED:20251221T120559Z
LAST-MODIFIED:20260425T153953Z
UID:10001401-1781222400-1781481599@www.jakobsweg.de
SUMMARY:Pilgertour von Ansbach nach Dinkelsbühl: 'Siehe ich mache alles neu'
DESCRIPTION:
URL:https://www.jakobsweg.de/termin/pilgertour-von-ansbach-nach-dinkelsbuehl-siehe-ich-mache-alles-neu/
LOCATION:: Ohne Ort
END:VEVENT
BEGIN:VEVENT
DTSTART;VALUE=DATE:20260612
DTEND;VALUE=DATE:20260616
DTSTAMP:20260426T063713
CREATED:20260416T000521Z
LAST-MODIFIED:20260425T123508Z
UID:10001701-1781229600-1781488799@www.jakobsweg.de
SUMMARY:Pilgern auf dem Hunsrücker Jakobsweg
DESCRIPTION:Teil 4: Abschluss-Etappen von Gräfendhron nach Trier\n(Nur für Mitglieder)
URL:https://www.jakobsweg.de/termin/pilgern-auf-dem-hunsruecker-jakobsweg/
END:VEVENT
BEGIN:VEVENT
DTSTART;TZID=Europe/Berlin:20260612T100000
DTEND;TZID=Europe/Berlin:20260614T170000
DTSTAMP:20260426T063713
CREATED:20260111T000511Z
LAST-MODIFIED:20260420T040511Z
UID:10001452-1781258400-1781456400@www.jakobsweg.de
SUMMARY:Pilgern auf der Heidenstraße
DESCRIPTION:Wir pilgern auf der Heidenstraße von Korbach nach Meinerzhagen.\nLiebe Pilgerfreunde\,\nin diesem Jahr wollen wir auf der Heidenstraße pilgern\, die im Mittelalter von Köln bis nach Leipzig führte.\nPilgerführer: Karl-Rudolf Böttcher. Der Weg kann wie folgt eingesehen werden:\nJakobsweg Heidenstraße: Korbach -Meinerzhagen • PiSlgerweg » outdooractive.com\nli.: Südportal von St. Kilian Korbach\n \nre.: Meinerzhagener Kirche\n \n \n \nWeitere Einzelheiten sind hier abrufbar. Anfragen zu diesem Abschnitt sind zu richten an:\nkarl-rudolf.boettcher@jakobusfreunde-paderborn.com\n 
URL:https://www.jakobsweg.de/termin/pilgern-auf-der-heidenstrasse-2/
LOCATION:Herz-Jesu-Kirche Gleidorf\, Dorfmitte Gleidorf\, Schmallenberg\, 57392\, Germany
CATEGORIES:Pilgerwanderung
ORGANIZER;CN="Jakobusfreunde Paderborn":MAILTO:info@jakobusfreunde-paderborn.com
END:VEVENT
BEGIN:VEVENT
DTSTART;TZID=Europe/Berlin:20260612T180000
DTEND;TZID=Europe/Berlin:20270826T193000
DTSTAMP:20260426T063713
CREATED:20241001T115654Z
LAST-MODIFIED:20260325T092302Z
UID:10000077-1781287200-1819308600@www.jakobsweg.de
SUMMARY:Schweigend um die Alster
DESCRIPTION:Informationen zum Pilgerweg\nStreckenbeschreibung:\nAbendliche Pilgerwanderung\nDauer: ca. 2\,5 Stunden\nKeine Anmeldung erforderlich\nDetails:\nVerstehen – durch Stille\nWirken – aus Stille\nGewinnen – in Stille\nKosten: Es entstehen keine Kosten.\n 
URL:https://www.jakobsweg.de/termin/schweigend-um-die-alster-21/
LOCATION:Pilgerwegweiser an der Hauptkirche St. Jacobi @ Jakobikirchhof 22\, 20095 Hamburg
CATEGORIES:Deutschland,Hamburg,Tagestour
END:VEVENT
BEGIN:VEVENT
DTSTART;VALUE=DATE:20260613
DTEND;VALUE=DATE:20260615
DTSTAMP:20260426T063713
CREATED:20260213T183513Z
LAST-MODIFIED:20260420T145009Z
UID:10001563-1781316000-1781402399@www.jakobsweg.de
SUMMARY:Pilgern vor der Haustüre mit Ute\, abweichender Termin\, Raum Hilden - Gruiten
DESCRIPTION:Utes Pilgerwanderungen finden in der Regel am dritten Samstag des Monats statt\, aber bitte auf mögliche\, abweichende Termine achten.\nIm Allgemeinen sind es Strecken mit moderater Wegführung von ca. 10 – 12 km mit einer anschließenden Einkehr.\nKosten: Eigene Anreise mit dem ÖPNV und Verzehr bei Teilnahme an der Einkehr.\nDetails zu Ort\, Strecke\, Anreise und Treffpunkt werden rechtzeitig an dieser Stelle wie auch unter der WhatsApp-Gruppe: “Pilgerwanderungen Ute” bekannt gegeben.\nKontakt: Ute Schäfer\, Mobil: 01525/3504412\nWhatsApp-Gruppe: Pilgerwanderungen Ute
URL:https://www.jakobsweg.de/termin/pilgern-vor-der-haustuere-mit-ute-abweichender-termin-raum-hilden-gruiten/
END:VEVENT
BEGIN:VEVENT
DTSTART;TZID=Europe/Berlin:20260613T090000
DTEND;TZID=Europe/Berlin:20260613T090000
DTSTAMP:20260426T063713
CREATED:20251229T195107Z
LAST-MODIFIED:20260325T092257Z
UID:10001434-1781341200-1781341200@www.jakobsweg.de
SUMMARY:Pilgerweg „Jacobusweg Lüneburger Heide“ | 1 Übernachtung
DESCRIPTION:Samstag\, 13. Juni 2026\nWir treffen uns am Bahnhof Buchholz\, fahren gemeinsam mit der Bahn nach Schneverdingen und gehen zur Eine-Welt-Kirche. Hier bekommen wir eine Führung. Anschließend pilgern wir zum Museumsdorf Wilsede (17 km). Dort beziehen wir unsere Zimmer und nach einem gemeinsamen Abendessen feiern wir in der Andachtskapelle das Nachtgebet.\n \nSonntag\, 14. Juni 2026\nNach dem Morgengebet und dem Frühstück besichtigen das Heidemuseum. Anschließend machen wir uns auf den Weg nach Dierkshausen (17 km) und fahren von dort mit dem Bus nach Buchholz\, wo unser Pilgerweg endet.\nDie An- und Abreise organisiert jede/r Teilnehmer/in selbst.\nWeitere Hinweise zu möglichen Ankunfts– und Abfahrtsverbindungen mit öffentlichen Verkehrsmitteln\, sowie zum Treffpunkt und Zielort\, werden rechtzeitig vor Beginn des Wochenendes mitgeteilt.\n \nUnterkunft und Verpflegung:\nWir übernachten im autofreien Naturschutzgebiet Wilsede. In allen Häusern gilt striktes Rauchverbot.\nUnser Haus ist eine reetgedeckte Kate im Jugendherbergsstil. Die Mehrbettzimmer sind mit einer Waschgelegenheit ausgestattet. Bettwäsche und Handtücher sind vorhanden. Die Duschen und WC´s befinden sich auf dem Flur. Frühstück und Abendessen ist im Gasthaus gegenüber.\nDie Tagesverpflegung am Samstag und Sonntag hat jede/r selbst im Rucksack.\nEs gibt keinen Gepäcktransport!\nMitzubringen:\nEin Rucksack mit Beckengurt\nTagesverpflegung für Samstag und Sonntag (Brotdose mit Vesper)\nSitzunterlage\nEine kleine Taschenlampe\nHausschuhe\nWaschzeug\nPyjama\nVoraussetzungen:\nSind die Fähigkeit und die Bereitschaft\, sich auf einen gemeinsamen Weg (täglich 17 km) mit einer Gruppe einzustellen und sich auf die thematischen Impulse\, Musik\, Singen und Schweigezeiten einzulassen.\nVorbereitung und Begleitung:\nWegeteam des Pilgerzentrum St. Jacobi Hamburg Hamburg\nKosten: 105\,00 € im Vierbettzimmer | 125\,00 € im Einzelzimmer\nFür Übernachtung\, Abendessen\, Frühstück\, Führungen\, Vorbereitung und Durchführung.\nAuf Nachfrage sind Ermäßigungen möglich.\nVerbindliche Anmeldung:\nBitte bis spätestens 10. Mai 2026. \nAnmeldung zum Pilgerweg Lüneburger Heide\n13. bis 14. Juni 2026\n Vor- und Nachname (Pflichtfeld) \n Straße (Pflichtfeld) \n Postleitzahl (Pflichtfeld) \n Stadt (Pflichtfeld) \n Telefonnummer oder Handynummer (Pflichtfeld) \n Deine E-Mail-Adresse (Pflichtfeld) \nIn welchem Zimmer möchten Sie übernachten?\nVierbettzimmer (105\,00 €)Einzelzimmer (125\,00 €)\nDie Teilnehmerzahl ist auf 9 Personen begrenzt.\nEs gibt 1 Vierbettzimmer und 5 Einzelzimmer.\n_____________________________________________________________________________________\n \nUnsere Annullierungsbedingungen\n Da sehr kurzfristig annullierte Teilnahmen und nicht erscheinende Teilnehmer leider auch in unserem „Pilgerzentrum im Norden St. Jacobi Hamburg“ vorkommen\, möchten wir Sie höflich darauf aufmerksam machen\, dass nicht nur Buchungen in einem Reisebüro\, sondern auch direkte Reservierungen im „Pilgerzentrum im Norden St. Jacobi Hamburg“ einen gegenseitigen Vertrag darstellen. Deshalb werden wir uns erlauben\, Ihnen bei einer Annullierung innerhalb von 48 Stunden vor dem Veranstaltungstermin 90% des Preises in Rechnung zu stellen. Annullierungen am gebuchten Veranstaltungstag sowie bei Nicht-Erscheinen müssen wir voll berechnen. Nach Zustellung der Rechnung gilt Ihre Teilnahme als verbindlich\, sollten Sie Ihre Teilnahme annullieren\, werden wir Ihnen eine Bearbeitungsgebühr von 25\,00 € in Rechnung stellen. Um diese für beide Seiten unangenehme Situation auszuschließen\, empfehlen wir Ihnen eine Reiserücktrittsversicherung abzuschließen.
URL:https://www.jakobsweg.de/termin/pilgerweg-jacobusweg-lueneburger-heide-1-uebernachtung/
CATEGORIES:Deutschland,Hamburg,Mehrtägige Tour,Niedersachsen,Ort,Veranstaltungsart
END:VEVENT
END:VCALENDAR