BEGIN:VCALENDAR
VERSION:2.0
PRODID:-//Jakobsweg.de - ECPv6.15.17.1//NONSGML v1.0//EN
CALSCALE:GREGORIAN
METHOD:PUBLISH
X-WR-CALNAME:Jakobsweg.de
X-ORIGINAL-URL:https://www.jakobsweg.de
X-WR-CALDESC:Veranstaltungen für Jakobsweg.de
REFRESH-INTERVAL;VALUE=DURATION:PT1H
X-Robots-Tag:noindex
X-PUBLISHED-TTL:PT1H
BEGIN:VTIMEZONE
TZID:Europe/Berlin
BEGIN:DAYLIGHT
TZOFFSETFROM:+0100
TZOFFSETTO:+0200
TZNAME:CEST
DTSTART:20250330T010000
END:DAYLIGHT
BEGIN:STANDARD
TZOFFSETFROM:+0200
TZOFFSETTO:+0100
TZNAME:CET
DTSTART:20251026T010000
END:STANDARD
BEGIN:DAYLIGHT
TZOFFSETFROM:+0100
TZOFFSETTO:+0200
TZNAME:CEST
DTSTART:20260329T010000
END:DAYLIGHT
BEGIN:STANDARD
TZOFFSETFROM:+0200
TZOFFSETTO:+0100
TZNAME:CET
DTSTART:20261025T010000
END:STANDARD
BEGIN:DAYLIGHT
TZOFFSETFROM:+0100
TZOFFSETTO:+0200
TZNAME:CEST
DTSTART:20270328T010000
END:DAYLIGHT
BEGIN:STANDARD
TZOFFSETFROM:+0200
TZOFFSETTO:+0100
TZNAME:CET
DTSTART:20271031T010000
END:STANDARD
BEGIN:DAYLIGHT
TZOFFSETFROM:+0100
TZOFFSETTO:+0200
TZNAME:CEST
DTSTART:20280326T010000
END:DAYLIGHT
BEGIN:STANDARD
TZOFFSETFROM:+0200
TZOFFSETTO:+0100
TZNAME:CET
DTSTART:20281029T010000
END:STANDARD
END:VTIMEZONE
BEGIN:VEVENT
DTSTART;TZID=Europe/Berlin:20260313T180000
DTEND;TZID=Europe/Berlin:20270527T193000
DTSTAMP:20260426T025858
CREATED:20241001T115652Z
LAST-MODIFIED:20260325T092244Z
UID:10000074-1773424800-1811446200@www.jakobsweg.de
SUMMARY:Schweigend um die Alster
DESCRIPTION:Informationen zum Pilgerweg\nStreckenbeschreibung:\nAbendliche Pilgerwanderung\nDauer: ca. 2\,5 Stunden\nKeine Anmeldung erforderlich\nDetails:\nVerstehen – durch Stille\nWirken – aus Stille\nGewinnen – in Stille\nKosten: Es entstehen keine Kosten.\n 
URL:https://www.jakobsweg.de/termin/schweigend-um-die-alster-18/
LOCATION:Pilgerwegweiser an der Hauptkirche St. Jacobi @ Jakobikirchhof 22\, 20095 Hamburg
CATEGORIES:Deutschland,Hamburg,Tagestour
END:VEVENT
BEGIN:VEVENT
DTSTART;TZID=Europe/Berlin:20260313T180000
DTEND;TZID=Europe/Berlin:20270527T203000
DTSTAMP:20260426T025858
CREATED:20250917T105102Z
LAST-MODIFIED:20260325T092326Z
UID:10001176-1773424800-1811449800@www.jakobsweg.de
SUMMARY:Schweigend um die Alster
DESCRIPTION:Informationen zum Pilgerweg\nStreckenbeschreibung:\nAbendliche Pilgerwanderung\nDauer: ca. 2\,5 Stunden\nKeine Anmeldung erforderlich\nDetails:\nVerstehen – durch Stille\nWirken – aus Stille\nGewinnen – in Stille\nKosten: Es entstehen keine Kosten.\n 
URL:https://www.jakobsweg.de/termin/schweigend-um-die-alster-26/
LOCATION:Pilgerwegweiser an der Hauptkirche St. Jacobi @ Jakobikirchhof 22\, 20095 Hamburg
CATEGORIES:Deutschland,Hamburg,Tagestour
END:VEVENT
BEGIN:VEVENT
DTSTART;TZID=Europe/Berlin:20260314T180000
DTEND;TZID=Europe/Berlin:20270528T193000
DTSTAMP:20260426T025858
CREATED:20260126T202046Z
LAST-MODIFIED:20260126T202046Z
UID:10001477-1773511200-1811532600@www.jakobsweg.de
SUMMARY:Schweigend um die Alster
DESCRIPTION:Informationen zum Pilgerweg\nStreckenbeschreibung:\nAbendliche Pilgerwanderung\nDauer: ca. 2\,5 Stunden\nKeine Anmeldung erforderlich\nDetails:\nVerstehen – durch Stille\nWirken – aus Stille\nGewinnen – in Stille\nKosten: Es entstehen keine Kosten.\n 
URL:https://www.jakobsweg.de/termin/schweigend-um-die-alster-39/
LOCATION:Pilgerwegweiser an der Hauptkirche St. Jacobi @ Jakobikirchhof 22\, 20095 Hamburg
CATEGORIES:Deutschland,Hamburg,Tagestour
END:VEVENT
BEGIN:VEVENT
DTSTART;TZID=Europe/Berlin:20260410T180000
DTEND;TZID=Europe/Berlin:20270624T193000
DTSTAMP:20260426T025858
CREATED:20241001T115653Z
LAST-MODIFIED:20260325T092247Z
UID:10000075-1775844000-1813865400@www.jakobsweg.de
SUMMARY:Schweigend um die Alster
DESCRIPTION:Informationen zum Pilgerweg\nStreckenbeschreibung:\nAbendliche Pilgerwanderung\nDauer: ca. 2\,5 Stunden\nKeine Anmeldung erforderlich\nDetails:\nVerstehen – durch Stille\nWirken – aus Stille\nGewinnen – in Stille\nKosten: Es entstehen keine Kosten.\n 
URL:https://www.jakobsweg.de/termin/schweigend-um-die-alster-19/
LOCATION:Pilgerwegweiser an der Hauptkirche St. Jacobi @ Jakobikirchhof 22\, 20095 Hamburg
CATEGORIES:Deutschland,Hamburg,Tagestour
END:VEVENT
BEGIN:VEVENT
DTSTART;VALUE=DATE:20260424
DTEND;VALUE=DATE:20260427
DTSTAMP:20260426T025858
CREATED:20251101T122046Z
LAST-MODIFIED:20260425T153929Z
UID:10001230-1776988800-1777247999@www.jakobsweg.de
SUMMARY:Pilgertage für Frauen - Mit Ermutigung und Mutmachgeschichten meinen Weg gehen :: 3-Tages Pilgern von Ansbach nach Dinkelsbühl
DESCRIPTION:Nähere Information und Anmeldung über Elfriede Hauenstein
URL:https://www.jakobsweg.de/termin/3-tages-pilgern-von-ansbach-nach-dinkelsbuehl/
LOCATION:: Ohne Ort
END:VEVENT
BEGIN:VEVENT
DTSTART;VALUE=DATE:20260424
DTEND;VALUE=DATE:20260427
DTSTAMP:20260426T025858
CREATED:20260221T003521Z
LAST-MODIFIED:20260420T120512Z
UID:10001576-1776988800-1777247999@www.jakobsweg.de
SUMMARY:Geführte Pilgerwanderung für Frauen auf dem Jakobsweg von Ansbach nach Dinkelsbühl
DESCRIPTION: Unter dem Motto “Mut tut gut” veranstaltet das Dekanat Windsbach vom 24. bis 26.04.2026 eine geführte Pilgerwanderung für Frauen auf dem Jakobsweg von Ansbach nach Dinkelsbühl. Die Pilgerbegleitung erfolgt durch Elfriede Hauenstein. Details sind untenstehenden Flyern zu entnehmen  \nhttps://www.jakobus-franken.de/nachrichten-details/news/24-26042026-gefuehrte-pilgerwanderung-fuer-frauen-auf-dem-jakobsweg-von-ansbach-nach-dinkelsbuehl.html \nhttps://www.jakobus-franken.de/fileadmin/_processed_/8/8/csm_Flyer_Mut_tut_gut-1_1d6596e3dd.jpg \nhttps://www.jakobus-franken.de/fileadmin/_processed_/7/c/csm_Flyer_Mut_tut_gut-2_1da0528078.jpg
URL:https://www.jakobsweg.de/termin/gefuehrte-pilgerwanderung-fuer-frauen-auf-dem-jakobsweg-von-ansbach-nach-dinkelsbuehl/
END:VEVENT
BEGIN:VEVENT
DTSTART;VALUE=DATE:20260426
DTEND;VALUE=DATE:20260428
DTSTAMP:20260426T025858
CREATED:20251107T175015Z
LAST-MODIFIED:20260420T145008Z
UID:10001306-1777168800-1777255199@www.jakobsweg.de
SUMMARY:Sportlich ambitioniertes Pilgertraining
DESCRIPTION:Ein Angebot an alle Pilger und Pilgerinteressierte die sich auf ihren Camino vorbereiten möchten.\nEs stehen Stecken von ca. 15 km\, 20 km\, 25 km\, zur Verfügung\, teilweise als Teilstrecke des rechtsrheinischen Jakobsweges im Raum Essen\, Duisburg\, Mettmann\, Düsseldorf.\nAnforderungen\, Treffpunkt\, Wanderstrecke gemäß vorheriger telefonischer Absprache\, ca. 3 bis 5 Stunden.\nIn der Regel immer am letzten Sonntagvormittag der geradzahligen Monate (Februar\, April \, Juni\, August\, Oktober\, Dezember). Bitte trotzdem auf Abweichende Termine achten.\nDieses mal gibt es eine Runde über den Düsseldorfer Südfriedhof\, durch Volmerswerth\, entlang des Rheines bis zur Fleher Brücke\, zurück auf der lingsrheinischen Seite\, erst Auenlandschft\, dann längs des Rheindeiches bis zur Süd/Kardinal-Frinks-Brücke zum Ausgangspunkt.\nUhrzeit und Treffpunkt: 10.30Uhr auf dem P+R Parkplatz am Südfriedhof\, ÖPNV mittels Stadtbahn 709 oder Omnibus 723\nKontakt: Josef Rave\, Telefon: 0172/2046829
URL:https://www.jakobsweg.de/termin/sortlich-ambitioniertes-pilgertraining/
END:VEVENT
BEGIN:VEVENT
DTSTART;TZID=Europe/Berlin:20260426T070000
DTEND;TZID=Europe/Berlin:20260509T170000
DTSTAMP:20260426T025858
CREATED:20251108T003508Z
LAST-MODIFIED:20260420T040508Z
UID:10001318-1777186800-1778346000@www.jakobsweg.de
SUMMARY:Pilgerreise Santiago-Finisterra-Muxia
DESCRIPTION: \nReisedetails\, -bedingungen und die Anmeldung sind hier zu finden. Die Anmeldefrist wurde bis zum 10.02.2026 verlängert. Es sind noch wenige Plätze vorhanden.
URL:https://www.jakobsweg.de/termin/pilgerreise-santiago-finisterra-muxi/
LOCATION:Flughafen Düsseldorf\, Flughafenstraße 105\, Düsseldorf\, 40474\, Germany
CATEGORIES:Pilgerreise
ORGANIZER;CN="Jakobusfreunde Paderborn":MAILTO:info@jakobusfreunde-paderborn.com
END:VEVENT
BEGIN:VEVENT
DTSTART;TZID=Europe/Berlin:20260426T080000
DTEND;TZID=Europe/Berlin:20260426T080000
DTSTAMP:20260426T025858
CREATED:20251125T232134Z
LAST-MODIFIED:20260325T092247Z
UID:10001348-1777190400-1777190400@www.jakobsweg.de
SUMMARY:Spanien-Pilgerrreise im Frühjahr 2026: nach Santiago und weiter „bis ans Ende der Welt“
DESCRIPTION:vom 26. April bis 09. Mai 2026 führen die Jakobusfreunde Paderborn eine 14-tägige Pilgerreise nach Spanien durch:\nPilgern im Frühjahr 2026\n– Ankommen in Santiago – und weiter bis ans Ende der Welt –Pilgerwanderung von Triacastela nach Santiago de Compostela mit Verlängerung bis Finisterra und Muxía\nUnter der Leitung von unserem erfahrenen Pilgerführer Ulrich Kryn
URL:https://www.jakobsweg.de/termin/spanien-pilgerrreise-im-fruehjahr-2026-nach-santiago-und-weiter-bis-ans-ende-der-welt/
CATEGORIES:Deutschland,Mehrtägige Tour,Ort,Veranstaltungsart
END:VEVENT
BEGIN:VEVENT
DTSTART;TZID=Europe/Berlin:20260426T090000
DTEND;TZID=Europe/Berlin:20260426T160000
DTSTAMP:20260426T025858
CREATED:20241001T125608Z
LAST-MODIFIED:20260421T120511Z
UID:10000188-1777194000-1777219200@www.jakobsweg.de
SUMMARY:(NOP) Sonntagspilgern RG Nordpfalz
DESCRIPTION:http://www.jakobusgesellschaft.eu/regionalgruppen/nordpfalz/
URL:https://www.jakobsweg.de/termin/nop-sonntagspilgern-rg-nordpfalz-18/
END:VEVENT
BEGIN:VEVENT
DTSTART;TZID=Europe/Berlin:20260426T130000
DTEND;TZID=Europe/Berlin:20260426T170000
DTSTAMP:20260426T025858
CREATED:20260224T142007Z
LAST-MODIFIED:20260224T142007Z
UID:10001588-1777208400-1777222800@www.jakobsweg.de
SUMMARY:Glaube bewegt: Spirituelle Wanderung
DESCRIPTION:Unter dem Motto „Glaube bewegt“ lädt die Pfarrei Adula und Gregor\, Ehrang-Pfalzel-Biewer im pastoralen Raum Trier zum 5. Mal zu einer spirituellen Wanderung ein. Es geht um dabei um eine persönliche Auszeit und die Sehnsucht nach Sehnsucht nach Stille und Gott.\nGewandert wird diesmal auf dem Klüsserather Sagenweg. Dieser Premiumwanderweg führt durch eine typische Moselwein- und Kulturlandschaft. Es geht über Wiesen und durch schattige Wälder. Es bieten sich immer wieder schöne Aussichten über das Moseltal bis in den Hunsrück hinein. Die Strecke ist 11\,9 km lang bei einem Höhenunterschied von 330 m. Die reine Gehzeit beträgt ca. 3\,5 Stunden. Der Weg ist gut begehbar. Es empfiehlt sich\, festes Schuhwerk und Wanderstöcke mitzunehmen.\nStart ist am Sonntag\, den 26. April 2026\, um 13:00 an der Klüsserather Wetterstation\nDiese erreicht man über die B 53 (letzte Ausfahrt von Klüsserath nach links). Über die Straßen „In der Olk“ und „Lindenstraße“ geht es\, gut ausgeschildert\, durch die Weinberge in Serpentinen aufwärts bis zum Wanderparkplatz.\nDie Wanderung findet auch bei schlechtem Wetter statt. Eine Absage erfolgt nur bei Gefahrenlagen. Die Teilnahme ist kostenfrei.\nAnmeldung per Mail und Infos bei Joachim Hölle-Gindorf: hoe-gi@kabelmail.de                               \nInfo zum Klüsserather Sagenweg\n 
URL:https://www.jakobsweg.de/termin/glaube-bewegt-spirituelle-wanderung-2/
LOCATION:Klüsserath\, 54340\, Germany
END:VEVENT
BEGIN:VEVENT
DTSTART;TZID=Europe/Berlin:20260426T130000
DTEND;TZID=Europe/Berlin:20260426T170000
DTSTAMP:20260426T025858
CREATED:20260224T142007Z
LAST-MODIFIED:20260425T123508Z
UID:10001586-1777208400-1777222800@www.jakobsweg.de
SUMMARY:Glaube bewegt: Spirituelle Wanderung
DESCRIPTION:Unter dem Motto „Glaube bewegt“ lädt die Pfarrei Adula und Gregor\, Ehrang-Pfalzel-Biewer im pastoralen Raum Trier zum 5. Mal zu einer spirituellen Wanderung ein. Es geht um dabei um eine persönliche Auszeit und die Sehnsucht nach Sehnsucht nach Stille und Gott.\nGewandert wird diesmal auf dem Klüsserather Sagenweg. Dieser Premiumwanderweg führt durch eine typische Moselwein- und Kulturlandschaft. Es geht über Wiesen und durch schattige Wälder. Es bieten sich immer wieder schöne Aussichten über das Moseltal bis in den Hunsrück hinein. Die Strecke ist 11\,9 km lang bei einem Höhenunterschied von 330 m. Die reine Gehzeit beträgt ca. 3\,5 Stunden. Der Weg ist gut begehbar. Es empfiehlt sich\, festes Schuhwerk und Wanderstöcke mitzunehmen.\nStart ist am Sonntag\, den 26. April 2026\, um 13:00 an der Klüsserather Wetterstation\nDiese erreicht man über die B 53 (letzte Ausfahrt von Klüsserath nach links). Über die Straßen „In der Olk“ und „Lindenstraße“ geht es\, gut ausgeschildert\, durch die Weinberge in Serpentinen aufwärts bis zum Wanderparkplatz.\nDie Wanderung findet auch bei schlechtem Wetter statt. Eine Absage erfolgt nur bei Gefahrenlagen. Die Teilnahme ist kostenfrei.\nAnmeldung per Mail und Infos bei Joachim Hölle-Gindorf: hoe-gi@kabelmail.de                               \nInfo zum Klüsserather Sagenweg\n 
URL:https://www.jakobsweg.de/termin/glaube-bewegt-spirituelle-wanderung/
LOCATION:Klüsserath\, 54340\, Germany
END:VEVENT
BEGIN:VEVENT
DTSTART;VALUE=DATE:20260427
DTEND;VALUE=DATE:20260428
DTSTAMP:20260426T025858
CREATED:20251123T120556Z
LAST-MODIFIED:20260110T120552Z
UID:10001337-1777248000-1777334399@www.jakobsweg.de
SUMMARY:Den Camino entdecken -aufbrechen und den eigenen Weg finden :: Pilgerwoche auf dem Camino Francés
DESCRIPTION:Begleitete Pilgerreise auf dem Camino Francés von Saint Jean Pied de Port bis Estella.
URL:https://www.jakobsweg.de/termin/den-camino-entdecken-aufbrechen-und-den-eigenen-weg-finden-pilgerwoche-auf-dem-camino-frances/
LOCATION:: Ohne Ort
END:VEVENT
BEGIN:VEVENT
DTSTART;VALUE=DATE:20260427
DTEND;VALUE=DATE:20260504
DTSTAMP:20260426T025858
CREATED:20260123T200535Z
LAST-MODIFIED:20260420T120515Z
UID:10001473-1777248000-1777852799@www.jakobsweg.de
SUMMARY:Geführte Pilgerwanderung auf dem Camino frances
DESCRIPTION:Informationen können untenstehendem link entnommen werden \nhttps://www.jakobus-franken.de/nachrichten-details/news/2704-bis-03052026-gefuehrte-pilgerwanderung-auf-dem-camino-frances.html
URL:https://www.jakobsweg.de/termin/gefuehrte-pilgerwanderung-auf-dem-camino-frances/
END:VEVENT
BEGIN:VEVENT
DTSTART;TZID=Europe/Berlin:20260428T093000
DTEND;TZID=Europe/Berlin:20260428T093000
DTSTAMP:20260426T025858
CREATED:20260210T180548Z
LAST-MODIFIED:20260325T092248Z
UID:10001541-1777368600-1777368600@www.jakobsweg.de
SUMMARY:Dienstag „halbzehn“ – jeden 4. Dienstag im Monat
DESCRIPTION:Dienstag „halbzehn“\nWir pilgern auf verschiedenen\, grünen Wegen\, die Schutz vor der Hektik der Stadt bieten\nMitzubringen: Getränk\, Sitzunterlage\, evtl. Rucksackverpflegung\nTreffpunkt: U-Bahn Haltestelle Lattenkamp\, Ausgang Bebelallee\, Meenkwiese unten\nStrecke: ca. 12 km\nAnkunft: ca. 13:00 Uhr S-Bahn Poppenbüttel oder eine andere U/S-Bahn-Haltestelle\nBegleitung:  / Pilgerzentrum im Norden St. Jacobi Hamburg\nEine Anmeldung ist nicht erforderlich\n \n 
URL:https://www.jakobsweg.de/termin/dienstag-halbzehn-jeden-4-dienstag-im-monat-20/
LOCATION:U-Bahn Haltestelle Lattenkamp\, Ausgang Bebelallee\, Meenkwiese unten
CATEGORIES:Deutschland,Hamburg,Tagestour
END:VEVENT
BEGIN:VEVENT
DTSTART;VALUE=DATE:20260429
DTEND;VALUE=DATE:20260430
DTSTAMP:20260426T025858
CREATED:20241001T130001Z
LAST-MODIFIED:20260420T120513Z
UID:10000346-1777420800-1777507199@www.jakobsweg.de
SUMMARY:Pilgerstammtisch in Pfarrkirchen/Niederbayern
DESCRIPTION:Der Pilgerstammtisch findet jeden letzten Mittwoch im Monat ab 19 Uhr im Gasthaus Kirchenwirt statt.\nNähere Infos durch Frau Susanne Makan\nTel.: 016099604210 und susanne.makan@t-online.de
URL:https://www.jakobsweg.de/termin/pilgerstammtisch-in-pfarrkirchen-niederbayern-19/
END:VEVENT
BEGIN:VEVENT
DTSTART;TZID=Europe/Berlin:20260430T183000
DTEND;TZID=Europe/Berlin:20260430T203000
DTSTAMP:20260426T025858
CREATED:20260118T002055Z
LAST-MODIFIED:20260325T092249Z
UID:10001467-1777573800-1777581000@www.jakobsweg.de
SUMMARY:Pilgertreff in Lübeck – Pilgern in St. Jakobi
DESCRIPTION:Pilgertreff in Lübeck\nEgal ob erfahrene Pilger oder Interessierte\, ob in Spanien oder Norddeutschland unterwegs oder noch am Überlegen — alle sind willkommen.\nNach einer Kennenlernrunde gibt es für eine kleine Stunde einen Vortrag\, Reisebericht oder Spaziergang. Danach ist Zeit für Erfahrungsaustausch und persönliche Fragen.\nTermine in 2026 sind jeweils der letzte Donnerstag im Monat.\n(Pilgertreff ist im Winterhalbjahr; ab Mai gibt es den Kleinen Jakob am ersten Samstag.)\nBeginn 18:30 Uhr — Dauer ca. 2 Stunden — kostenlos (gern Spende)\nOrt: Gemeindesaal im Pastorat der St. Jakobi-Kirche in Lübeck\n23552 Lübeck\, Jakobikirchhof 3 – (direkt hinter der St. Jakobikirche)\nDer Termin im April:\nGeplant: In der St. Jakobis-Kirche Jakobus-Darstellungen\, Lichtmeditation\, kurze Pilgerandacht.
URL:https://www.jakobsweg.de/termin/pilgertreff-in-luebeck-pilgern-in-st-jakobi/
LOCATION:Gemeindesaal St. Jakobi Lübeck @ Jakobikirchhof 3\, 23552 Lübeck
CATEGORIES:Deutschland,Infoveranstaltung,Ort,Schleswig-Holstein
END:VEVENT
END:VCALENDAR