BEGIN:VCALENDAR
VERSION:2.0
PRODID:-//Jakobsweg.de - ECPv6.15.17.1//NONSGML v1.0//EN
CALSCALE:GREGORIAN
METHOD:PUBLISH
X-ORIGINAL-URL:https://www.jakobsweg.de
X-WR-CALDESC:Veranstaltungen für Jakobsweg.de
REFRESH-INTERVAL;VALUE=DURATION:PT1H
X-Robots-Tag:noindex
X-PUBLISHED-TTL:PT1H
BEGIN:VTIMEZONE
TZID:Europe/Berlin
BEGIN:DAYLIGHT
TZOFFSETFROM:+0100
TZOFFSETTO:+0200
TZNAME:CEST
DTSTART:20240331T010000
END:DAYLIGHT
BEGIN:STANDARD
TZOFFSETFROM:+0200
TZOFFSETTO:+0100
TZNAME:CET
DTSTART:20241027T010000
END:STANDARD
BEGIN:DAYLIGHT
TZOFFSETFROM:+0100
TZOFFSETTO:+0200
TZNAME:CEST
DTSTART:20250330T010000
END:DAYLIGHT
BEGIN:STANDARD
TZOFFSETFROM:+0200
TZOFFSETTO:+0100
TZNAME:CET
DTSTART:20251026T010000
END:STANDARD
BEGIN:DAYLIGHT
TZOFFSETFROM:+0100
TZOFFSETTO:+0200
TZNAME:CEST
DTSTART:20260329T010000
END:DAYLIGHT
BEGIN:STANDARD
TZOFFSETFROM:+0200
TZOFFSETTO:+0100
TZNAME:CET
DTSTART:20261025T010000
END:STANDARD
END:VTIMEZONE
BEGIN:VEVENT
DTSTART;TZID=Europe/Berlin:20251025T091500
DTEND;TZID=Europe/Berlin:20251025T091500
DTSTAMP:20260422T163923
CREATED:20250709T002118Z
LAST-MODIFIED:20251024T175017Z
UID:10001069-1761383700-1761383700@www.jakobsweg.de
SUMMARY:Pilgern vor der Haustür
DESCRIPTION:Treff­punkt: 9.15 Uhr Hbf Lübeck in der Bahn­hofs­vor­hal­le\, Abfahrt: 09.28 Uhr | Rück­kehr am Spätnachmittag\nWir fol­gen der alten Tra­di­ti­on des Pil­gerns auf einem der uralten Wege\, des­sen Weis­hei­ten und Mög­lich­kei­ten wir wie­der­ent­de­cken wol­len. Gemein­sam in einer Grup­pe von Frau­en\, im Gehen\, im Schwei­gen\, im Aus­tausch mit mir selbst und unter­ein­an­der erle­ben wir Got­tes wun­der­ba­re Schöp­fung. Wir laden ein\, in die eige­ne Kraft und den inne­ren Frie­den zu kom­men. Bei nor­ma­ler Kon­di­ti­on sind die Stre­cken gut zu schaf­fen. Wir nut­zen öffent­li­che Ver­kehrs­mit­tel. Fahrt­kos­ten trägt jede selbst. Kurz­fris­ti­ge Ände­run­gen sind möglich.\nBit­te mit­brin­gen: Trin­ken und Essen für die Pau­sen\, Sitz­un­ter­la­ge\, fes­te Schu­he und ange­mes­se­ne Klei­dung\, ggf. Regen­zeug\, Badesachen\nWeg­be­glei­te­rin­nen: Sil­ke Mey­er\,  Regi­na du Maire\nAnmel­dung bis 22.10. mit Nen­nung der Han­dy-Num­mer über E‑Mail: frauenwerk-hl@kirche-ll.de oder Tel. 0451/ 300 86 87 12  (bit­te ange­ben\, ob ein Deutsch­land­ti­cket vor­han­den ist) \n\n	\n	\n		\n			\n				Das Pilgermagazin - 80 Seiten - gratis!\n				\n					\n				\n				Das Pilgermagazin beschreibt auf 80 Seiten alle wichtigen Jakobswege\, inklusive Karten. So viel Inhalt wie in einem richtigen Buch - von den Autoren der Reiseführer für euch geschrieben \n				Lade es dir jetzt gratis als PDF herunter. \n				\n					\n					\n				\n				\n					\n					\n				\n				\n					\n					\n				\n				\n				\n					\n					\n				    \n				\n				\n				Du erhältst gelegentliche News vom Jakobsweg. Kein Spam. Und natürlich stets mit einem Klick abbestellbar. Pilgerehrenwort!
URL:https://www.jakobsweg.de/termin/pilgern-vor-der-haustuer-7/
LOCATION:Auf der Via Scandinavica von Pansdorf nach Bad Schwartau \, ca. 11 km
CATEGORIES:Deutschland,Schleswig-Holstein,Tagestour
END:VEVENT
END:VCALENDAR