BEGIN:VCALENDAR
VERSION:2.0
PRODID:-//Jakobsweg.de - ECPv6.15.17.1//NONSGML v1.0//EN
CALSCALE:GREGORIAN
METHOD:PUBLISH
X-ORIGINAL-URL:https://www.jakobsweg.de
X-WR-CALDESC:Veranstaltungen für Jakobsweg.de
REFRESH-INTERVAL;VALUE=DURATION:PT1H
X-Robots-Tag:noindex
X-PUBLISHED-TTL:PT1H
BEGIN:VTIMEZONE
TZID:Europe/Berlin
BEGIN:DAYLIGHT
TZOFFSETFROM:+0100
TZOFFSETTO:+0200
TZNAME:CEST
DTSTART:20230326T010000
END:DAYLIGHT
BEGIN:STANDARD
TZOFFSETFROM:+0200
TZOFFSETTO:+0100
TZNAME:CET
DTSTART:20231029T010000
END:STANDARD
BEGIN:DAYLIGHT
TZOFFSETFROM:+0100
TZOFFSETTO:+0200
TZNAME:CEST
DTSTART:20240331T010000
END:DAYLIGHT
BEGIN:STANDARD
TZOFFSETFROM:+0200
TZOFFSETTO:+0100
TZNAME:CET
DTSTART:20241027T010000
END:STANDARD
BEGIN:DAYLIGHT
TZOFFSETFROM:+0100
TZOFFSETTO:+0200
TZNAME:CEST
DTSTART:20250330T010000
END:DAYLIGHT
BEGIN:STANDARD
TZOFFSETFROM:+0200
TZOFFSETTO:+0100
TZNAME:CET
DTSTART:20251026T010000
END:STANDARD
END:VTIMEZONE
BEGIN:VEVENT
DTSTART;TZID=Europe/Berlin:20241012T100000
DTEND;TZID=Europe/Berlin:20241012T173000
DTSTAMP:20260421T151054
CREATED:20241001T115540Z
LAST-MODIFIED:20241011T212808Z
UID:10000007-1728727200-1728754200@www.jakobsweg.de
SUMMARY:Jakobsweg Via Scandinavica von Büchen nach Lauenburg
DESCRIPTION:Tromm­le\, mein Herz\, für das Leben\,\nsin­ge\, mein Mund\, dem Frieden.\nDass die Erde hel­ler für alle werde.\nVersöhnungsfest\nDer Jakobs­weg Via Scan­di­na­vica ver­bin­det die skan­di­na­vi­schen Län­der mit den Jakobs­we­gen in der Mit­te und im Süden Deutsch­lands. Er führt von Feh­marn bis nach Eisen­ach. Die­se Etap­pe ist die letz­te in Schles­wig-Hol­stein und ver­läuft nicht ent­lang dem Elbe-Lübeck-Kanal\, son­dern west­lich des Kanals. Ein abwechs­lungs­rei­cher Weg\, der am Elb­ufer teil­wei­se stark ver­wur­zelt und ver­wil­dert ist (Tot­holz).\nUnter­wegs beglei­tet uns die Bit­te nach Frie­den und Versöhnung.\nWie geht auf­ein­an­der zuge­hen\, Frie­den schlie­ßen? Kann ich mich mit mei­nem Mit­men­schen versöhnen?\nKann ich ver­ge­ben\, hat das Vorteile?\nTreff­punkt: 10:00 Uhr Bahn­hof Büchen\, Aus­gang Lau­en­bur­ger Str. (z. B. 9.21 h ab HH Hbf)\nStre­cke: ca. 22 km\nMit­zu­brin­gen: Ruck­sack­ver­pfle­gung\, Getränk\, Sitzunterlage\nAnkunft: ca. 17:30 Uhr ZOB Lauenburg\nBeglei­tung: Gabrie­la Muß­bach + Tho­mas Fried­hoff vom Pil­ger­zen­trum St. Jaco­bi Hamburg \n\n	\n	\n		\n			\n				Das Pilgermagazin - 80 Seiten - gratis!\n				\n					\n				\n				Das Pilgermagazin beschreibt auf 80 Seiten alle wichtigen Jakobswege\, inklusive Karten. So viel Inhalt wie in einem richtigen Buch - von den Autoren der Reiseführer für euch geschrieben \n				Lade es dir jetzt gratis als PDF herunter. \n				\n					\n					\n				\n				\n					\n					\n				\n				\n					\n					\n				\n				\n				\n					\n					\n				    \n				\n				\n				Du erhältst gelegentliche News vom Jakobsweg. Kein Spam. Und natürlich stets mit einem Klick abbestellbar. Pilgerehrenwort!
URL:https://www.jakobsweg.de/termin/jakobsweg-via-scandinavica-von-buechen-nach-lauenburg/
LOCATION:Bahnhof Büchen | Ausgang Lauenburger Str. @ Büchen
END:VEVENT
END:VCALENDAR