BEGIN:VCALENDAR
VERSION:2.0
PRODID:-//Jakobsweg.de - ECPv6.15.17.1//NONSGML v1.0//EN
CALSCALE:GREGORIAN
METHOD:PUBLISH
X-ORIGINAL-URL:https://www.jakobsweg.de
X-WR-CALDESC:Veranstaltungen für Jakobsweg.de
REFRESH-INTERVAL;VALUE=DURATION:PT1H
X-Robots-Tag:noindex
X-PUBLISHED-TTL:PT1H
BEGIN:VTIMEZONE
TZID:Europe/Berlin
BEGIN:DAYLIGHT
TZOFFSETFROM:+0100
TZOFFSETTO:+0200
TZNAME:CEST
DTSTART:20240331T010000
END:DAYLIGHT
BEGIN:STANDARD
TZOFFSETFROM:+0200
TZOFFSETTO:+0100
TZNAME:CET
DTSTART:20241027T010000
END:STANDARD
BEGIN:DAYLIGHT
TZOFFSETFROM:+0100
TZOFFSETTO:+0200
TZNAME:CEST
DTSTART:20250330T010000
END:DAYLIGHT
BEGIN:STANDARD
TZOFFSETFROM:+0200
TZOFFSETTO:+0100
TZNAME:CET
DTSTART:20251026T010000
END:STANDARD
BEGIN:DAYLIGHT
TZOFFSETFROM:+0100
TZOFFSETTO:+0200
TZNAME:CEST
DTSTART:20260329T010000
END:DAYLIGHT
BEGIN:STANDARD
TZOFFSETFROM:+0200
TZOFFSETTO:+0100
TZNAME:CET
DTSTART:20261025T010000
END:STANDARD
END:VTIMEZONE
BEGIN:VEVENT
DTSTART;TZID=Europe/Berlin:20250914T110000
DTEND;TZID=Europe/Berlin:20250914T160000
DTSTAMP:20260421T144408
CREATED:20250908T100514Z
LAST-MODIFIED:20250914T100514Z
UID:10001168-1757847600-1757865600@www.jakobsweg.de
SUMMARY:Lüneburger Pilgerrundweg für Trauernde
DESCRIPTION:Die Zeit der Trau­er nach dem Tod eines gelieb­ten Men­schen bringt vie­le Ver­än­de­run­gen mit sich. Das Leben neu zu ord­nen und zur alten Kraft zurück zu fin­den\, ist nicht leicht. Die Erfah­rung zeigt\, dass Bewe­gung hilft\, auch Gedan­ken und Gefüh­le in Bewe­gung zu brin­gen und das Gleich­ge­wicht im Leben zurück zu gewinnen.\nWäh­rend der Pil­ger­wan­de­rung gibt es die Mög­lich­keit des gegen­sei­ti­gen Aus­tauschs im Gespräch mit ande­ren Teil­neh­men­den. Ein Segens­wort und kur­ze Tex­te zu Beginn\, an aus­ge­wähl­ten Weg­punk­ten und am Ende der Wan­de­rung geben Impul­se für das Erin­nern an die/den Ver­stor­be­ne/-n\, für Gesprä­che in der Grup­pe und für eine Ermu­ti­gung für das Leben und den All­tag zu Hause.\nDie Pil­ger­rund­we­ge begin­nen und enden an einem Fried­hof in Lüne­burg. Die Weg­stre­cke ist jeweils etwa 10 km lang\, auf dem Weg gibt es zwei­mal eine län­ge­re Pau­se. Die ers­te ist vor­zugs­wei­se an einer Schutz­hüt­te oder einer ande­ren Gele­gen­heit zur Rast\, die zwei­te in einem Gast­haus. Hier gibt es die Mög­lich­keit\, eine Klei­nig­keit zu essen und zu trin­ken. Die Wan­de­run­gen füh­ren über aus­ge­wie­se­ne Wan­der­we­ge im Wald und durch Fel­der\, zum Teil auch über Nebenstraßen.\nTreff­punkt ist um 11:00 am Ein­gang zum jewei­li­gen Fried­hof. Die Ver­an­stal­tung dau­ert bis ca. 16:00 Uhr und endet am Ausgangspunkt.\nTeil­neh­men kön­nen Men­schen\, die um einen nahen Ange­hö­ri­gen\, eine Freun­din oder einen Freund trau­ern. Das Ver­lust­ereig­nis soll­te mind. 4 Mona­te her sein\, kann aber auch schon län­ge­re Zeit zurück­lie­gen. Die Zahl der Teil­neh­men­den ist auf 12 begrenzt. Das Ange­bot rich­tet sich an Erwach­se­ne. Die Mit­nah­me von Hun­den ist mög­lich und muss bei der Anmel­dung mit ange­ben werden.\nDie Wan­de­run­gen fin­den auch bei wid­ri­gen Wit­te­rungs­ver­hält­nis­sen statt\, nicht jedoch bei Sturm oder Gewitter.\nDie Teil­nah­me erfolgt in eige­ner Verantwortung.\nEine Anmel­dung wird erbe­ten unter 04131–44211 Fabs \n\n	\n	\n		\n			\n				Das Pilgermagazin - 80 Seiten - gratis!\n				\n					\n				\n				Das Pilgermagazin beschreibt auf 80 Seiten alle wichtigen Jakobswege\, inklusive Karten. So viel Inhalt wie in einem richtigen Buch - von den Autoren der Reiseführer für euch geschrieben \n				Lade es dir jetzt gratis als PDF herunter. \n				\n					\n					\n				\n				\n					\n					\n				\n				\n					\n					\n				\n				\n				\n					\n					\n				    \n				\n				\n				Du erhältst gelegentliche News vom Jakobsweg. Kein Spam. Und natürlich stets mit einem Klick abbestellbar. Pilgerehrenwort!
URL:https://www.jakobsweg.de/termin/lueneburger-pilgerrundweg-fuer-trauernde/
LOCATION:Eingang Zentralfriedhof @ Soltauer Straße 50\, 21335 Lüneburg
END:VEVENT
END:VCALENDAR