BEGIN:VCALENDAR
VERSION:2.0
PRODID:-//Jakobsweg.de - ECPv6.15.17.1//NONSGML v1.0//EN
CALSCALE:GREGORIAN
METHOD:PUBLISH
X-WR-CALNAME:Jakobsweg.de
X-ORIGINAL-URL:https://www.jakobsweg.de
X-WR-CALDESC:Veranstaltungen für Jakobsweg.de
REFRESH-INTERVAL;VALUE=DURATION:PT1H
X-Robots-Tag:noindex
X-PUBLISHED-TTL:PT1H
BEGIN:VTIMEZONE
TZID:Europe/Berlin
BEGIN:DAYLIGHT
TZOFFSETFROM:+0100
TZOFFSETTO:+0200
TZNAME:CEST
DTSTART:20240331T010000
END:DAYLIGHT
BEGIN:STANDARD
TZOFFSETFROM:+0200
TZOFFSETTO:+0100
TZNAME:CET
DTSTART:20241027T010000
END:STANDARD
BEGIN:DAYLIGHT
TZOFFSETFROM:+0100
TZOFFSETTO:+0200
TZNAME:CEST
DTSTART:20250330T010000
END:DAYLIGHT
BEGIN:STANDARD
TZOFFSETFROM:+0200
TZOFFSETTO:+0100
TZNAME:CET
DTSTART:20251026T010000
END:STANDARD
BEGIN:DAYLIGHT
TZOFFSETFROM:+0100
TZOFFSETTO:+0200
TZNAME:CEST
DTSTART:20260329T010000
END:DAYLIGHT
BEGIN:STANDARD
TZOFFSETFROM:+0200
TZOFFSETTO:+0100
TZNAME:CET
DTSTART:20261025T010000
END:STANDARD
END:VTIMEZONE
BEGIN:VEVENT
DTSTART;TZID=Europe/Berlin:20250427T140000
DTEND;TZID=Europe/Berlin:20250427T160000
DTSTAMP:20260420T122247
CREATED:20250228T085836Z
LAST-MODIFIED:20250425T095910Z
UID:10000814-1745762400-1745769600@www.jakobsweg.de
SUMMARY:Meditativer Spaziergang auf alten Kirchenwegen :: mit Pfarrer Oliver Gußmann
DESCRIPTION:Pilgern auf den Jakobswegen um Rothenburg ob der Tauber \n\n	\n	\n		\n			\n				Das Pilgermagazin - 80 Seiten - gratis!\n				\n					\n				\n				Das Pilgermagazin beschreibt auf 80 Seiten alle wichtigen Jakobswege\, inklusive Karten. So viel Inhalt wie in einem richtigen Buch - von den Autoren der Reiseführer für euch geschrieben \n				Lade es dir jetzt gratis als PDF herunter. \n				\n					\n					\n				\n				\n					\n					\n				\n				\n					\n					\n				\n				\n				\n					\n					\n				    \n				\n				\n				Du erhältst gelegentliche News vom Jakobsweg. Kein Spam. Und natürlich stets mit einem Klick abbestellbar. Pilgerehrenwort!
URL:https://www.jakobsweg.de/termin/meditativer-spaziergang-auf-alten-kirchenwegen-mit-pfarrer-oliver-gussmann/
LOCATION:Geslau: St. Kilian-Kirche
END:VEVENT
END:VCALENDAR