BEGIN:VCALENDAR
VERSION:2.0
PRODID:-//Jakobsweg.de - ECPv6.15.17.1//NONSGML v1.0//EN
CALSCALE:GREGORIAN
METHOD:PUBLISH
X-WR-CALNAME:Jakobsweg.de
X-ORIGINAL-URL:https://www.jakobsweg.de
X-WR-CALDESC:Veranstaltungen für Jakobsweg.de
REFRESH-INTERVAL;VALUE=DURATION:PT1H
X-Robots-Tag:noindex
X-PUBLISHED-TTL:PT1H
BEGIN:VTIMEZONE
TZID:Europe/Berlin
BEGIN:DAYLIGHT
TZOFFSETFROM:+0100
TZOFFSETTO:+0200
TZNAME:CEST
DTSTART:20230326T010000
END:DAYLIGHT
BEGIN:STANDARD
TZOFFSETFROM:+0200
TZOFFSETTO:+0100
TZNAME:CET
DTSTART:20231029T010000
END:STANDARD
BEGIN:DAYLIGHT
TZOFFSETFROM:+0100
TZOFFSETTO:+0200
TZNAME:CEST
DTSTART:20240331T010000
END:DAYLIGHT
BEGIN:STANDARD
TZOFFSETFROM:+0200
TZOFFSETTO:+0100
TZNAME:CET
DTSTART:20241027T010000
END:STANDARD
BEGIN:DAYLIGHT
TZOFFSETFROM:+0100
TZOFFSETTO:+0200
TZNAME:CEST
DTSTART:20250330T010000
END:DAYLIGHT
BEGIN:STANDARD
TZOFFSETFROM:+0200
TZOFFSETTO:+0100
TZNAME:CET
DTSTART:20251026T010000
END:STANDARD
BEGIN:DAYLIGHT
TZOFFSETFROM:+0100
TZOFFSETTO:+0200
TZNAME:CEST
DTSTART:20260329T010000
END:DAYLIGHT
BEGIN:STANDARD
TZOFFSETFROM:+0200
TZOFFSETTO:+0100
TZNAME:CET
DTSTART:20261025T010000
END:STANDARD
END:VTIMEZONE
BEGIN:VEVENT
DTSTART;TZID=Europe/Berlin:20251219T140000
DTEND;TZID=Europe/Berlin:20251219T160000
DTSTAMP:20260420T182450
CREATED:20251203T172014Z
LAST-MODIFIED:20251218T192016Z
UID:10001362-1766152800-1766160000@www.jakobsweg.de
SUMMARY:Besinnlicher Pilgerweg Twieten\, Seen und Schloss ca. 6 km
DESCRIPTION:Mit unse­rem Pil­gern zu den Jah­res­zei­ten haben wir am 30.12.2022 begon­nen. Es fin­det jeweils am letz­ten Frei­tag des Quar­tals statt. Mit Beginn des neu­en Kir­chen­jah­res gibt es einen neu­en Weg. Wir tref­fen uns vor dem Haupt­ein­gang unse­rer Niko­lai­kir­che und erle­ben an inter­es­san­ten Orten unter­schied­li­che Impul­se. Nach etwa zwei Stun­den wer­den wir wie­der zurück sein am Ausgangspunkt.\nGegen 16 Uhr wol­len wir das Pil­ger­jahr 2025 bei Kaf­fee und Stol­len in unse­rem Gemein­de­haus am Markt aus­klin­gen las­sen. Dazu ist eine Anmel­dung erfor­der­lich\, um bes­ser dis­po­nie­ren zu kön­nen. Eine klei­ne Spen­de ist willkommen.\n  \n\n	\n	\n		\n			\n				Das Pilgermagazin - 80 Seiten - gratis!\n				\n					\n				\n				Das Pilgermagazin beschreibt auf 80 Seiten alle wichtigen Jakobswege\, inklusive Karten. So viel Inhalt wie in einem richtigen Buch - von den Autoren der Reiseführer für euch geschrieben \n				Lade es dir jetzt gratis als PDF herunter. \n				\n					\n					\n				\n				\n					\n					\n				\n				\n					\n					\n				\n				\n				\n					\n					\n				    \n				\n				\n				Du erhältst gelegentliche News vom Jakobsweg. Kein Spam. Und natürlich stets mit einem Klick abbestellbar. Pilgerehrenwort!
URL:https://www.jakobsweg.de/termin/besinnlicher-pilgerweg-twieten-seen-und-schloss-ca-6-km/
LOCATION:Nikolaikirche Plön @ Markt 25\, 24306 Plön
END:VEVENT
BEGIN:VEVENT
DTSTART;TZID=Europe/Berlin:20251219T140000
DTEND;TZID=Europe/Berlin:20251219T160000
DTSTAMP:20260420T182450
CREATED:20241018T223153Z
LAST-MODIFIED:20250825T200617Z
UID:10000487-1766152800-1766160000@www.jakobsweg.de
SUMMARY:Besinnlicher Pilgerweg Prinzeninsel ca. 6 km
DESCRIPTION:Mit unse­rem Pil­gern zu den Jah­res­zei­ten haben wir am 30.12.2022 begon­nen. Wir wol­len es am jeweils letz­ten Frei­tag des Quar­tals fort­füh­ren. Wir tref­fen uns vor dem Haupt­ein­gang unse­rer Niko­lai­kir­che und erle­ben an inter­es­san­ten Orten unter­schied­li­che Impul­se. Nach etwa zwei Stun­den wer­den wir wie­der zurück sein am Ausgangspunkt. \n\n	\n	\n		\n			\n				Das Pilgermagazin - 80 Seiten - gratis!\n				\n					\n				\n				Das Pilgermagazin beschreibt auf 80 Seiten alle wichtigen Jakobswege\, inklusive Karten. So viel Inhalt wie in einem richtigen Buch - von den Autoren der Reiseführer für euch geschrieben \n				Lade es dir jetzt gratis als PDF herunter. \n				\n					\n					\n				\n				\n					\n					\n				\n				\n					\n					\n				\n				\n				\n					\n					\n				    \n				\n				\n				Du erhältst gelegentliche News vom Jakobsweg. Kein Spam. Und natürlich stets mit einem Klick abbestellbar. Pilgerehrenwort!
URL:https://www.jakobsweg.de/termin/besinnlicher-pilgerweg-prinzeninsel-ca-6-km-4/
LOCATION:Nikolaikirche Plön @ Markt 25\, 24306 Plön
END:VEVENT
BEGIN:VEVENT
DTSTART;TZID=Europe/Berlin:20250926T160000
DTEND;TZID=Europe/Berlin:20250926T180000
DTSTAMP:20260420T182450
CREATED:20241018T223127Z
LAST-MODIFIED:20250926T113512Z
UID:10000483-1758902400-1758909600@www.jakobsweg.de
SUMMARY:Besinnlicher Pilgerweg Prinzeninsel ca. 6 km
DESCRIPTION:Mit unse­rem Pil­gern zu den Jah­res­zei­ten haben wir am 30.12.2022 begon­nen. Es fin­det jeweils am letz­ten Frei­tag des Quar­tals statt. Wir tref­fen uns vor dem Haupt­ein­gang unse­rer Niko­lai­kir­che und erle­ben an inter­es­san­ten Orten unter­schied­li­che Impul­se. Nach etwa zwei Stun­den wer­den wir wie­der zurück sein am Ausgangspunkt.\nLei­der müs­sen wir das gut ange­nom­me­ne Pil­ger­for­mat nach nun drei Jah­ren aus per­so­nel­len Grün­den (vor­erst) beenden. \n\n	\n	\n		\n			\n				Das Pilgermagazin - 80 Seiten - gratis!\n				\n					\n				\n				Das Pilgermagazin beschreibt auf 80 Seiten alle wichtigen Jakobswege\, inklusive Karten. So viel Inhalt wie in einem richtigen Buch - von den Autoren der Reiseführer für euch geschrieben \n				Lade es dir jetzt gratis als PDF herunter. \n				\n					\n					\n				\n				\n					\n					\n				\n				\n					\n					\n				\n				\n				\n					\n					\n				    \n				\n				\n				Du erhältst gelegentliche News vom Jakobsweg. Kein Spam. Und natürlich stets mit einem Klick abbestellbar. Pilgerehrenwort!
URL:https://www.jakobsweg.de/termin/besinnlicher-pilgerweg-prinzeninsel-ca-6-km-3/
LOCATION:Nikolaikirche Plön @ Markt 25\, 24306 Plön
END:VEVENT
BEGIN:VEVENT
DTSTART;TZID=Europe/Berlin:20250627T180000
DTEND;TZID=Europe/Berlin:20250627T200000
DTSTAMP:20260420T182450
CREATED:20241018T223122Z
LAST-MODIFIED:20250626T230514Z
UID:10000479-1751047200-1751054400@www.jakobsweg.de
SUMMARY:Besinnlicher Pilgerweg Prinzeninsel ca. 6 km
DESCRIPTION:Mit unse­rem Pil­gern zu den Jah­res­zei­ten haben wir am 30.12.2022 begon­nen. Wir wol­len es am jeweils letz­ten Frei­tag des Quar­tals fort­füh­ren. Wir tref­fen uns vor dem Haupt­ein­gang unse­rer Niko­lai­kir­che und erle­ben an inter­es­san­ten Orten unter­schied­li­che Impul­se. Nach etwa zwei Stun­den wer­den wir wie­der zurück sein am Ausgangspunkt. \n\n	\n	\n		\n			\n				Das Pilgermagazin - 80 Seiten - gratis!\n				\n					\n				\n				Das Pilgermagazin beschreibt auf 80 Seiten alle wichtigen Jakobswege\, inklusive Karten. So viel Inhalt wie in einem richtigen Buch - von den Autoren der Reiseführer für euch geschrieben \n				Lade es dir jetzt gratis als PDF herunter. \n				\n					\n					\n				\n				\n					\n					\n				\n				\n					\n					\n				\n				\n				\n					\n					\n				    \n				\n				\n				Du erhältst gelegentliche News vom Jakobsweg. Kein Spam. Und natürlich stets mit einem Klick abbestellbar. Pilgerehrenwort!
URL:https://www.jakobsweg.de/termin/besinnlicher-pilgerweg-prinzeninsel-ca-6-km-2/
LOCATION:Nikolaikirche Plön @ Markt 25\, 24306 Plön
END:VEVENT
BEGIN:VEVENT
DTSTART;TZID=Europe/Berlin:20250328T160000
DTEND;TZID=Europe/Berlin:20250328T180000
DTSTAMP:20260420T182450
CREATED:20241018T223114Z
LAST-MODIFIED:20250328T021323Z
UID:10000475-1743177600-1743184800@www.jakobsweg.de
SUMMARY:Besinnlicher Pilgerweg Prinzeninsel ca. 6 km
DESCRIPTION:Mit unse­rem Pil­gern zu den Jah­res­zei­ten haben wir am 30.12.2022 begon­nen. Wir wol­len es am jeweils letz­ten Frei­tag des Quar­tals fort­füh­ren. Wir tref­fen uns vor dem Haupt­ein­gang unse­rer Niko­lai­kir­che und erle­ben an inter­es­san­ten Orten unter­schied­li­che Impul­se. Nach etwa zwei Stun­den wer­den wir wie­der zurück sein am Ausgangspunkt. \n\n	\n	\n		\n			\n				Das Pilgermagazin - 80 Seiten - gratis!\n				\n					\n				\n				Das Pilgermagazin beschreibt auf 80 Seiten alle wichtigen Jakobswege\, inklusive Karten. So viel Inhalt wie in einem richtigen Buch - von den Autoren der Reiseführer für euch geschrieben \n				Lade es dir jetzt gratis als PDF herunter. \n				\n					\n					\n				\n				\n					\n					\n				\n				\n					\n					\n				\n				\n				\n					\n					\n				    \n				\n				\n				Du erhältst gelegentliche News vom Jakobsweg. Kein Spam. Und natürlich stets mit einem Klick abbestellbar. Pilgerehrenwort!
URL:https://www.jakobsweg.de/termin/besinnlicher-pilgerweg-prinzeninsel-ca-6-km/
LOCATION:Nikolaikirche Plön @ Markt 25\, 24306 Plön
END:VEVENT
BEGIN:VEVENT
DTSTART;TZID=Europe/Berlin:20241227T140000
DTEND;TZID=Europe/Berlin:20241227T160000
DTSTAMP:20260420T182450
CREATED:20241001T115629Z
LAST-MODIFIED:20241226T182807Z
UID:10000043-1735308000-1735315200@www.jakobsweg.de
SUMMARY:Besinnlicher Pilgerweg durch Plön ca. 5 km
DESCRIPTION:Mit unse­rem Pil­gern zu den Jah­res­zei­ten haben wir am 30.12.2022 begon­nen. Wir wol­len es am jeweils letz­ten Frei­tag des Quar­tals fort­füh­ren. Wir tref­fen uns vor dem Haupt­ein­gang unse­rer Niko­lai­kir­che und erle­ben an inter­es­san­ten Orten unter­schied­li­che Impul­se. Nach etwa zwei Stun­den wer­den wir wie­der zurück sein am Ausgangspunkt. \n\n	\n	\n		\n			\n				Das Pilgermagazin - 80 Seiten - gratis!\n				\n					\n				\n				Das Pilgermagazin beschreibt auf 80 Seiten alle wichtigen Jakobswege\, inklusive Karten. So viel Inhalt wie in einem richtigen Buch - von den Autoren der Reiseführer für euch geschrieben \n				Lade es dir jetzt gratis als PDF herunter. \n				\n					\n					\n				\n				\n					\n					\n				\n				\n					\n					\n				\n				\n				\n					\n					\n				    \n				\n				\n				Du erhältst gelegentliche News vom Jakobsweg. Kein Spam. Und natürlich stets mit einem Klick abbestellbar. Pilgerehrenwort!
URL:https://www.jakobsweg.de/termin/besinnlicher-pilgerweg-durch-ploen-ca-5-km/
LOCATION:Nikolaikirche Plön @ Markt 25\, 24306 Plön
END:VEVENT
END:VCALENDAR