BEGIN:VCALENDAR
VERSION:2.0
PRODID:-//Jakobsweg.de - ECPv6.15.17.1//NONSGML v1.0//EN
CALSCALE:GREGORIAN
METHOD:PUBLISH
X-WR-CALNAME:Jakobsweg.de
X-ORIGINAL-URL:https://www.jakobsweg.de
X-WR-CALDESC:Veranstaltungen für Jakobsweg.de
REFRESH-INTERVAL;VALUE=DURATION:PT1H
X-Robots-Tag:noindex
X-PUBLISHED-TTL:PT1H
BEGIN:VTIMEZONE
TZID:Europe/Berlin
BEGIN:DAYLIGHT
TZOFFSETFROM:+0100
TZOFFSETTO:+0200
TZNAME:CEST
DTSTART:20230326T010000
END:DAYLIGHT
BEGIN:STANDARD
TZOFFSETFROM:+0200
TZOFFSETTO:+0100
TZNAME:CET
DTSTART:20231029T010000
END:STANDARD
BEGIN:DAYLIGHT
TZOFFSETFROM:+0100
TZOFFSETTO:+0200
TZNAME:CEST
DTSTART:20240331T010000
END:DAYLIGHT
BEGIN:STANDARD
TZOFFSETFROM:+0200
TZOFFSETTO:+0100
TZNAME:CET
DTSTART:20241027T010000
END:STANDARD
BEGIN:DAYLIGHT
TZOFFSETFROM:+0100
TZOFFSETTO:+0200
TZNAME:CEST
DTSTART:20250330T010000
END:DAYLIGHT
BEGIN:STANDARD
TZOFFSETFROM:+0200
TZOFFSETTO:+0100
TZNAME:CET
DTSTART:20251026T010000
END:STANDARD
END:VTIMEZONE
BEGIN:VEVENT
DTSTART;TZID=Europe/Berlin:20241011T183000
DTEND;TZID=Europe/Berlin:20241011T203000
DTSTAMP:20260422T124013
CREATED:20241001T113108Z
LAST-MODIFIED:20241001T113228Z
UID:10000001-1728671400-1728678600@www.jakobsweg.de
SUMMARY:Pilgertreffen Berlin
DESCRIPTION:Pilgertreff der St. Jakobus-Gesellschaft Berlin-Brandenburg-Oderregion\nThema: Was ist die perfekte Jahreszeit fürs Pilgern? Und mit welchen Hilfsmitteln (Bücher\, Apps etc.) findet man Unterkünfte? \nUnsere Schatzmeisterin Bettina Strehlau und unser Präsidiumsmitglied Jörg Steinert berichten von ihren Erfahrungen der vergangenen 12 Monate. Was sind die Vorzüge des Pilgerns im Winter? Und warum ist Pilgern im Frühjahr so beliebt? Welche Herausforderungen erwarten uns im Sommer? Und welcher Weg ist wann genau der „Richtige“ für uns? \nMit Blick auf den bevorstehenden goldenen Pilger-Herbst wollen wir uns mit Euch über Eure Erfahrungen und Erwartungen austauschen. \nWir treffen uns am Freitag-Abend\, 11. Oktober 2024\, im Pilgerzentrum St. Jakobi Berlin\, Oranienstraße 132\, 10969 Berlin-Kreuzberg (mit ÖPNV gut erreichbar: U-Bhf. Moritzplatz (U8)\, U-Bhf. Prinzenstraße (U1/U3) oder M29 Alexandrinenstraße/Oranienstraße). Beginn: 19:15 h (Einlass ab 18.30 h\, Aufbau\, hierfür werden helfende Hände gebraucht). \nEs gibt wie immer ein Pilgerbuffet (Brot\, Käste\, Salate und Wein)\, zu dem alle Gäste bitte etwas beisteuern. Zum Ende des Abends wird um Hilfe beim Spülen und Aufräumen gebeten. \nDer Eintritt ist frei. Vor Ort wird um eine Spende für die gastgebende Ev. Kirchengemeinde Kreuzberg gebeten. \nEine Anmeldung ist nicht erforderlich. \n\n	\n	\n		\n			\n				Das Pilgermagazin - 80 Seiten - gratis!\n				\n					\n				\n				Das Pilgermagazin beschreibt auf 80 Seiten alle wichtigen Jakobswege\, inklusive Karten. So viel Inhalt wie in einem richtigen Buch - von den Autoren der Reiseführer für euch geschrieben \n				Lade es dir jetzt gratis als PDF herunter. \n				\n					\n					\n				\n				\n					\n					\n				\n				\n					\n					\n				\n				\n				\n					\n					\n				    \n				\n				\n				Du erhältst gelegentliche News vom Jakobsweg. Kein Spam. Und natürlich stets mit einem Klick abbestellbar. Pilgerehrenwort!
URL:https://www.jakobsweg.de/termin/pilgertreffen-berlin/
LOCATION:Pilgerzentrum St. Jakobi Berlin\, Oranienstraße 132\, Berlin-Kreuzberg\, Berlin\, 10969\, Germany
CATEGORIES:Pilgertreffen
ORGANIZER;CN="St. Jakobus-Gesellschaft Berlin-Brandenburg-Oderregion e.V.":MAILTO:strehlau@brandenburger-jakobswege.de
END:VEVENT
END:VCALENDAR