BEGIN:VCALENDAR
VERSION:2.0
PRODID:-//Jakobsweg.de - ECPv6.15.17.1//NONSGML v1.0//EN
CALSCALE:GREGORIAN
METHOD:PUBLISH
X-WR-CALNAME:Jakobsweg.de
X-ORIGINAL-URL:https://www.jakobsweg.de
X-WR-CALDESC:Veranstaltungen für Jakobsweg.de
REFRESH-INTERVAL;VALUE=DURATION:PT1H
X-Robots-Tag:noindex
X-PUBLISHED-TTL:PT1H
BEGIN:VTIMEZONE
TZID:Europe/Berlin
BEGIN:DAYLIGHT
TZOFFSETFROM:+0100
TZOFFSETTO:+0200
TZNAME:CEST
DTSTART:20250330T010000
END:DAYLIGHT
BEGIN:STANDARD
TZOFFSETFROM:+0200
TZOFFSETTO:+0100
TZNAME:CET
DTSTART:20251026T010000
END:STANDARD
BEGIN:DAYLIGHT
TZOFFSETFROM:+0100
TZOFFSETTO:+0200
TZNAME:CEST
DTSTART:20260329T010000
END:DAYLIGHT
BEGIN:STANDARD
TZOFFSETFROM:+0200
TZOFFSETTO:+0100
TZNAME:CET
DTSTART:20261025T010000
END:STANDARD
BEGIN:DAYLIGHT
TZOFFSETFROM:+0100
TZOFFSETTO:+0200
TZNAME:CEST
DTSTART:20270328T010000
END:DAYLIGHT
BEGIN:STANDARD
TZOFFSETFROM:+0200
TZOFFSETTO:+0100
TZNAME:CET
DTSTART:20271031T010000
END:STANDARD
END:VTIMEZONE
BEGIN:VEVENT
DTSTART;TZID=Europe/Berlin:20260328T150000
DTEND;TZID=Europe/Berlin:20260328T163000
DTSTAMP:20260420T172232
CREATED:20260303T122030Z
LAST-MODIFIED:20260325T092234Z
UID:10001598-1774710000-1774715400@www.jakobsweg.de
SUMMARY:Pilgern durch den Schlossgarten Eutin
DESCRIPTION:Samstag 28.3.2026\, 15 Uhr bis ca. 16.30 Uhr\nTreffpunkt: Garten am frischen Wasser\, Schlossstraße 13\, 23701 Eutin\nEingang an der Seepromenade (Stadtbucht) \n\n	\n	\n		\n			\n				Das Pilgermagazin - 80 Seiten - gratis!\n				\n					\n				\n				Das Pilgermagazin beschreibt auf 80 Seiten alle wichtigen Jakobswege\, inklusive Karten. So viel Inhalt wie in einem richtigen Buch - von den Autoren der Reiseführer für euch geschrieben \n				Lade es dir jetzt gratis als PDF herunter. \n				\n					\n					\n				\n				\n					\n					\n				\n				\n					\n					\n				\n				\n				\n					\n					\n				    \n				\n				\n				Du erhältst gelegentliche News vom Jakobsweg. Kein Spam. Und natürlich stets mit einem Klick abbestellbar. Pilgerehrenwort!
URL:https://www.jakobsweg.de/termin/pilgern-durch-den-schlossgarten-eutin/
LOCATION:Schlosspark Eutin @ Schlossstraße 13\, 23701 Eutin
CATEGORIES:Deutschland,Ort,Schleswig-Holstein,Tagestour,Veranstaltungsart
END:VEVENT
END:VCALENDAR