BEGIN:VCALENDAR
VERSION:2.0
PRODID:-//Jakobsweg.de - ECPv6.15.17.1//NONSGML v1.0//EN
CALSCALE:GREGORIAN
METHOD:PUBLISH
X-WR-CALNAME:Jakobsweg.de
X-ORIGINAL-URL:https://www.jakobsweg.de
X-WR-CALDESC:Veranstaltungen für Jakobsweg.de
REFRESH-INTERVAL;VALUE=DURATION:PT1H
X-Robots-Tag:noindex
X-PUBLISHED-TTL:PT1H
BEGIN:VTIMEZONE
TZID:Europe/Berlin
BEGIN:DAYLIGHT
TZOFFSETFROM:+0100
TZOFFSETTO:+0200
TZNAME:CEST
DTSTART:20250330T010000
END:DAYLIGHT
BEGIN:STANDARD
TZOFFSETFROM:+0200
TZOFFSETTO:+0100
TZNAME:CET
DTSTART:20251026T010000
END:STANDARD
BEGIN:DAYLIGHT
TZOFFSETFROM:+0100
TZOFFSETTO:+0200
TZNAME:CEST
DTSTART:20260329T010000
END:DAYLIGHT
BEGIN:STANDARD
TZOFFSETFROM:+0200
TZOFFSETTO:+0100
TZNAME:CET
DTSTART:20261025T010000
END:STANDARD
BEGIN:DAYLIGHT
TZOFFSETFROM:+0100
TZOFFSETTO:+0200
TZNAME:CEST
DTSTART:20270328T010000
END:DAYLIGHT
BEGIN:STANDARD
TZOFFSETFROM:+0200
TZOFFSETTO:+0100
TZNAME:CET
DTSTART:20271031T010000
END:STANDARD
END:VTIMEZONE
BEGIN:VEVENT
DTSTART;TZID=Europe/Berlin:20260425T150000
DTEND;TZID=Europe/Berlin:20260425T163000
DTSTAMP:20260420T153720
CREATED:20260303T122042Z
LAST-MODIFIED:20260325T092243Z
UID:10001601-1777129200-1777134600@www.jakobsweg.de
SUMMARY:Pilgern durch den Schlossgarten Eutin
DESCRIPTION:Samstag 28.3.2026\, 15 Uhr bis ca. 16.30 Uhr\nTreffpunkt: Garten am frischen Wasser\, Schlossstraße 13\, 23701 Eutin\nEingang an der Seepromenade (Stadtbucht) \n\n	\n	\n		\n			\n				Das Pilgermagazin - 80 Seiten - gratis!\n				\n					\n				\n				Das Pilgermagazin beschreibt auf 80 Seiten alle wichtigen Jakobswege\, inklusive Karten. So viel Inhalt wie in einem richtigen Buch - von den Autoren der Reiseführer für euch geschrieben \n				Lade es dir jetzt gratis als PDF herunter. \n				\n					\n					\n				\n				\n					\n					\n				\n				\n					\n					\n				\n				\n				\n					\n					\n				    \n				\n				\n				Du erhältst gelegentliche News vom Jakobsweg. Kein Spam. Und natürlich stets mit einem Klick abbestellbar. Pilgerehrenwort!
URL:https://www.jakobsweg.de/termin/pilgern-durch-den-schlossgarten-eutin-2/
LOCATION:Schlosspark Eutin @ Schlossstraße 13\, 23701 Eutin
CATEGORIES:Deutschland,Ort,Schleswig-Holstein,Tagestour,Veranstaltungsart
END:VEVENT
BEGIN:VEVENT
DTSTART;TZID=Europe/Berlin:20260530T150000
DTEND;TZID=Europe/Berlin:20260530T163000
DTSTAMP:20260420T153720
CREATED:20260303T122105Z
LAST-MODIFIED:20260325T092256Z
UID:10001603-1780153200-1780158600@www.jakobsweg.de
SUMMARY:Pilgern durch den Schlossgarten Eutin
DESCRIPTION:Samstag 28.3.2026\, 15 Uhr bis ca. 16.30 Uhr\nTreffpunkt: Garten am frischen Wasser\, Schlossstraße 13\, 23701 Eutin\nEingang an der Seepromenade (Stadtbucht) \n\n	\n	\n		\n			\n				Das Pilgermagazin - 80 Seiten - gratis!\n				\n					\n				\n				Das Pilgermagazin beschreibt auf 80 Seiten alle wichtigen Jakobswege\, inklusive Karten. So viel Inhalt wie in einem richtigen Buch - von den Autoren der Reiseführer für euch geschrieben \n				Lade es dir jetzt gratis als PDF herunter. \n				\n					\n					\n				\n				\n					\n					\n				\n				\n					\n					\n				\n				\n				\n					\n					\n				    \n				\n				\n				Du erhältst gelegentliche News vom Jakobsweg. Kein Spam. Und natürlich stets mit einem Klick abbestellbar. Pilgerehrenwort!
URL:https://www.jakobsweg.de/termin/pilgern-durch-den-schlossgarten-eutin-3/
LOCATION:Schlosspark Eutin @ Schlossstraße 13\, 23701 Eutin
CATEGORIES:Deutschland,Ort,Schleswig-Holstein,Tagestour,Veranstaltungsart
END:VEVENT
BEGIN:VEVENT
DTSTART;TZID=Europe/Berlin:20260627T150000
DTEND;TZID=Europe/Berlin:20260627T163000
DTSTAMP:20260420T153720
CREATED:20260303T122118Z
LAST-MODIFIED:20260325T092303Z
UID:10001606-1782572400-1782577800@www.jakobsweg.de
SUMMARY:Pilgern durch den Schlossgarten Eutin
DESCRIPTION:Samstag 28.3.2026\, 15 Uhr bis ca. 16.30 Uhr\nTreffpunkt: Garten am frischen Wasser\, Schlossstraße 13\, 23701 Eutin\nEingang an der Seepromenade (Stadtbucht) \n\n	\n	\n		\n			\n				Das Pilgermagazin - 80 Seiten - gratis!\n				\n					\n				\n				Das Pilgermagazin beschreibt auf 80 Seiten alle wichtigen Jakobswege\, inklusive Karten. So viel Inhalt wie in einem richtigen Buch - von den Autoren der Reiseführer für euch geschrieben \n				Lade es dir jetzt gratis als PDF herunter. \n				\n					\n					\n				\n				\n					\n					\n				\n				\n					\n					\n				\n				\n				\n					\n					\n				    \n				\n				\n				Du erhältst gelegentliche News vom Jakobsweg. Kein Spam. Und natürlich stets mit einem Klick abbestellbar. Pilgerehrenwort!
URL:https://www.jakobsweg.de/termin/pilgern-durch-den-schlossgarten-eutin-4/
LOCATION:Schlosspark Eutin @ Schlossstraße 13\, 23701 Eutin
CATEGORIES:Deutschland,Ort,Schleswig-Holstein,Tagestour,Veranstaltungsart
END:VEVENT
BEGIN:VEVENT
DTSTART;TZID=Europe/Berlin:20260725T150000
DTEND;TZID=Europe/Berlin:20260725T163000
DTSTAMP:20260420T153720
CREATED:20260303T122119Z
LAST-MODIFIED:20260325T092308Z
UID:10001608-1784991600-1784997000@www.jakobsweg.de
SUMMARY:Pilgern durch den Schlossgarten Eutin
DESCRIPTION:Samstag 28.3.2026\, 15 Uhr bis ca. 16.30 Uhr\nTreffpunkt: Garten am frischen Wasser\, Schlossstraße 13\, 23701 Eutin\nEingang an der Seepromenade (Stadtbucht) \n\n	\n	\n		\n			\n				Das Pilgermagazin - 80 Seiten - gratis!\n				\n					\n				\n				Das Pilgermagazin beschreibt auf 80 Seiten alle wichtigen Jakobswege\, inklusive Karten. So viel Inhalt wie in einem richtigen Buch - von den Autoren der Reiseführer für euch geschrieben \n				Lade es dir jetzt gratis als PDF herunter. \n				\n					\n					\n				\n				\n					\n					\n				\n				\n					\n					\n				\n				\n				\n					\n					\n				    \n				\n				\n				Du erhältst gelegentliche News vom Jakobsweg. Kein Spam. Und natürlich stets mit einem Klick abbestellbar. Pilgerehrenwort!
URL:https://www.jakobsweg.de/termin/pilgern-durch-den-schlossgarten-eutin-5/
LOCATION:Schlosspark Eutin @ Schlossstraße 13\, 23701 Eutin
CATEGORIES:Deutschland,Ort,Schleswig-Holstein,Tagestour,Veranstaltungsart
END:VEVENT
BEGIN:VEVENT
DTSTART;TZID=Europe/Berlin:20260829T150000
DTEND;TZID=Europe/Berlin:20260829T163000
DTSTAMP:20260420T153720
CREATED:20260303T122131Z
LAST-MODIFIED:20260325T092312Z
UID:10001610-1788015600-1788021000@www.jakobsweg.de
SUMMARY:Pilgern durch den Schlossgarten Eutin
DESCRIPTION:Samstag 28.3.2026\, 15 Uhr bis ca. 16.30 Uhr\nTreffpunkt: Garten am frischen Wasser\, Schlossstraße 13\, 23701 Eutin\nEingang an der Seepromenade (Stadtbucht) \n\n	\n	\n		\n			\n				Das Pilgermagazin - 80 Seiten - gratis!\n				\n					\n				\n				Das Pilgermagazin beschreibt auf 80 Seiten alle wichtigen Jakobswege\, inklusive Karten. So viel Inhalt wie in einem richtigen Buch - von den Autoren der Reiseführer für euch geschrieben \n				Lade es dir jetzt gratis als PDF herunter. \n				\n					\n					\n				\n				\n					\n					\n				\n				\n					\n					\n				\n				\n				\n					\n					\n				    \n				\n				\n				Du erhältst gelegentliche News vom Jakobsweg. Kein Spam. Und natürlich stets mit einem Klick abbestellbar. Pilgerehrenwort!
URL:https://www.jakobsweg.de/termin/pilgern-durch-den-schlossgarten-eutin-6/
LOCATION:Schlosspark Eutin @ Schlossstraße 13\, 23701 Eutin
CATEGORIES:Deutschland,Ort,Schleswig-Holstein,Tagestour,Veranstaltungsart
END:VEVENT
BEGIN:VEVENT
DTSTART;TZID=Europe/Berlin:20260926T150000
DTEND;TZID=Europe/Berlin:20260926T163000
DTSTAMP:20260420T153720
CREATED:20260303T122143Z
LAST-MODIFIED:20260325T092320Z
UID:10001612-1790434800-1790440200@www.jakobsweg.de
SUMMARY:Pilgern durch den Schlossgarten Eutin
DESCRIPTION:Samstag 28.3.2026\, 15 Uhr bis ca. 16.30 Uhr\nTreffpunkt: Garten am frischen Wasser\, Schlossstraße 13\, 23701 Eutin\nEingang an der Seepromenade (Stadtbucht) \n\n	\n	\n		\n			\n				Das Pilgermagazin - 80 Seiten - gratis!\n				\n					\n				\n				Das Pilgermagazin beschreibt auf 80 Seiten alle wichtigen Jakobswege\, inklusive Karten. So viel Inhalt wie in einem richtigen Buch - von den Autoren der Reiseführer für euch geschrieben \n				Lade es dir jetzt gratis als PDF herunter. \n				\n					\n					\n				\n				\n					\n					\n				\n				\n					\n					\n				\n				\n				\n					\n					\n				    \n				\n				\n				Du erhältst gelegentliche News vom Jakobsweg. Kein Spam. Und natürlich stets mit einem Klick abbestellbar. Pilgerehrenwort!
URL:https://www.jakobsweg.de/termin/pilgern-durch-den-schlossgarten-eutin-7/
LOCATION:Schlosspark Eutin @ Schlossstraße 13\, 23701 Eutin
CATEGORIES:Deutschland,Ort,Schleswig-Holstein,Tagestour,Veranstaltungsart
END:VEVENT
BEGIN:VEVENT
DTSTART;TZID=Europe/Berlin:20261031T150000
DTEND;TZID=Europe/Berlin:20261031T163000
DTSTAMP:20260420T153720
CREATED:20260303T122154Z
LAST-MODIFIED:20260325T092324Z
UID:10001615-1793458800-1793464200@www.jakobsweg.de
SUMMARY:Pilgern durch den Schlossgarten Eutin
DESCRIPTION:Samstag 28.3.2026\, 15 Uhr bis ca. 16.30 Uhr\nTreffpunkt: Garten am frischen Wasser\, Schlossstraße 13\, 23701 Eutin\nEingang an der Seepromenade (Stadtbucht) \n\n	\n	\n		\n			\n				Das Pilgermagazin - 80 Seiten - gratis!\n				\n					\n				\n				Das Pilgermagazin beschreibt auf 80 Seiten alle wichtigen Jakobswege\, inklusive Karten. So viel Inhalt wie in einem richtigen Buch - von den Autoren der Reiseführer für euch geschrieben \n				Lade es dir jetzt gratis als PDF herunter. \n				\n					\n					\n				\n				\n					\n					\n				\n				\n					\n					\n				\n				\n				\n					\n					\n				    \n				\n				\n				Du erhältst gelegentliche News vom Jakobsweg. Kein Spam. Und natürlich stets mit einem Klick abbestellbar. Pilgerehrenwort!
URL:https://www.jakobsweg.de/termin/pilgern-durch-den-schlossgarten-eutin-8/
LOCATION:Schlosspark Eutin @ Schlossstraße 13\, 23701 Eutin
CATEGORIES:Deutschland,Ort,Schleswig-Holstein,Tagestour,Veranstaltungsart
END:VEVENT
BEGIN:VEVENT
DTSTART;TZID=Europe/Berlin:20261128T150000
DTEND;TZID=Europe/Berlin:20261128T163000
DTSTAMP:20260420T153720
CREATED:20260303T122155Z
LAST-MODIFIED:20260325T092328Z
UID:10001616-1795878000-1795883400@www.jakobsweg.de
SUMMARY:Pilgern durch den Schlossgarten Eutin
DESCRIPTION:Samstag 28.3.2026\, 15 Uhr bis ca. 16.30 Uhr\nTreffpunkt: Garten am frischen Wasser\, Schlossstraße 13\, 23701 Eutin\nEingang an der Seepromenade (Stadtbucht) \n\n	\n	\n		\n			\n				Das Pilgermagazin - 80 Seiten - gratis!\n				\n					\n				\n				Das Pilgermagazin beschreibt auf 80 Seiten alle wichtigen Jakobswege\, inklusive Karten. So viel Inhalt wie in einem richtigen Buch - von den Autoren der Reiseführer für euch geschrieben \n				Lade es dir jetzt gratis als PDF herunter. \n				\n					\n					\n				\n				\n					\n					\n				\n				\n					\n					\n				\n				\n				\n					\n					\n				    \n				\n				\n				Du erhältst gelegentliche News vom Jakobsweg. Kein Spam. Und natürlich stets mit einem Klick abbestellbar. Pilgerehrenwort!
URL:https://www.jakobsweg.de/termin/pilgern-durch-den-schlossgarten-eutin-9/
LOCATION:Schlosspark Eutin @ Schlossstraße 13\, 23701 Eutin
CATEGORIES:Deutschland,Ort,Schleswig-Holstein,Tagestour,Veranstaltungsart
END:VEVENT
BEGIN:VEVENT
DTSTART;TZID=Europe/Berlin:20261226T150000
DTEND;TZID=Europe/Berlin:20261226T163000
DTSTAMP:20260420T153720
CREATED:20260303T122155Z
LAST-MODIFIED:20260325T092329Z
UID:10001617-1798297200-1798302600@www.jakobsweg.de
SUMMARY:Pilgern durch den Schlossgarten Eutin
DESCRIPTION:Samstag 28.3.2026\, 15 Uhr bis ca. 16.30 Uhr\nTreffpunkt: Garten am frischen Wasser\, Schlossstraße 13\, 23701 Eutin\nEingang an der Seepromenade (Stadtbucht) \n\n	\n	\n		\n			\n				Das Pilgermagazin - 80 Seiten - gratis!\n				\n					\n				\n				Das Pilgermagazin beschreibt auf 80 Seiten alle wichtigen Jakobswege\, inklusive Karten. So viel Inhalt wie in einem richtigen Buch - von den Autoren der Reiseführer für euch geschrieben \n				Lade es dir jetzt gratis als PDF herunter. \n				\n					\n					\n				\n				\n					\n					\n				\n				\n					\n					\n				\n				\n				\n					\n					\n				    \n				\n				\n				Du erhältst gelegentliche News vom Jakobsweg. Kein Spam. Und natürlich stets mit einem Klick abbestellbar. Pilgerehrenwort!
URL:https://www.jakobsweg.de/termin/pilgern-durch-den-schlossgarten-eutin-10/
LOCATION:Schlosspark Eutin @ Schlossstraße 13\, 23701 Eutin
CATEGORIES:Deutschland,Ort,Schleswig-Holstein,Tagestour,Veranstaltungsart
END:VEVENT
END:VCALENDAR