BEGIN:VCALENDAR
VERSION:2.0
PRODID:-//Jakobsweg.de - ECPv6.15.17.1//NONSGML v1.0//EN
CALSCALE:GREGORIAN
METHOD:PUBLISH
X-ORIGINAL-URL:https://www.jakobsweg.de
X-WR-CALDESC:Veranstaltungen für Jakobsweg.de
REFRESH-INTERVAL;VALUE=DURATION:PT1H
X-Robots-Tag:noindex
X-PUBLISHED-TTL:PT1H
BEGIN:VTIMEZONE
TZID:Europe/Berlin
BEGIN:DAYLIGHT
TZOFFSETFROM:+0100
TZOFFSETTO:+0200
TZNAME:CEST
DTSTART:20240331T010000
END:DAYLIGHT
BEGIN:STANDARD
TZOFFSETFROM:+0200
TZOFFSETTO:+0100
TZNAME:CET
DTSTART:20241027T010000
END:STANDARD
BEGIN:DAYLIGHT
TZOFFSETFROM:+0100
TZOFFSETTO:+0200
TZNAME:CEST
DTSTART:20250330T010000
END:DAYLIGHT
BEGIN:STANDARD
TZOFFSETFROM:+0200
TZOFFSETTO:+0100
TZNAME:CET
DTSTART:20251026T010000
END:STANDARD
BEGIN:DAYLIGHT
TZOFFSETFROM:+0100
TZOFFSETTO:+0200
TZNAME:CEST
DTSTART:20260329T010000
END:DAYLIGHT
BEGIN:STANDARD
TZOFFSETFROM:+0200
TZOFFSETTO:+0100
TZNAME:CET
DTSTART:20261025T010000
END:STANDARD
END:VTIMEZONE
BEGIN:VEVENT
DTSTART;TZID=Europe/Berlin:20251021T165500
DTEND;TZID=Europe/Berlin:20251021T210000
DTSTAMP:20260421T114521
CREATED:20250507T102945Z
LAST-MODIFIED:20251021T175014Z
UID:10000947-1761065700-1761080400@www.jakobsweg.de
SUMMARY:Pilgerweg in Husum
DESCRIPTION:Der Tine-Weg\nMit­zu­brin­gen: Wet­ter­fes­te Klei­dung\, Fes­tes Schuh­werk\, ev. Son­nen­schutz\, Sitz­un­ter­la­ge\, klei­nen Snack für unter­wegs\, aus­rei­chend Was­ser / ande­res Getränk\nTeil­neh­mer­zahl: 15 (spon­ta­ne Teil­nah­me mög­lich\, dann bit­te vor­her anru­fen\, ob noch ein Platz frei ist)\nNor­ma­le Grund­kon­di­ti­on wird vor­aus­ge­setzt: Geh­stre­cke ca. 9 km\, lei­der nicht bar­rie­re­frei\, Pil­ger­er­fah­rung nicht erforderlich.\nThe­ma des Weges: Die Aus­ein­an­der­set­zung mit\n– den eige­nen Rollen\n— dem per­sön­li­chen Sicherheitsbedürfnis\n— der Fra­ge nach Hil­fen in per­sön­li­chen Krisen\n— dem per­sön­li­chen Freiheitsbedürfnis\nBei sons­ti­gen Fra­gen steht Rena­ta Con­rad ger­ne zur Verfügung.\nWir freu­en uns sehr auf Ihre/Eure Teilnahme!\nAnmel­dung: bit­te bis zum Vor­tag bei Rena­te Con­rad | 0173 4623041 | conny2conradus@aol.com\nDie Teil­nah­me ist kos­ten­los\, eine Spen­de wird erbeten\n  \n\n	\n	\n		\n			\n				Das Pilgermagazin - 80 Seiten - gratis!\n				\n					\n				\n				Das Pilgermagazin beschreibt auf 80 Seiten alle wichtigen Jakobswege\, inklusive Karten. So viel Inhalt wie in einem richtigen Buch - von den Autoren der Reiseführer für euch geschrieben \n				Lade es dir jetzt gratis als PDF herunter. \n				\n					\n					\n				\n				\n					\n					\n				\n				\n					\n					\n				\n				\n				\n					\n					\n				    \n				\n				\n				Du erhältst gelegentliche News vom Jakobsweg. Kein Spam. Und natürlich stets mit einem Klick abbestellbar. Pilgerehrenwort!
URL:https://www.jakobsweg.de/termin/pilgerweg-in-husum-5/
LOCATION:Seiten- (nord-) Portal von St. Marien @ Am Markt\, Husum
CATEGORIES:Deutschland,Ort,Schleswig-Holstein,Tagestour,Veranstaltungsart
END:VEVENT
BEGIN:VEVENT
DTSTART;TZID=Europe/Berlin:20250923T165500
DTEND;TZID=Europe/Berlin:20250923T210000
DTSTAMP:20260421T114521
CREATED:20250507T102938Z
LAST-MODIFIED:20250923T110512Z
UID:10000945-1758646500-1758661200@www.jakobsweg.de
SUMMARY:Pilgerweg in Husum
DESCRIPTION:Der Tine-Weg\nMit­zu­brin­gen: Wet­ter­fes­te Klei­dung\, Fes­tes Schuh­werk\, ev. Son­nen­schutz\, Sitz­un­ter­la­ge\, klei­nen Snack für unter­wegs\, aus­rei­chend Was­ser / ande­res Getränk\nTeil­neh­mer­zahl: 15 (spon­ta­ne Teil­nah­me mög­lich\, dann bit­te vor­her anru­fen\, ob noch ein Platz frei ist)\nNor­ma­le Grund­kon­di­ti­on wird vor­aus­ge­setzt: Geh­stre­cke ca. 9 km\, lei­der nicht bar­rie­re­frei\, Pil­ger­er­fah­rung nicht erforderlich.\nThe­ma des Weges: Die Aus­ein­an­der­set­zung mit\n– den eige­nen Rollen\n— dem per­sön­li­chen Sicherheitsbedürfnis\n— der Fra­ge nach Hil­fen in per­sön­li­chen Krisen\n— dem per­sön­li­chen Freiheitsbedürfnis\nBei sons­ti­gen Fra­gen steht Rena­ta Con­rad ger­ne zur Verfügung.\nWir freu­en uns sehr auf Ihre/Eure Teilnahme!\nAnmel­dung: bit­te bis zum Vor­tag bei Rena­te Con­rad | 0173 4623041 | conny2conradus@aol.com\nDie Teil­nah­me ist kos­ten­los\, eine Spen­de wird erbeten\n  \n\n	\n	\n		\n			\n				Das Pilgermagazin - 80 Seiten - gratis!\n				\n					\n				\n				Das Pilgermagazin beschreibt auf 80 Seiten alle wichtigen Jakobswege\, inklusive Karten. So viel Inhalt wie in einem richtigen Buch - von den Autoren der Reiseführer für euch geschrieben \n				Lade es dir jetzt gratis als PDF herunter. \n				\n					\n					\n				\n				\n					\n					\n				\n				\n					\n					\n				\n				\n				\n					\n					\n				    \n				\n				\n				Du erhältst gelegentliche News vom Jakobsweg. Kein Spam. Und natürlich stets mit einem Klick abbestellbar. Pilgerehrenwort!
URL:https://www.jakobsweg.de/termin/pilgerweg-in-husum-4/
LOCATION:Seiten- (nord-) Portal von St. Marien @ Am Markt\, Husum
CATEGORIES:Deutschland,Ort,Schleswig-Holstein,Tagestour,Veranstaltungsart
END:VEVENT
BEGIN:VEVENT
DTSTART;TZID=Europe/Berlin:20250826T165500
DTEND;TZID=Europe/Berlin:20250826T210000
DTSTAMP:20260421T114521
CREATED:20250507T102927Z
LAST-MODIFIED:20250825T200514Z
UID:10000943-1756227300-1756242000@www.jakobsweg.de
SUMMARY:Pilgerweg in Husum
DESCRIPTION:Der Tine-Weg\nMit­zu­brin­gen: Wet­ter­fes­te Klei­dung\, Fes­tes Schuh­werk\, ev. Son­nen­schutz\, Sitz­un­ter­la­ge\, klei­nen Snack für unter­wegs\, aus­rei­chend Was­ser / ande­res Getränk\nTeil­neh­mer­zahl: 15 (spon­ta­ne Teil­nah­me mög­lich\, dann bit­te vor­her anru­fen\, ob noch ein Platz frei ist)\nNor­ma­le Grund­kon­di­ti­on wird vor­aus­ge­setzt: Geh­stre­cke ca. 9 km\, lei­der nicht bar­rie­re­frei\, Pil­ger­er­fah­rung nicht erforderlich.\nThe­ma des Weges: Die Aus­ein­an­der­set­zung mit\n– den eige­nen Rollen\n— dem per­sön­li­chen Sicherheitsbedürfnis\n— der Fra­ge nach Hil­fen in per­sön­li­chen Krisen\n— dem per­sön­li­chen Freiheitsbedürfnis\nBei sons­ti­gen Fra­gen steht Rena­ta Con­rad ger­ne zur Verfügung.\nWir freu­en uns sehr auf Ihre/Eure Teilnahme!\nAnmel­dung: bit­te bis zum Vor­tag bei Rena­te Con­rad | 0173 4623041 | conny2conradus@aol.com\nDie Teil­nah­me ist kos­ten­los\, eine Spen­de wird erbeten\n  \n\n	\n	\n		\n			\n				Das Pilgermagazin - 80 Seiten - gratis!\n				\n					\n				\n				Das Pilgermagazin beschreibt auf 80 Seiten alle wichtigen Jakobswege\, inklusive Karten. So viel Inhalt wie in einem richtigen Buch - von den Autoren der Reiseführer für euch geschrieben \n				Lade es dir jetzt gratis als PDF herunter. \n				\n					\n					\n				\n				\n					\n					\n				\n				\n					\n					\n				\n				\n				\n					\n					\n				    \n				\n				\n				Du erhältst gelegentliche News vom Jakobsweg. Kein Spam. Und natürlich stets mit einem Klick abbestellbar. Pilgerehrenwort!
URL:https://www.jakobsweg.de/termin/pilgerweg-in-husum-3/
LOCATION:Seiten- (nord-) Portal von St. Marien @ Am Markt\, Husum
CATEGORIES:Deutschland,Ort,Schleswig-Holstein,Tagestour,Veranstaltungsart
END:VEVENT
BEGIN:VEVENT
DTSTART;TZID=Europe/Berlin:20250722T165500
DTEND;TZID=Europe/Berlin:20250722T210000
DTSTAMP:20260421T114521
CREATED:20250507T102914Z
LAST-MODIFIED:20250722T010515Z
UID:10000942-1753203300-1753218000@www.jakobsweg.de
SUMMARY:Pilgerweg in Husum
DESCRIPTION:Der Tine-Weg\nMit­zu­brin­gen: Wet­ter­fes­te Klei­dung\, Fes­tes Schuh­werk\, ev. Son­nen­schutz\, Sitz­un­ter­la­ge\, klei­nen Snack für unter­wegs\, aus­rei­chend Was­ser / ande­res Getränk\nTeil­neh­mer­zahl: 15 (spon­ta­ne Teil­nah­me mög­lich\, dann bit­te vor­her anru­fen\, ob noch ein Platz frei ist)\nNor­ma­le Grund­kon­di­ti­on wird vor­aus­ge­setzt: Geh­stre­cke ca. 9 km\, lei­der nicht bar­rie­re­frei\, Pil­ger­er­fah­rung nicht erforderlich.\nThe­ma des Weges: Die Aus­ein­an­der­set­zung mit\n– den eige­nen Rollen\n— dem per­sön­li­chen Sicherheitsbedürfnis\n— der Fra­ge nach Hil­fen in per­sön­li­chen Krisen\n— dem per­sön­li­chen Freiheitsbedürfnis\nBei sons­ti­gen Fra­gen steht Rena­ta Con­rad ger­ne zur Verfügung.\nWir freu­en uns sehr auf Ihre/Eure Teilnahme!\nAnmel­dung: bit­te bis zum Vor­tag bei Rena­te Con­rad | 0173 4623041 | conny2conradus@aol.com\nDie Teil­nah­me ist kos­ten­los\, eine Spen­de wird erbeten\n  \n\n	\n	\n		\n			\n				Das Pilgermagazin - 80 Seiten - gratis!\n				\n					\n				\n				Das Pilgermagazin beschreibt auf 80 Seiten alle wichtigen Jakobswege\, inklusive Karten. So viel Inhalt wie in einem richtigen Buch - von den Autoren der Reiseführer für euch geschrieben \n				Lade es dir jetzt gratis als PDF herunter. \n				\n					\n					\n				\n				\n					\n					\n				\n				\n					\n					\n				\n				\n				\n					\n					\n				    \n				\n				\n				Du erhältst gelegentliche News vom Jakobsweg. Kein Spam. Und natürlich stets mit einem Klick abbestellbar. Pilgerehrenwort!
URL:https://www.jakobsweg.de/termin/pilgerweg-in-husum-2/
LOCATION:Seiten- (nord-) Portal von St. Marien @ Am Markt\, Husum
CATEGORIES:Deutschland,Ort,Schleswig-Holstein,Tagestour,Veranstaltungsart
END:VEVENT
BEGIN:VEVENT
DTSTART;TZID=Europe/Berlin:20250624T165500
DTEND;TZID=Europe/Berlin:20250624T210000
DTSTAMP:20260421T114521
CREATED:20250507T102901Z
LAST-MODIFIED:20250623T225018Z
UID:10000941-1750784100-1750798800@www.jakobsweg.de
SUMMARY:Pilgerweg in Husum
DESCRIPTION:Der Tine-Weg\nMit­zu­brin­gen: Wet­ter­fes­te Klei­dung\, Fes­tes Schuh­werk\, ev. Son­nen­schutz\, Sitz­un­ter­la­ge\, klei­nen Snack für unter­wegs\, aus­rei­chend Was­ser / ande­res Getränk\nTeil­neh­mer­zahl: 15 (spon­ta­ne Teil­nah­me mög­lich\, dann bit­te vor­her anru­fen\, ob noch ein Platz frei ist)\nNor­ma­le Grund­kon­di­ti­on wird vor­aus­ge­setzt: Geh­stre­cke ca. 9 km\, lei­der nicht bar­rie­re­frei\, Pil­ger­er­fah­rung nicht erforderlich.\nThe­ma des Weges: Die Aus­ein­an­der­set­zung mit\n– den eige­nen Rollen\n— dem per­sön­li­chen Sicherheitsbedürfnis\n— der Fra­ge nach Hil­fen in per­sön­li­chen Krisen\n— dem per­sön­li­chen Freiheitsbedürfnis\nBei sons­ti­gen Fra­gen steht Rena­ta Con­rad ger­ne zur Verfügung.\nWir freu­en uns sehr auf Ihre/Eure Teilnahme!\nAnmel­dung: bit­te bis zum Vor­tag bei Rena­te Con­rad | 0173 4623041 | conny2conradus@aol.com\nDie Teil­nah­me ist kos­ten­los\, eine Spen­de wird erbeten\n  \n\n	\n	\n		\n			\n				Das Pilgermagazin - 80 Seiten - gratis!\n				\n					\n				\n				Das Pilgermagazin beschreibt auf 80 Seiten alle wichtigen Jakobswege\, inklusive Karten. So viel Inhalt wie in einem richtigen Buch - von den Autoren der Reiseführer für euch geschrieben \n				Lade es dir jetzt gratis als PDF herunter. \n				\n					\n					\n				\n				\n					\n					\n				\n				\n					\n					\n				\n				\n				\n					\n					\n				    \n				\n				\n				Du erhältst gelegentliche News vom Jakobsweg. Kein Spam. Und natürlich stets mit einem Klick abbestellbar. Pilgerehrenwort!
URL:https://www.jakobsweg.de/termin/pilgerweg-in-husum/
LOCATION:Seiten- (nord-) Portal von St. Marien @ Am Markt\, Husum
CATEGORIES:Deutschland,Ort,Schleswig-Holstein,Tagestour,Veranstaltungsart
END:VEVENT
END:VCALENDAR