BEGIN:VCALENDAR
VERSION:2.0
PRODID:-//Jakobsweg.de - ECPv6.15.17.1//NONSGML v1.0//EN
CALSCALE:GREGORIAN
METHOD:PUBLISH
X-WR-CALNAME:Jakobsweg.de
X-ORIGINAL-URL:https://www.jakobsweg.de
X-WR-CALDESC:Veranstaltungen für Jakobsweg.de
REFRESH-INTERVAL;VALUE=DURATION:PT1H
X-Robots-Tag:noindex
X-PUBLISHED-TTL:PT1H
BEGIN:VTIMEZONE
TZID:Europe/Berlin
BEGIN:DAYLIGHT
TZOFFSETFROM:+0100
TZOFFSETTO:+0200
TZNAME:CEST
DTSTART:20250330T010000
END:DAYLIGHT
BEGIN:STANDARD
TZOFFSETFROM:+0200
TZOFFSETTO:+0100
TZNAME:CET
DTSTART:20251026T010000
END:STANDARD
BEGIN:DAYLIGHT
TZOFFSETFROM:+0100
TZOFFSETTO:+0200
TZNAME:CEST
DTSTART:20260329T010000
END:DAYLIGHT
BEGIN:STANDARD
TZOFFSETFROM:+0200
TZOFFSETTO:+0100
TZNAME:CET
DTSTART:20261025T010000
END:STANDARD
BEGIN:DAYLIGHT
TZOFFSETFROM:+0100
TZOFFSETTO:+0200
TZNAME:CEST
DTSTART:20270328T010000
END:DAYLIGHT
BEGIN:STANDARD
TZOFFSETFROM:+0200
TZOFFSETTO:+0100
TZNAME:CET
DTSTART:20271031T010000
END:STANDARD
END:VTIMEZONE
BEGIN:VEVENT
DTSTART;TZID=Europe/Berlin:20260328T091500
DTEND;TZID=Europe/Berlin:20260328T091500
DTSTAMP:20260421T113421
CREATED:20260319T120815Z
LAST-MODIFIED:20260325T092231Z
UID:10001637-1774689300-1774689300@www.jakobsweg.de
SUMMARY:Pilgern für Frauen in der Umgebung von Lübeck
DESCRIPTION:Aufbrechen – Innehalten – Auf dem Weg SEIN\nVon Pansdorf nach Bad Schwartau\, ca. 11km   \nVon Pansdorf durch den Wald entlang der Bahn geht es nach Techau\, weiter vorbei am Medizinwald und Dorfmuseum Ratekau. Direkt am Ortseingang biegen wir ab zur Schwartau. Hoch über dem Fluss gelangen wir in den Schwartauer Kurpark und von dort zum Schwartauer Bahnhof und zurück nach Lübeck.\nGemeinsam in einer Gruppe von Frauen* folgen wir der alten Tradition des Pilgerns. Im Gehen\, im Schweigen\, im Austausch erleben wir Gottes wunderbare Schöpfung. Mit Impulsen laden wir ein\, in die eigene Kraft und den inneren Frieden zu kommen. Bei normaler Kondition sind die Strecken gut zu schaffen. Wir nutzen öffentliche Verkehrsmittel. Fahrtkosten trägt jede selbst. Kurzfristige Änderungen sind möglich.\nBitte mitbringen: Trinken und Essen für die Pausen\, Sitzunterlage\, feste Schuhe und angemessene Kleidung\, ggf. Regenzeug\nTreffen: 9:15 Uhr Hbf. Lübeck\,  Bahnhofsvorhalle\nWegbegleiterinnen: Karin Pichura\, Silke Meyer\, Regina du Maire\nAm Tag der Pilgertour sind die Wegbegleiterinnen für kurzfristige Absagen oder Rückfragen erreichbar unter Tel. 0179 153 60 14\nAnmeldung bis 25.03.2026 mit Nennung der Handynummer über E-Mail: frauenwerk-hl@kirche-ll.de oder Tel. 0451 79 02 260 (bitte angeben\, ob ein Deutschlandticket vorhanden ist)\nVeranstalterin: Ev.-Luth. Frauenwerk Lübeck-Lauenburg\, Breite Straße 17\, 23552 Lübeck \n\n	\n	\n		\n			\n				Das Pilgermagazin - 80 Seiten - gratis!\n				\n					\n				\n				Das Pilgermagazin beschreibt auf 80 Seiten alle wichtigen Jakobswege\, inklusive Karten. So viel Inhalt wie in einem richtigen Buch - von den Autoren der Reiseführer für euch geschrieben \n				Lade es dir jetzt gratis als PDF herunter. \n				\n					\n					\n				\n				\n					\n					\n				\n				\n					\n					\n				\n				\n				\n					\n					\n				    \n				\n				\n				Du erhältst gelegentliche News vom Jakobsweg. Kein Spam. Und natürlich stets mit einem Klick abbestellbar. Pilgerehrenwort!
URL:https://www.jakobsweg.de/termin/pilgern-fuer-frauen-in-der-umgebung-von-luebeck-10/
LOCATION:Von Pansdorf nach Bad Schwartau
CATEGORIES:Deutschland,Schleswig-Holstein,Tagestour
END:VEVENT
BEGIN:VEVENT
DTSTART;TZID=Europe/Berlin:20260328T091500
DTEND;TZID=Europe/Berlin:20260328T091500
DTSTAMP:20260421T113421
CREATED:20260319T120814Z
LAST-MODIFIED:20260325T092231Z
UID:10001636-1774689300-1774689300@www.jakobsweg.de
SUMMARY:Pilgern für Frauen in der Umgebung von Lübeck
DESCRIPTION:Aufbrechen – Innehalten – Auf dem Weg SEIN\nVon Pansdorf nach Bad Schwartau\, ca. 11km   \nVon Pansdorf durch den Wald entlang der Bahn geht es nach Techau\, weiter vorbei am Medizinwald und Dorfmuseum Ratekau. Direkt am Ortseingang biegen wir ab zur Schwartau. Hoch über dem Fluss gelangen wir in den Schwartauer Kurpark und von dort zum Schwartauer Bahnhof und zurück nach Lübeck.\nGemeinsam in einer Gruppe von Frauen* folgen wir der alten Tradition des Pilgerns. Im Gehen\, im Schweigen\, im Austausch erleben wir Gottes wunderbare Schöpfung. Mit Impulsen laden wir ein\, in die eigene Kraft und den inneren Frieden zu kommen. Bei normaler Kondition sind die Strecken gut zu schaffen. Wir nutzen öffentliche Verkehrsmittel. Fahrtkosten trägt jede selbst. Kurzfristige Änderungen sind möglich.\nBitte mitbringen: Trinken und Essen für die Pausen\, Sitzunterlage\, feste Schuhe und angemessene Kleidung\, ggf. Regenzeug\nTreffen: 9:15 Uhr Hbf. Lübeck\,  Bahnhofsvorhalle\nWegbegleiterinnen: Karin Pichura\, Silke Meyer\, Regina du Maire\nAm Tag der Pilgertour sind die Wegbegleiterinnen für kurzfristige Absagen oder Rückfragen erreichbar unter Tel. 0179 153 60 14\nAnmeldung bis 25.03.2026 mit Nennung der Handynummer über E-Mail: frauenwerk-hl@kirche-ll.de oder Tel. 0451 79 02 260 (bitte angeben\, ob ein Deutschlandticket vorhanden ist)\nVeranstalterin: Ev.-Luth. Frauenwerk Lübeck-Lauenburg\, Breite Straße 17\, 23552 Lübeck \n\n	\n	\n		\n			\n				Das Pilgermagazin - 80 Seiten - gratis!\n				\n					\n				\n				Das Pilgermagazin beschreibt auf 80 Seiten alle wichtigen Jakobswege\, inklusive Karten. So viel Inhalt wie in einem richtigen Buch - von den Autoren der Reiseführer für euch geschrieben \n				Lade es dir jetzt gratis als PDF herunter. \n				\n					\n					\n				\n				\n					\n					\n				\n				\n					\n					\n				\n				\n				\n					\n					\n				    \n				\n				\n				Du erhältst gelegentliche News vom Jakobsweg. Kein Spam. Und natürlich stets mit einem Klick abbestellbar. Pilgerehrenwort!
URL:https://www.jakobsweg.de/termin/pilgern-fuer-frauen-in-der-umgebung-von-luebeck-9/
LOCATION:Von Pansdorf nach Bad Schwartau
CATEGORIES:Deutschland,Schleswig-Holstein,Tagestour
END:VEVENT
BEGIN:VEVENT
DTSTART;TZID=Europe/Berlin:20260328T091500
DTEND;TZID=Europe/Berlin:20260328T091500
DTSTAMP:20260421T113421
CREATED:20260303T122030Z
LAST-MODIFIED:20260319T005037Z
UID:10001597-1774689300-1774689300@www.jakobsweg.de
SUMMARY:Pilgern für Frauen
DESCRIPTION:Aufbrechen – Innehalten – Auf dem Weg SEIN\nVon Pansdorf nach Bad Schwartau\, ca. 11km   \nVon Pansdorf durch den Wald entlang der Bahn geht es nach Techau\, weiter vorbei am Medizinwald und Dorfmuseum Ratekau. Direkt am Ortseingang biegen wir ab zur Schwartau. Hoch über dem Fluss gelangen wir in den Schwartauer Kurpark und von dort zum Schwartauer Bahnhof und zurück nach Lübeck.\nGemeinsam in einer Gruppe von Frauen* folgen wir der alten Tradition des Pilgerns. Im Gehen\, im Schweigen\, im Austausch erleben wir Gottes wunderbare Schöpfung. Mit Impulsen laden wir ein\, in die eigene Kraft und den inneren Frieden zu kommen. Bei normaler Kondition sind die Strecken gut zu schaffen. Wir nutzen öffentliche Verkehrsmittel. Fahrtkosten trägt jede selbst. Kurzfristige Änderungen sind möglich.\nBitte mitbringen: Trinken und Essen für die Pausen\, Sitzunterlage\, feste Schuhe und angemessene Kleidung\, ggf. Regenzeug\nTreffen: 9:15 Uhr Hbf. Lübeck\,  Bahnhofsvorhalle\nWegbegleiterinnen: Karin Pichura\, Silke Meyer\, Regina du Maire\nAnmeldung bis 25.03.2026 mit Nennung der Handynummer über\nE-Mail: frauenwerk-hL@kirche-LL.de oder Tel. 0451 79 02 260 (bitte angeben\, ob ein Deutschlandticket vorhanden ist)\nVeranstalterin: Ev.-Luth. Frauenwerk Lübeck-Lauenburg\, Breite Straße 17\, 23552 Lübeck \n\n	\n	\n		\n			\n				Das Pilgermagazin - 80 Seiten - gratis!\n				\n					\n				\n				Das Pilgermagazin beschreibt auf 80 Seiten alle wichtigen Jakobswege\, inklusive Karten. So viel Inhalt wie in einem richtigen Buch - von den Autoren der Reiseführer für euch geschrieben \n				Lade es dir jetzt gratis als PDF herunter. \n				\n					\n					\n				\n				\n					\n					\n				\n				\n					\n					\n				\n				\n				\n					\n					\n				    \n				\n				\n				Du erhältst gelegentliche News vom Jakobsweg. Kein Spam. Und natürlich stets mit einem Klick abbestellbar. Pilgerehrenwort!
URL:https://www.jakobsweg.de/termin/pilgern-fuer-frauen-in-der-umgebung-von-luebeck/
LOCATION:Von Pansdorf nach Bad Schwartau
CATEGORIES:Deutschland,Ort,Schleswig-Holstein,Deutschland,Schleswig-Holstein
END:VEVENT
END:VCALENDAR